Workbook
Name ____OK1: #REF!,#REF!
Name ____OK2: #REF!,#REF!
Name ____OK3: #REF!,#REF!
Name ___OK1: #REF!,#REF!
Name ___OK2: #REF!,#REF!
Name ___OK3: #REF!,#REF!
Name __DAT1: #REF!
Name __DAT2: #REF!
Name __DAT3: #REF!
Name __DAT4: #REF!
Name __DAT5: #REF!
Name __DAT6: #REF!
Name __DAT7: #REF!
Name __DAT8: #REF!
Name __FS1: #REF!
Name __OK1: #REF!,#REF!
Name __OK2: #REF!,#REF!
Name __OK3: #REF!,#REF!
Name __scr0504: #REF!
Name __scr0603: #REF!
Name __scr0604: #REF!
Name __scr0605: #REF!
Name __scr0705: #REF!
Name __scr0903: #REF!
Name __scr1102: #REF!
Name __scr1104: #REF!
Name __scr1105: #REF!
Name __scr1202: #REF!
Name __scr1203: #REF!
Name __scr1204: #REF!
Name __scr1205: #REF!
Name __sdt0504: #REF!
Name __sdt0603: #REF!
Name __sdt0604: #REF!
Name __sdt0605: #REF!
Name __sdt0705: #REF!
Name __sdt0903: #REF!
Name __sdt0904: #REF!
Name __sdt1102: #REF!
Name __sdt1104: #REF!
Name __sdt1105: #REF!
Name __sdt1202: #REF!
Name __sdt1203: #REF!
Name __sdt1204: #REF!
Name __sdt1205: #REF!
Name _DAT1: #REF!
Name _DAT2: #REF!
Name _DAT3: #REF!
Name _DAT4: #REF!
Name _DAT5: #REF!
Name _DAT6: #REF!
Name _DAT7: #REF!
Name _DAT8: #REF!
Name _FS1: #REF!
Name _kwi09: #REF!
Name _lut09: #REF!
Name _mar09: #REF!
Name _OK1: #REF!,#REF!
Name _OK2: #REF!,#REF!
Name _OK3: #REF!,#REF!

Sheet Bilans_s
A1: SKRÓCONE ŚRÓDROCZNE SKONSOLIDOWANE SPRAWOZDANIE FINANSOWE GRUPY KAPITAŁOWEJ AILLERON SA ZA IV KWARTAŁ 2024 ROKU ZAKOŃCZONY 31/12/2024
A2: SPORZĄDZONE WEDŁUG MIĘDZYNARODOWYCH STANDARDÓW SPRAWOZDAWCZOŚCI FINANSOWEJ (wszystkie kwoty wyrażone są w tysiącach złotych polskich o ile nie wskazano inaczej)
A3: 1. SKONSOLIDOWANE SPRAWOZDANIE Z SYTUACJI FINANSOWEJ
A4: AKTYWA | B4: nota | C4: tys. PLN
C5: Stan na 31/12/202 (dane niebadane) | D5: Stan na 31/12/2023
A6: AKTYWA TRWAŁE | C6: 404764000 | D6: 226208000
A7: Rzeczowe aktywa trwałe | B7: 11 | C7: 41600000 | D7: 43952000
A8: Wartość firmy | B8: 12 | C8: 325627000 | D8: 145249000
A9: Pozostałe aktywa niematerialne | C9: 33747000 | D9: 34583000
A10: Inwestycje w jednostkach zależnych | B10: 20 | C10: 50000 | D10: 50000
A11: Pozostałe aktywa finansowe | C11: 1330000 | D11: 728000
A12: Aktywa z tytułu podatku odroczonego | C12: 2173000 | D12: 1417000
A13: Pozostałe aktywa | C13: 237000 | D13: 229000
A14: AKTYWA OBROTOWE | C14: 218040000 | D14: 209459000
A15: Zapasy | C15: 333000 | D15: 553000
A16: Należności z tytułu dostaw i usług | B16: 13 | C16: 100730000 | D16: 83331000
A17: Należności krótkoterminowe pozostałe | B17: 13 | C17: 3325000 | D17: 3929000
A18: Aktywa kontraktowe | B18: 14 | C18: 3986000 | D18: 2328000
A19: Pozostałe aktywa finansowe | B19: 17 | C19: 105000 | D19: 85000
A20: Należności z tytułu bieżącego podatku dochodowego | C20: 486000 | D20: 126000
A21: Należności z tytułu innych podatków niż podatek dochodowy | C21: 5719000 | D21: 6191000
A22: Pozostałe aktywa
A23: Środki pieniężne | C23: 103356000 | D23: 112916000
A24: AKTYWA RAZEM | C24: 622804000 | D24: 435667000
A26: SKONSOLIDOWANE SPRAWOZDANIE Z SYTUACJI FINANSOWEJ [C.D.]
A27: PASYWA | B27: nota | C27: tys. PLN
C28: Stan na 31/12/2024 (dane niebadane) | D28: =D5 -> Stan na 31/12/2023
A29: KAPITAŁ WŁASNY | C29: 262662000 | D29: 209544000
A30: Kapitał własny przypadający na akcjonariuszy jednostki dominującej | C30: 103629000 | D30: 84144000
A31: Kapitał akcyjny | B31: 15 | C31: 3707000 | D31: 3707000
A32: Nadwyżka ze sprzedaży akcji ponad wartość nominalną | C32: 38412000 | D32: 38412000
A33: Kapitał rezerwowy | C33: 2247000 | D33: 1253000
A34: Zyski zatrzymane | B34: 16 | C34: 61538000 | D34: 43804000
A35: Różnice kursowe z przeliczenia jednostek zagranicznych | C35: -2275000 | D35: -3032000
A36: Udziały niekontrolujące | B36: 16 | C36: 159033000 | D36: 125400000
A37: ZOBOWIĄZANIA | C37: 360142000 | D37: 226123000
A38: Zobowiązania długoterminowe | C38: 246852000 | D38: 134147000
A39: Długoterminowe zobowiązania leasingowe | C39: 34376000 | D39: 36059000
A40: Długoterminowe zobowiązania z tyt. otrzymanych kredytów | B40: 18 | C40: 157531000 | D40: 50457000
A41: Pozostałe długoterminowe zobowiązania finansowe | C41: 52232000 | D41: 45887000
A42: Rezerwa na świadczenia emerytalne i podobne | C42: 448000 | D42: 210000
A43: Inne rezerwy długoterminowe
A44: Rezerwa z tytułu odroczonego podatku dochodowego | C44: 2265000 | D44: 1534000
A45: Zobowiązania krótkoterminowe | C45: 113290000 | D45: 91976000
A46: Zobowiązania z tytułu dostaw i usług | C46: 35187000 | D46: 30575000
A47: Zobowiązania kontraktowe | B47: 14 | C47: 2604000 | D47: 1483000
A48: Krótkoterminowe zobowiązania z tyt. otrzymanych kredytów | B48: 18 | C48: 31213000 | D48: 27279000
A49: Krótkoterminowe zobowiązania leasingowe | C49: 6060000 | D49: 5975000
A50: Pozostałe krótkoterminowe zobowiązania finansowe | C50: 7361000 | D50: 0
A51: Zobowiązania z tytułu bieżącego podatku dochodowego | C51: 3544000 | D51: 2571000
A52: Zobowiązania z tytułu innych podatków niż podatek dochodowy | C52: 4419000 | D52: 4172000
A53: Rezerwy na świadczenia emerytalne i podobne | C53: 3039000 | D53: 2656000
A54: Rezerwy krótkoterminowe | C54: 489000 | D54: 2543000
A55: Przychody przyszłych okresów | C55: 51000 | D55: 1322000
A56: Pozostałe zobowiązania | C56: 19323000 | D56: 13400000
A57: PASYWA RAZEM | C57: 622804000 | D57: 435667000

Sheet RZIS_s
A1: 2. SKONSOLIDOWANY RACHUNEK ZYSKÓW I STRAT ZA OKRES OD 01.01.2024 DO 31.12.2024
A2: SKONSOLIDOWANY RACHUNEK ZYSKÓW I STRAT (Wariant kalkulacyjny) | B2: nota | C2: tys.PLN | E2: tys.PLN
C3: 12 miesięcy zakończonych 31/12/2024 (dane niebadane) | D3: 12 miesięcy zakończonych 31/12/2023 | E3: 3 miesięce zakończone 31/12/2024 (dane niebadane) | F3: 3 miesięce zakończone 31/12/2023
A4: Działalność kontynuowana
A5: Przychody ze sprzedaży | B5: 6.7 | C5: 559738000 | D5: 453119000 | E5: 164709000 | F5: 112542000
A6: Przychody ze sprzedaży usług | C6: 559234000
A7: Przychody ze sprzedaży towarów i materiałów | C7: 504000
A8: Koszt własny sprzedaży (koszt sprzedanych produktów, usług, towarów i materiałów) | C8: 403170000 | D8: 341461000 | E8: 115917000 | F8: 80768000
A9: Koszt sprzedanych usług | C9: 402674000
A10: Koszt sprzedanych towarów i materiałów | C10: 496000
A11: Zysk brutto ze sprzedaży | C11: 156568000 | D11: 111658000 | E11: 48792000 | F11: 31774000
A12: Koszty sprzedaży | C12: 30895000 | D12: 26782000 | E12: 10054000 | F12: 10490000
A13: Koszty ogólnego zarządu | C13: 57791000 | D13: 43169000 | E13: 19589000 | F13: 14625000
A14: Pozostałe przychody operacyjne | C14: 1631000 | D14: 1613000 | E14: 218000 | F14: -217000
A15: Zyski z tytułu utraty wartości | C15: 1855000 | D15: 0 | E15: 1855000 | F15: 0
A16: Pozostałe koszty operacyjne | C16: 1438000 | D16: 7710000 | E16: 572000 | F16: 422000
A17: Straty z tytułu utraty wartości | C17: 1430000 | D17: 0 | E17: 1430000 | F17: 0
A18: Zysk na działalności operacyjnej | C18: 68500000 | D18: 35610000 | E18: 19220000 | F18: 6020000
A19: Przychody finansowe | B19: 9 | C19: 12011000 | D19: 4918000 | E19: 10178000 | F19: 1184000
A20: Koszty finansowe | B20: 10 | C20: 13400000 | D20: 8758000 | E20: 2563000 | F20: -3577000
A21: Zysk przed opodatkowaniem | C21: 67111000 | D21: 31770000 | E21: 26835000 | F21: 10781000
A22: Podatek dochodowy | C22: 11538000 | D22: 10885000 | E22: 5796000 | F22: 3544000
A23: Część bieżąca | C23: 9309000
A24: Część odroczona | C24: 2229000
A25: Zysk (strata) netto z działalności kontynuowanej | C25: 55573000 | D25: 20885000 | E25: 21039000 | F25: 7237000
A26: ZYSK ( STRATA) NETTO | C26: 55573000 | D26: 20885000 | E26: 21039000 | F26: 7237000
A27: Zysk (strata) netto, z tego przypadający: | C27: 55573000 | D27: 20885000 | E27: 21039000 | F27: 7237000
A28: Akcjonariuszom jednostki dominującej | C28: 24079000 | D28: 3532000 | E28: 10923000 | F28: 2817000
A29: Udziałom niedającym kontroli | C29: 31494000 | D29: 17353000 | E29: 10116000 | F29: 4420000
A30: Zysk (strata) netto na jedną akcję zwykłą
A31: (w zł/gr na jedną akcję):
A33: - podstawowy | C33: 1.9488481 | D33: 0.2858645 | E33: 0.88405944 | F33: 0.22799556
A34: - rozwodniony | C34: 1.9488481 | D34: 0.2858645 | E34: 0.88405944 | F34: 0.22799556

Sheet SSCD_s
A1: 2.1. SKONSOLIDOWANE SPRAWOZDANIE Z CAŁKOWITYCH DOCHODÓW ZA OKRES 01.01.2024 - 31.12.2024
A2: SKONSOLIDOWANE SPRAWOZDANIE Z CAŁKOWITYCH DOCHODÓW | C2: tys.PLN | E2: tys.PLN
C3: 12 miesięcy zakończonych 31/12/2024 (dane niebadane) | D3: 12 miesięcy zakończonych 31/12/2023 | E3: 3 miesięce zakończone 31/12/2024 (dane niebadane) | F3: 3 miesięce zakończone 31/12/2023
A4: ZYSK (STRATA) NETTO | C4: 55573000 | D4: 20885000 | E4: 21039000 | F4: 7237000
A5: Pozycje, które mogą być przeniesione do wyniku | C5: 0 | D5: 0 | E5: 0 | F5: 0
A6: Pozostałe dochody całkowite | C6: 0 | D6: 0 | E6: 0 | F6: 0
A7: Różnice kursowe z przeliczenia jednostek zagranicznych | C7: 570000 | D7: -7069000 | E7: 9811000 | F7: -9195000
A8: POZOSTAŁE CAŁKOWITE DOCHODY NETTO | C8: 570000 | D8: -7069000 | E8: 9811000 | F8: -9195000
A9: SUMA CAŁKOWITYCH DOCHODÓW | C9: 56143000 | D9: 13816000 | E9: 30850000 | F9: -1958000
A10: przypadających akcjonariuszom jednostki dominującej | C10: 24836000 | D10: -37000 | E10: 15546000 | F10: -1194000
A11: przypadających udziałom niedającym kontroli | C11: 31307000 | D11: 13853000 | E11: 15304000 | F11: -764000
C14: =C10+C11-C9 -> 0 | D14: =D10+D11-D9 -> 0 | E14: =E10+E11-E9 -> 0 | F14: =F10+F11-F9 -> 0

Sheet CF_s
A1: 3. SKONSOLIDOWANE SPRAWOZDANIE Z PRZEPŁYWÓW PIENIĘŻNYCH ZA OKRES OD 01.01.2024 DO 31.12.2024 [METODA POŚREDNIA]
B2: tys.PLN
B3: 12 miesięcy zakończonych 31/12/2024 (dane niebadane) | C3: 12 miesięcy zakończonych 31/12/2023
A4: Przepływy pieniężne z działalności operacyjnej
A5: Zysk za rok obrotowy | B5: =RZIS_s!C26 -> 55573000 | C5: =RZIS_s!D26 -> 20885000
A6: Korekty: | B6: =SUM(B7:B32) -> #REF! | C6: =SUM(C7:C32) -> 46002000
A7: Koszt podatku dochodowego ujęty w wyniku | B7: =RZIS_s!C22 -> 11538000 | C7: =RZIS_s!D22 -> 10885000
A8: Koszty finansowe netto ujęte w wyniku | B8: =#REF!+#REF! -> #REF! | C8: 5412000
A9: Przychody z inwestycji ujęte w wyniku
A10: Zysk/Strata ze zbycia/zmiany przeznaczenia składników rzeczowych aktywów trwałych | B10: -364000 | C10: -552000
A11: Korekta z połączenia jednostki zależnej | B11: 0 | C11: 516000
A12: (Zysk) / strata netto z wyceny aktywów finansowych przeznaczonych do obrotu
A13: Zysk/strata z tytułu zmiany przeznaczenia środków trwałych
A14: Zysk/strata ze zbycia jednostki zależnej
A15: (Zysk) / strata netto z wyceny aktywów/zobowiązań finansowych wycenianych w skorygowanej cenie nabycia | B15: 0 | C15: 31000
A16: Zysk/Strata z tytułu odwrócenia odpisu/utraty wartości należności z tytułu dostaw i usług | B16: 0 | C16: -4019000
A17: Amortyzacja aktywów trwałych | B17: =#REF! -> #REF! | C17: 14451000
A18: (Dodatnie) / ujemne różnice kursowe netto | B18: -199000 | C18: 956000
A19: Pozostałe zmiany w pasywach | B19: 0 | C19: 0
A20: Korekta z tyt. programu motywacyjnego | B20: 0 | C20: 0
A21: Zmiany w kapitale obrotowym:
A22: (Zwiększenie) / zmniejszenie salda należności z tytułu dostaw i usług oraz pozostałych należności | B22: =Bilans_s!D16-Bilans_s!C16+Bilans_s!D17-Bilans_s!C17+Bilans_s!D21-Bilans_s!C21+10301000 -> -6022000 | C22: 10996000
A23: (Zwiększenie) / zmniejszenie aktywów kontraktowych
A24: (Zwiększenie) / zmniejszenie stanu zapasów | B24: =Bilans_s!D15-Bilans_s!C15 -> 220000 | C24: 138000
A25: (Zwiększenie) / zmniejszenie pozostałych aktywów | B25: =Bilans_s!D13-Bilans_s!C13+Bilans_s!D18-Bilans_s!C18+Bilans_s!D22-Bilans_s!C22+Bilans_s!D12-Bilans_s!C12+Bilans_s!D11-Bilans_s!C11-Bilans_s!C19+Bilans_s!D19 -> -3044000 | C25: 2186000
A26: Zmniejszenie salda zobowiązań z tytułu dostaw i usług oraz pozostałych zobowiązań podatkowych | B26: =Bilans_s!C46-Bilans_s!D46+Bilans_s!C52-Bilans_s!D52-1791000 -> 3068000 | C26: -3846000
A27: Zmniejszenie salda zobowiązań kontraktowych | B27: =Bilans_s!C47-Bilans_s!D47 -> 1121000 | C27: 0
A28: Zwiększenie / (zmniejszenie) rezerw | B28: =Bilans_s!C42-Bilans_s!D42+Bilans_s!C44-Bilans_s!D44+Bilans_s!C53-Bilans_s!D53+Bilans_s!C54-Bilans_s!D54 -> -702000 | C28: 4005000
A29: Zwiększenie / (zmniejszenie) przychodów przyszłych okresów | B29: =Bilans_s!C55-Bilans_s!D55 -> -1271000 | C29: 895000
A30: Zwiększenie / (zmniejszenie) pozostałych zobowiązań | B30: =Bilans_s!C50-Bilans_s!D50+Bilans_s!C56-Bilans_s!D56 -> 13284000 | C30: 124000
A31: Pozostałe
A32: Pozostałe zmiany w pasywach | B32: 0 | C32: 3824000
A33: Środki pieniężne wygenerowane na działalności operacyjnej | B33: =SUM(B5:B6) -> #REF! | C33: =SUM(C5:C6) -> 66887000
A34: Zapłacone odsetki | B34: =-#REF!-#REF! -> #REF! | C34: -1769000
A35: Zapłacony podatek dochodowy | B35: =-RZIS_s!C22+Bilans_s!D20-Bilans_s!C20+Bilans_s!C51-Bilans_s!D51 -> -10925000 | C35: -9963000
A36: ŚRODKI PIENIĘŻNE NETTO Z DZIAŁALNOŚCI OPERACYJNEJ | B36: =SUM(B33:B35) -> #REF! | C36: =SUM(C33:C35) -> 55155000
A37: SKONSOLIDOWANE SPRAWOZDANIE Z PRZEPŁYWÓW PIENIĘŻNYCH ZA OKRES OD 01.01.2024 DO 31.12.2024 [METODA POŚREDNIA] - [C.D.]
B38: tys.PLN
B39: 12 miesięcy zakończonych 31/12/2024 (dane niebadane) | C39: 12 miesięcy zakończonych 31/12/2023 (dane niebadane)
A40: Przepływy pieniężne z działalności inwestycyjnej
A41: Płatności z tytułu nabycia aktywów finansowych
A42: Otrzymane odsetki od jedn. powiązanych
A43: Pożyczki otrzymane od jednostek powiązanych
A44: Płatności z tytułu nabycia jednostek zależnych pomniejszone o nabyte środki pieniężne | B44: -181866000 | C44: -8316000
A45: Pożyczki spłacone od jednostek powiązanych
A46: Pożyczki udzielone jednostkom powiązanym
A47: Pożyczki zwrócone jednostkom powiązanym
A48: Spłata pożyczek wraz z odsetkami od pozostałych jednostek | C48: 0
A49: Dywidendy wypłacone
A50: Pożyczki udzielone pozostałym podmiotom
A51: Płatności z nabycia jednostek zależnych
A52: Płatności za rzeczowe aktywa trwałe | B52: -6852000 | C52: -2627000
A53: Wpływy z tytułu zbycia składników rzeczowych aktywów trwałych | B53: 826000 | C53: 640000
A54: Płatności za aktywa niematerialne | B54: -5622000 | C54: -9468000
A55: Inne wpływy/wydatki inwestycyjne
A56: Wpływy netto z tytułu przejęcia jednostki zależnej
A57: ŚRODKI PIENIĘŻNE NETTO (WYDANE) / WYGENEROWANE W ZWIĄZKU Z DZIAŁALNOŚCIĄ INWESTYCYJNĄ | B57: -193514000 | C57: -19771000
A58: Przepływy pieniężne z działalności finansowej
A59: Transakcja z udziałowcami niekontrolującymi
A60: Dywidendy wypłacone | B60: 0 | C60: -12356000
A61: Spłata rat kredytowych i pożyczek | B61: -17656000 | C61: -3593000
A62: Spłata odsetek od kredytu | B62: -1933000 | C62: -3643000
A63: Zaciągnięcie kredytu | B63: 30000 | C63: 0
A64: Wpływy z kredytów | B64: 133303000 | C64: 14450000
A65: Wpływy ze spłaty udzielonych pożyczek
A66: Spłata zadłużenia z tyt. umów leasingu | B66: -7300000 | C66: -6732000
A67: ŚRODKI PIENIĘŻNE NETTO WYKORZYSTANE W DZIAŁALNOŚCI FINANSOWEJ | B67: 106444000 | C67: -11874000
A68: Zwiększenie netto środków pieniężnych i ich ekwiwalentów | B68: -9560000 | C68: 23510000
A69: Środki pieniężne i ich ekwiwalenty na początek okresu sprawozdawczego | B69: 112916000 | C69: 89406000
A70: Zmiana stanu środków pieniężnych
A71: Wpływ zmian kursów walut na saldo środków pieniężnych w walutach obcych
A72: Wpływ odsetek z tyt. środków pieniężnych naliczonych do dnia bilansowego
A73: ŚRODKI PIENIĘŻNE NA KONIEC OKRESU SPRAWOZDAWCZEGO | B73: 103356000 | C73: 112916000

Sheet ZZKW_s
A1: 4. SKONSOLIDOWANE SPRAWOZDANIE ZE ZMIAN W KAPITALE WŁASNYM ZA OKRES SPRAWOZDAWCZY KOŃCZĄCY SIĘ 31 GRUDNIA 2024 ROKU
B2: tys.PLN
B3: Kapitał akcyjny | C3: Nadwyżka ze sprzedaży akcji | D3: Kapitał rezerwowy | E3: Zyski zatrzymane | F3: Różnice kursowe z przeliczenia jednostek zależnych | G3: Przypadające akcjonariuszom jednostki dominującej | H3: Udziały niekontrolujące | I3: Razem
A4: Stan na 1 stycznia 2024 roku | B4: 3707 | C4: 38412 | D4: 1253 | E4: 43804 | F4: -3032 | G4: 84144 | H4: 125400 | I4: 209544
A5: Zysk netto za rok obrotowy | B5: 0 | C5: 0 | D5: 0 | E5: 24079 | F5: 0 | G5: 24079 | H5: 31494 | I5: 55573
A6: Pozostałe całkowite dochody za rok obrotowy (netto) | B6: 0 | C6: 0 | D6: 0 | E6: 0 | F6: 757 | G6: 757 | H6: -187 | I6: 570
A7: Nabycie jednostki zależnej z udziałami niekontrolującymi | B7: 0 | C7: 0 | D7: 0 | E7: 0 | F7: 0 | H7: 2326 | I7: 2326
A8: Suma całkowitych dochodów | B8: 0 | C8: 0 | D8: 0 | E8: 24079 | F8: 757 | G8: 24836 | H8: 31307 | I8: 56143
A9: Transakcja z udziałowcami mniejszościowymi | B9: 0 | C9: 0 | D9: 0 | E9: -6345 | F9: 0 | G9: -6345 | H9: 0 | I9: -6345
A10: Kapitał rezerwowy na program opcyjny | B10: 0 | C10: 0 | D10: 994 | E10: 0 | F10: 0 | G10: 994 | H10: 0 | I10: 994
A11: Zmiana kapitałów własnych | B11: 0 | C11: 0 | D11: 994 | E11: 17734 | F11: 757 | G11: 19485 | H11: 33633 | I11: 53118
A12: Stan na 31 grudnia 2024 roku (dane niebadane) | B12: 3707 | C12: 38412 | D12: 2247 | E12: 61538 | F12: -2275 | G12: 103629 | H12: 159033 | I12: 262662
A14: Stan na 1 stycznia 2023 roku | B14: 3707 | C14: 38412 | D14: 737 | E14: 23728 | F14: 537 | G14: 67121 | H14: 115355 | I14: 182476
A15: Zysk netto za rok obrotowy | B15: 0 | C15: 0 | D15: 0 | E15: 3532 | F15: 0 | G15: 3532 | H15: 17353 | I15: 20885
A16: Pozostałe całkowite dochody za rok obrotowy (netto) | B16: 0 | C16: 0 | D16: 0 | E16: 0 | F16: -3569 | G16: -3569 | H16: -3500 | I16: -7069
A17: Suma całkowitych dochodów | B17: 0 | C17: 0 | D17: 0 | E17: 3532 | F17: -3569 | G17: -37 | H17: 13853 | I17: 13816
A18: Transakcja z udziałowcami mniejszościowymi | B18: 0 | C18: 0 | D18: 0 | E18: 28899 | F18: 0 | G18: 28899 | H18: -3808 | I18: 25091
A19: Kapitał rezerwowy na program opcyjny | B19: 0 | C19: 0 | D19: 516 | E19: 0 | F19: 0 | G19: 516 | H19: 0 | I19: 516
A20: Wypłata dywidendy | B20: 0 | C20: 0 | D20: 0 | E20: -12355 | F20: 0 | G20: -12355 | H20: 0 | I20: -12355
... A22: Stan na 31 grudnia 2023 roku | B22: 3707 | C22: 38412 | D22: 1253 | E22: 43804 | F22: -3032 | G22: 84144 | H22: 125400 | I22: 209544

Sheet Bilans_j
A1: SKRÓCONE ŚRÓDROCZNE JEDNOSTKOWE SPRAWOZDANIE FINANSOWE AILLERON SA ZA IV KWARTAŁ 2024 ROKU ZAKOŃCZONY 31/12/2024
A2: SPORZĄDZONE WEDŁUG MIĘDZYNARODOWYCH STANDARDÓW SPRAWOZDAWCZOŚCI FINANSOWEJ (wszystkie kwoty wyrażone są w tysiącach złotych polskich o ile nie wskazano inaczej)
A3: 1. JEDNOSTKOWE SPRAWOZDANIE Z SYTUACJI FINANSOWEJ
A4: AKTYWA | B4: nota | C4: tys. PLN
C5: Stan na 31/12/2024 (dane niebadane) | D5: Stan na 31/12/2023
A6: AKTYWA TRWAŁE | C6: 92391000 | D6: 98969000
A7: Rzeczowe aktywa trwałe | C7: 19231000 | D7: 20147000
A8: Wartość firmy | B8: 13
A9: Pozostałe aktywa niematerialne | C9: 27491000 | D9: 31676000
A10: Inwestycje w jednostkach zależnych | C10: 30696000 | D10: 30693000
A12: Należności z tytułu leasingu finansowego | C12: 14644000 | D12: 16254000
A13: Pozostałe aktywa finansowe
A14: Aktywa z tytułu podatku odroczonego | C14: 191000 | D14: 0
A15: Pozostałe aktywa | C15: 138000 | D15: 199000
A16: AKTYWA OBROTOWE | C16: 18735000 | D16: 20086000
A17: Zapasy | C17: 25000 | D17: 7000
A18: Należności z tytułu dostaw i usług | C18: 12283000 | D18: 11891000
A19: Należności krótkoterminowe pozostałe | C19: 116000 | D19: 2107000
A20: Należności z tytułu leasingu finansowego | C20: 2233000 | D20: 2272000
A21: Aktywa kontraktowe | C21: 698000 | D21: 859000
A22: Pozostałe aktywa finansowe | B22: 19
A23: Należności z tytułu bieżącego podatku dochodowego | B23: 11
A24: Należności z tytułu innych podatków niż podatek dochodowy | C24: 0 | D24: 758000
A25: Pozostałe aktywa
A26: Środki pieniężne | C26: 3380000 | D26: 2192000
A27: AKTYWA RAZEM | C27: 111126000 | D27: 119055000
A29: JEDNOSTKOWE SPRAWOZDANIE Z SYTUACJI FINANSOWEJ [C.D.]
A30: PASYWA | B30: nota | C30: tys. PLN
C31: Stan na 31/12/2024 (dane niebadane) | D31: =D5 -> Stan na 31/12/2023
A32: KAPITAŁ WŁASNY | C32: 44066000 | D32: 48180000
A33: Kapitał własny przypadający na akcjonariuszy jednostki dominującej | C33: 44066000 | D33: 48180000
A34: Kapitał akcyjny | C34: 3707000 | D34: 3707000
A35: Nadwyżka ze sprzedaży akcji ponad wartość nominalną | C35: 38412000 | D35: 38412000
A36: Kapitał rezerwowy | C36: 2247000 | D36: 1253000
A37: Zyski zatrzymane | C37: -300000 | D37: 4808000
A38: Różnice kursowe z przeliczenia jednostek zagranicznych
A39: Udziały niekontrolujące | B39: 18
A40: ZOBOWIĄZANIA | C40: 67060006 | D40: 70875004
A41: Zobowiązania długoterminowe | C41: 31213000 | D41: 34247000
A42: Długoterminowe zobowiązania leasingowe | C42: 31070000 | D42: 33450000
A43: Długoterminowe zobowiązania z tyt. otrzymanych kredytów | B43: 21
A44: Pozostałe długoterminowe zobowiązania finansowe
A45: Rezerwa na świadczenia emerytalne i podobne | C45: 143000 | D45: 119000
A46: Inne rezerwy długoterminowe
A47: Rezerwa z tytułu odroczonego podatku dochodowego | C47: 0 | D47: 678000
A48: Zobowiązania krótkoterminowe | C48: 35847006 | D48: 36628004
A49: Zobowiązania z tytułu dostaw i usług | C49: 8788000 | D49: 9563000
A50: Zobowiązania kontraktowe | B50: 16
A51: Krótkoterminowe zobowiązania z tyt. otrzymanych kredytów | C51: 13520000 | D51: 15801000
A52: Krótkoterminowe zobowiązania leasingowe | C52: 5268000 | D52: 5180000
A53: Pozostałe krótkoterminowe zobowiązania finansowe | C53: 6 | D53: 4
A54: Zobowiązania z tytułu bieżącego podatku dochodowego | C54: 4000 | D54: 4000
A55: Zobowiązania z tytułu innych podatków niż podatek dochodowy | C55: 1591000 | D55: 1406000
A56: Rezerwy na świadczenia emerytalne i podobne | C56: 1125000 | D56: 1122000
A57: Rezerwy krótkoterminowe
A58: Przychody przyszłych okresów | C58: 2199000 | D58: 152000
A59: Pozostałe zobowiązania | C59: 3352000 | D59: 3400000
A60: PASYWA RAZEM | C60: 111126006 | D60: 119055004

Sheet RZIS_j
A1: 2. JEDNOSTKOWY RACHUNEK ZYSKÓW I STRAT ZA OKRES OD 01.01.2024 DO 31.12.2024
A2: JEDNOSTKOWY RACHUNEK ZYSKÓW I STRAT (Wariant kalkulacyjny) | B2: nota | C2: tys.PLN | E2: tys.PLN
C3: 12 miesięcy zakończonych 31/12/2024 (dane niebadane) | D3: 12 miesięcy zakończonych 31/12/2023 (dane niebadane) | E3: 3 miesięce zakończone 31/12/2024 (dane niebadane) | F3: 3 miesięce zakończone 31/12/2023 (dane niebadane)
A4: Działalność kontynuowana
A5: Przychody ze sprzedaży | C5: 79050000 | D5: 73975000 | E5: 28575000 | F5: 15643000
A6: Przychody ze sprzedaży usług | C6: 78567000 | G6: UKRYĆ
A7: Przychody ze sprzedaży towarów i materiałów | C7: 483000
A8: Koszt własny sprzedaży (koszt sprzedanych produktów, usług, towarów i materiałów) | C8: 57979000 | D8: 54703000 | E8: 18066000 | F8: 8634000
A9: Koszt sprzedanych usług | C9: 57493000 | G9: UKRYĆ
A10: Koszt sprzedanych towarów i materiałów | C10: 486000
A11: Zysk brutto ze sprzedaży | C11: 21071000 | D11: 19272000 | E11: 10509000 | F11: 7009000
A12: Koszty sprzedaży | C12: 12460000 | D12: 10843000 | E12: 3631000 | F12: 3241000
A13: Koszty ogólnego zarządu | C13: 14609000 | D13: 15418000 | E13: 4159000 | F13: 4768000
A14: Pozostałe przychody operacyjne | C14: 2406000 | D14: 583000 | E14: 345000 | F14: -118000
A15: Pozostałe koszty operacyjne | C15: 231000 | D15: 5599000 | E15: 106000 | F15: 67000
A16: Straty z tytułu utraty wartości | C16: 292000 | D16: 0 | E16: 292000 | F16: 0
A17: Strata na działalności operacyjnej | C17: -4115000 | D17: -12005000 | E17: 2666000 | F17: -1185000
A18: Przychody finansowe | C18: 1411000 | D18: 1144000 | E18: 281000 | F18: -794000
A19: Koszty finansowe | C19: 3226000 | D19: 4009000 | E19: 1032000 | F19: 2907000
A20: Strata przed opodatkowaniem | C20: -5930000 | D20: -14870000 | E20: 1915000 | F20: -4886000
A22: Podatek dochodowy | C22: -822000 | D22: 273000 | E22: 382000 | F22: -457000
A23: Część bieżąca | C23: 47000
A24: Część odroczona | C24: -869000 | G24: UKRYĆ
A25: Strata netto z działalności kontynuowanej | C25: -5108000 | D25: -15143000 | E25: 1533000 | F25: -4429000
A26: STRATA NETTO | C26: -5108000 | D26: -15143000 | E26: 1533000 | F26: -4429000
A28: SKONSOLIDOWANY RACHUNEK ZYSKÓW I STRAT ZA OKRES 01.01.2022 - 30.06.2022 - [C.D.]
A29: SKONSOLIDOWANY RACHUNEK ZYSKÓW I STRAT (Wariant kalkulacyjny) | B29: nota | C29: tys.PLN
C30: =C3 -> 12 miesięcy zakończonych 31/12/2024 (dane niebadane) | D30: =D3 -> 12 miesięcy zakończonych 31/12/2023 (dane niebadane) | E30: =E3 -> 3 miesięce zakończone 31/12/2024 (dane niebadane) | F30: =F3 -> 3 miesięce zakończone 31/12/2023 (dane niebadane)
A31: Strata netto, z tego przypadający: | C31: -5108000 | D31: -15143000 | E31: 1533000 | F31: -4429000
A32: Akcjonariuszom jednostki dominującej | C32: -5108000 | D32: -15143000 | E32: 1533000 | F32: -4429000
A33: Udziałom niedającym kontroli
A34: Strata netto na jedną akcję zwykłą
A35: (w zł/gr na jedną akcję):
A37: - podstawowy | C37: -0.41341899 | D37: -1.2256076 | E37: 0.12407426 | F37: -0.35846373
A38: - rozwodniony | C38: -0.41341899 | D38: -1.2256076 | E38: 0.12407426 | F38: -0.35846373
A39: z działalności zaniechanej:
A40: - podstawowy | C40: =#REF!/12355504 -> #REF! | D40: =#REF!/12355504 -> #REF! | E40: =#REF!/12355504 -> #REF! | F40: =#REF!/12355504 -> #REF!
A41: - rozwodniony | C41: =#REF!/12355504 -> #REF! | D41: =#REF!/12355504 -> #REF! | E41: =E40 -> #REF! | F41: =F40 -> #REF!

Sheet SSCD_j
A1: 2.1. JEDNOSTKOWE SPRAWOZDANIE Z CAŁKOWITYCH DOCHODÓW ZA OKRES 01.01.2024 - 31.12.2024
A2: JEDNOSTKOWE SPRAWOZDANIE Z CAŁKOWITYCH DOCHODÓW | C2: tys.PLN | E2: tys.PLN
C3: =RZIS_j!C3 -> 12 miesięcy zakończonych 31/12/2024 (dane niebadane) | D3: =RZIS_j!D3 -> 12 miesięcy zakończonych 31/12/2023 (dane niebadane) | E3: =RZIS_j!E3 -> 3 miesięce zakończone 31/12/2024 (dane niebadane) | F3: =RZIS_j!F3 -> 3 miesięce zakończone 31/12/2023 (dane niebadane)
A4: STRATA NETTO | C4: -5108000 | D4: -15143000 | E4: 1533000 | F4: -4429000
A5: Pozycje, które mogą być przeniesione do wyniku | C5: 0 | D5: 0 | E5: 0 | F5: 0
A6: Pozostałe dochody całkowite | C6: 0 | D6: 0 | E6: 0 | F6: 0
A7: POZOSTAŁE CAŁKOWITE DOCHODY NETTO | C7: 0 | D7: 0 | E7: 0 | F7: 0
A8: SUMA CAŁKOWITYCH DOCHODÓW | C8: -5108000 | D8: -15143000 | E8: 1533000 | F8: -4429000

Sheet CF_j
A1: 3. JEDNOSTKOWE SPRAWOZDANIE Z PRZEPŁYWÓW PIENIĘŻNYCH ZA OKRES OD 01.01.2024 DO 31.12.2024 [METODA POŚREDNIA]
B2: tys.PLN
B3: 12 miesięcy zakończonych 31/12/2024 (dane niebadane) | C3: 12 miesięcy zakończonych 31/12/2023 (dane niebadane) | D3: =RZIS_j!E3 -> 3 miesięce zakończone 31/12/2024 (dane niebadane) | E3: =RZIS_j!F3 -> 3 miesięce zakończone 31/12/2023 (dane niebadane)
A4: Przepływy pieniężne z działalności operacyjnej
A5: Strata za rok obrotowy | B5: -5108000 | C5: -15143000 | D5: =RZIS_j!E26 -> 1533000 | E5: =RZIS_j!F26 -> -4429000
A6: Korekty: | B6: 12914797 | C6: 10590762 | D6: =SUM(D7:D30) -> 2576352 | E6: =SUM(E7:E30) -> -2577986
A7: Koszt podatku dochodowego ujęty w wyniku | B7: -822000 | C7: 273000 | D7: =RZIS_j!E22 -> 382000 | E7: =RZIS_j!F22 -> -457000
A8: Koszty finansowe netto ujęte w wyniku | B8: 3153000 | C8: 1975000 | D8: 684000 | E8: 212000
A9: Przychody z inwestycji ujęte w wyniku | B9: 0 | C9: -752000 | D9: 0 | E9: -176000
A10: Zysk ze zbycia/zmiany przeznaczenia składników rzeczowych aktywów trwałych | B10: -70000 | C10: 718000 | D10: -1000 | E10: -258000
A11: (Zysk) / strata netto z wyceny aktywów finansowych przeznaczonych do obrotu
A12: Zysk/strata z tytułu zmiany przeznaczenia środków trwałych
A13: Zysk/strata ze zbycia jednostki zależnej
A14: (Zysk) / strata netto z wyceny aktywów/zobowiązań finansowych wycenianych w skorygowanej cenie nabycia | B14: -1688000 | C14: 2001000 | D14: 46000 | E14: -37000
A15: Zysk z tytułu odwrócenia odpisu/utraty wartości należności z tytułu dostaw i usług | B15: -4913000 | C15: 5242000 | D15: -4375000 | E15: -342000
A16: Amortyzacja aktywów trwałych | B16: 7638000 | C16: 6224000 | D16: 2209000 | E16: 876000
A17: Dodatnie różnice kursowe netto | B17: -267000 | C17: -1281000 | D17: 149000 | E17: -1169000
A18: Pozostałe zmiany
A19: Korekta z tyt. programu motywacyjnego
A20: Zmiany w kapitale obrotowym:
A21: (Zwiększenie) / zmniejszenie salda należności z tytułu dostaw i usług oraz pozostałych należności | B21: 7330000 | C21: -5896000 | D21: 8488000 | E21: -1133000
A22: (Zwiększenie) / zmniejszenie aktywów kontraktowych | D22: 0 | E22: 0
A23: (Zwiększenie) / zmniejszenie stanu zapasów | B23: -17000 | C23: 52000 | D23: 684000 | E23: 37000
A24: Zwiększenie pozostałych aktywów | B24: -29000 | C24: 3446000 | D24: 724000 | E24: 3323000
A25: Zmniejszenie salda zobowiązań z tytułu dostaw i usług oraz pozostałych zobowiązań podatkowych | B25: 71000 | C25: -1369000 | D25: -4749000 | E25: -1436000
A26: Zmniejszenie salda zobowiązań kontraktowych | B26: -203 | C26: 762 | D26: -648 | E26: 14
A27: Zwiększenie / (zmniejszenie) rezerw | B27: 344000 | C27: -235000 | D27: -648000 | E27: 14000
A28: Zwiększenie przychodów przyszłych okresów | B28: 2047000 | C28: -170000 | D28: 583000 | E28: -265000
A29: Zwiększenie / (zmniejszenie) pozostałych zobowiązań | B29: 138000 | C29: -154000 | D29: -1599000 | E29: -2129000
A30: Korekta z tyt. programu motywacyjnego | B30: 0 | C30: 516000 | D30: 0 | E30: 362000
A31: Środki pieniężne wygenerowane na działalności operacyjnej | B31: 7806797 | C31: -4553238 | D31: =SUM(D5:D6) -> 4109352 | E31: =SUM(E5:E6) -> -7006986
A32: Zapłacone odsetki | B32: -2886000 | C32: -1565000 | D32: -832000 | E32: 957000
A33: Zapłacony podatek dochodowy | B33: -27000 | C33: -24000 | D33: -7000 | E33: 0
A34: ŚRODKI PIENIĘŻNE NETTO Z DZIAŁALNOŚCI OPERACYJNEJ | B34: 4893797 | C34: -6142238 | D34: =SUM(D31:D33) -> 3270352 | E34: =SUM(E31:E33) -> -6049986
A35: JEDNOSTKOWE SPRAWOZDANIE Z PRZEPŁYWÓW PIENIĘŻNYCH ZA OKRES OD 01.01.2024 DO 31.12.2024 [METODA POŚREDNIA] - [C.D.]
B36: tys.PLN
B37: =B3 -> 12 miesięcy zakończonych 31/12/2024 (dane niebadane) | C37: =C3 -> 12 miesięcy zakończonych 31/12/2023 (dane niebadane) | D37: =D3 -> 3 miesięce zakończone 31/12/2024 (dane niebadane) | E37: =E3 -> 3 miesięce zakończone 31/12/2023 (dane niebadane)
A38: Przepływy pieniężne z działalności inwestycyjnej
A39: Płatności z tytułu nabycia aktywów finansowych
A40: Spłata należności leasingowych | B40: 0 | C40: 2151000 | D40: 0 | E40: 1449000
A41: Odsetki otrzymane od subleasingu | B41: 0 | C41: 752000 | D41: 0 | E41: 176000
A42: Otrzymane odsetki od jedn. powiązanych
A43: Pożyczki otrzymane od jednostek powiązanych
A44: Płatności z tytułu nabycia jednostek zależnych pomniejszone o nabyte środki pieniężne | B44: -2000 | C44: 0 | D44: 0 | E44: 0
A45: Pożyczki spłacone od jednostek powiązanych | B45: 0 | C45: 2000
A46: Pożyczki udzielone jednostkom powiązanym | B46: 1688000 | C46: 0 | D46: -20000 | E46: -218000
A47: Pożyczki zwrócone jednostkom powiązanym
A48: Spłata pożyczek wraz z odsetkami od pozostałych jednostek
A49: Dywidendy wypłacone
A50: Pożyczki udzielone pozostałym podmiotom
A51: Płatności z nabycia jednostek zależnych
A52: Płatności za rzeczowe aktywa trwałe | B52: -475000 | C52: -791000 | D52: -112000 | E52: -493000
A53: Wpływy z tytułu zbycia składników rzeczowych aktywów trwałych | B53: 76000 | C53: 475000 | D53: 2000 | E53: 258000
A54: Płatności za aktywa niematerialne | B54: -36000 | C54: -9080000 | D54: 0 | E54: -2794000
A55: Inne wpływy/wydatki inwestycyjne
A56: Wpływy netto z tytułu przejęcia jednostki zależnej
A57: ŚRODKI PIENIĘŻNE NETTO WYDANE W ZWIĄZKU Z DZIAŁALNOŚCIĄ INWESTYCYJNĄ | B57: 1251000 | C57: -6491000 | D57: =SUM(D39:D56) -> -130000 | E57: =SUM(E39:E56) -> -1622000
A58: Przepływy pieniężne z działalności finansowej
A59: Transakcja z udziałowcami niekontrolującymi
A60: Nabycie jednostki zależnej
A61: Spłata rat kredytowych i pożyczek | B61: -2281000 | C61: 0 | D61: 1111000 | E61: 52000
A62: Spłata odsetek od kredytu | B62: 0 | C62: -341000
A63: Zaciągnięcie kredytu | B63: 0 | C63: 15680000 | D63: 0 | E63: 5150000
A64: Wpływy z pożyczek i kredytów
A65: Wpływy ze spłaty udzielonych pożyczek
A66: Dywidendy wypłacone | B66: 0 | C66: -12356000
A67: Spłata zadłużenia z tyt. umów leasingu | B67: -2676000 | C67: -5049000 | D67: -764000 | E67: -959000
A68: ŚRODKI PIENIĘŻNE NETTO WYKORZYSTANE W DZIAŁALNOŚCI FINANSOWEJ | B68: -4957000 | C68: -2066000 | D68: =SUM(D59:D67) -> 347000 | E68: =SUM(E59:E67) -> 4243000
A69: Zwiększenie netto środków pieniężnych i ich ekwiwalentów | B69: 1187797 | C69: -14699238 | D69: =D34+D57+D68 -> 3487352 | E69: =E34+E57+E68 -> -3428986
A70: Środki pieniężne i ich ekwiwalenty na początek okresu sprawozdawczego | B70: 2192000 | C70: 16891000 | D70: 0 | E70: 0
A71: Zmiana stanu środków pieniężnych
A72: Wpływ zmian kursów walut na saldo środków pieniężnych w walutach obcych
A73: Wpływ odsetek z tyt. środków pieniężnych naliczonych do dnia bilansowego
A74: ŚRODKI PIENIĘŻNE NA KONIEC OKRESU SPRAWOZDAWCZEGO | B74: 3379797 | C74: 2191762 | D74: =D69+D70+D71 -> 3487352 | E74: =E69+E70+E71 -> -3428986
D77: =D74-D76 -> 3487352 | E77: =E74-E76 -> -3428986

Sheet ZZKW_j
A1: 4. JEDNOSTKOWE SPRAWOZDANIE ZE ZMIAN W KAPITALE WŁASNYM ZA OKRES SPRAWOZDAWCZY KOŃCZĄCY SIĘ 31 GRUDNIA 2024 ROKU
B2: tys.PLN
B3: Kapitał akcyjny | C3: Nadwyżka ze sprzedaży akcji | D3: Kapitał rezerwowy | E3: Zyski zatrzymane | F3: Razem
A4: Stan na 1 stycznia 2024 roku | B4: 3707 | C4: 38412 | D4: 1253 | E4: 4808 | F4: 48180
A5: Zysk netto za rok obrotowy | B5: 0 | C5: 0 | D5: 0 | E5: -5108 | F5: -5108
A6: Dywidenda | B6: 0 | C6: 0 | D6: 0 | E6: 0 | F6: #REF!
A7: Suma całkowitych dochodów | B7: 0 | C7: 0 | D7: 0 | E7: -5108 | F7: -5108
A8: Kapitał rezerwowy na program opcyjny | B8: 0 | C8: 0 | D8: 994 | E8: 0 | F8: 994
A9: Wypłata dywidendy | B9: 0 | C9: 0 | D9: 0 | E9: 0 | F9: 0
A10: Zmiana kapitałów własnych | B10: 0 | C10: 0 | D10: 994 | E10: -5108 | F10: -4114
A11: Stan na 31 grudnia 2024 roku (dane niebadane) | B11: 3707 | C11: 38412 | D11: 2247 | E11: -300 | F11: 44066
A13: Stan na 1 stycznia 2023 roku | B13: 3707 | C13: 38412 | D13: 737 | E13: 32307 | F13: 75163
A14: Zysk netto za rok obrotowy | B14: 0 | C14: 0 | D14: 0 | E14: -15143 | F14: -15143
A15: Suma całkowitych dochodów | B15: 0 | C15: 0 | D15: 0 | E15: -15143 | F15: -15143
A16: Kapitał rezerwowy na program opcyjny | B16: 0 | C16: 0 | D16: 516 | E16: 0 | F16: 516
A17: Wypłata dywidendy | B17: 0 | C17: 0 | D17: 0 | E17: -12356 | F17: -12356
A18: Zmiana kapitałów własnych | B18: 0 | C18: 0 | D18: 516 | E18: -27499 | F18: -26983
A19: Stan na 31 grudnia 2023 roku (dane niebadane) | B19: 3707 | C19: 38412 | D19: 1253 | E19: 4808 | F19: 48180
A23: Członkowie Zarządu Ailleron SA:
A24: Rafał Styczeń - Prezes Zarządu
A25: Grzegorz Młynarczyk - Wiceprezes Zarządu
A26: Piotr Piątosa - Wiceprezes Zarządu
A27: Tomasz Król - Członek Zarządu
A28: Sporządzający :
A29: Daria Ślęzak - Główny Księgowy
A32: Kraków, 26.02.2025 r.
