Workbook
Name ____OK1: #REF!,#REF!
Name ____OK2: #REF!,#REF!
Name ____OK3: #REF!,#REF!
Name ___OK1: #REF!,#REF!
Name ___OK2: #REF!,#REF!
Name ___OK3: #REF!,#REF!
Name __DAT1: #REF!
Name __DAT2: #REF!
Name __DAT3: #REF!
Name __DAT4: #REF!
Name __DAT5: #REF!
Name __DAT6: #REF!
Name __DAT7: #REF!
Name __DAT8: #REF!
Name __FS1: #REF!
Name __OK1: #REF!,#REF!
Name __OK2: #REF!,#REF!
Name __OK3: #REF!,#REF!
Name __scr0504: #REF!
Name __scr0603: #REF!
Name __scr0604: #REF!
Name __scr0605: #REF!
Name __scr0705: #REF!
Name __scr0903: #REF!
Name __scr1102: #REF!
Name __scr1104: #REF!
Name __scr1105: #REF!
Name __scr1202: #REF!
Name __scr1203: #REF!
Name __scr1204: #REF!
Name __scr1205: #REF!
Name __sdt0504: #REF!
Name __sdt0603: #REF!
Name __sdt0604: #REF!
Name __sdt0605: #REF!
Name __sdt0705: #REF!
Name __sdt0903: #REF!
Name __sdt0904: #REF!
Name __sdt1102: #REF!
Name __sdt1104: #REF!
Name __sdt1105: #REF!
Name __sdt1202: #REF!
Name __sdt1203: #REF!
Name __sdt1204: #REF!
Name __sdt1205: #REF!
Name _DAT1: #REF!
Name _DAT2: #REF!
Name _DAT3: #REF!
Name _DAT4: #REF!
Name _DAT5: #REF!
Name _DAT6: #REF!
Name _DAT7: #REF!
Name _DAT8: #REF!
Name _FS1: #REF!
Name _Hlk96887419: Jednostkowe!$B$4
Name _Hlk96887419: Skonsolidowane!$B$4
Name _kwi09: #REF!
Name _lut09: #REF!
Name _mar09: #REF!
Name _OK1: #REF!,#REF!

Sheet Skonsolidowane
A2: Grupa ailleron – wybrane dane
A3: Skonsolidowany rachunek zysków i strat oraz sprawozdanie z pozostałych całkowitych dochodów | B3: tys. PLN | D3: tys. EUR
B4: 9 miesięcy | C4: 9 miesięcy | D4: 9 miesięcy | E4: 9 miesięcy
B5: zakończonych 30/09/2024 | C5: zakończonych 30/09/2023 | D5: zakończonych 30/09/2024 | E5: zakończonych 30/09/2023 | G5: ='Średni-eur 2024'!B17 -> 4.3021778 | H5: ='Średni-eur-2023'!B17 -> 4.5773
A6: Działalność kontynuowana
A7: Przychody ze sprzedaży | B7: 395029000 | C7: 340577000 | D7: =B7/$G$5 -> 91820706 | E7: =C7/$H$5 -> 74405654
A8: Koszt własny sprzedaży | B8: 287253000 | C8: 260693000 | D8: =B8/$G$5 -> 66769207 | E8: =C8/$H$5 -> 56953444
A9: Zysk (strata) brutto ze sprzedaży | B9: 107776000 | C9: 79884000 | D9: =B9/$G$5 -> 25051498 | E9: =C9/$H$5 -> 17452210
A10: Zysk (strata) na działalności operacyjnej | B10: 49280000 | C10: 29590000 | D10: =B10/$G$5 -> 11454664 | E10: =C10/$H$5 -> 6464509.6
A11: Zysk (strata) przed opodatkowaniem | B11: 40276000 | C11: 20989000 | D11: =B11/$G$5 -> 9361770.3 | E11: =C11/$H$5 -> 4585454.3
A12: ZYSK (STRATA) NETTO RAZEM | B12: 34534000 | C12: 13648000 | D12: =B12/$G$5 -> 8027097.4 | E12: =C12/$H$5 -> 2981670.4
A13: przypadający akcjonariuszom podmiotu dominującego | B13: 13156000 | C13: 715000 | D13: =B13/$G$5 -> 3057986.1 | E13: =C13/$H$5 -> 156205.62
A14: przypadający akcjonariuszom mniejszościowym | B14: 21378000 | C14: 12933000 | D14: =B14/$G$5 -> 4969111.3 | E14: =C14/$H$5 -> 2825464.8
A15: Zysk (strata) na jedną akcję zwykłą podstawowy i rozwodniony (w gr/zł/EUR) | B15: 1.0647886 | C15: 0.057868947 | D15: =B15/$G$5 -> 0.24749991 | E15: =C15/$H$5 -> 0.012642594
A16: Pozostałe całkowite dochody netto | B16: -9241000 | C16: 2126000 | D16: =B16/$G$5 -> -2147981.9 | E16: =C16/$H$5 -> 464465.95
A17: Suma całkowitych dochodów | B17: 25293000 | C17: 15774000 | D17: =B17/$G$5 -> 5879115.5 | E17: =C17/$H$5 -> 3446136.4 | G17: 9290 | H17: 1157 | I17: =G17/G5 -> 2159.3715 | J17: =H17/H5 -> 252.7691
A18: Liczba akcji (szt.) | B18: 12 355 504 | C18: 12355504 | D18: 12 355 504 | E18: 12355504 | G18: 16003 | H18: 14617 | I18: =G18/G5 -> 3719.744 | J18: =H18/H5 -> 3193.3673
A19: Skonsolidowane | B19: tys. PLN | D19: tys. EUR
A20: sprawozdanie z przepływów pieniężnych | B20: 9 miesięcy | C20: 9 miesięcy | D20: 9 miesięcy | E20: 9 miesięcy
B21: zakończonych 30/09/2024 | C21: zakończonych 30/09/2023 | D21: zakończonych 30/09/2024 | E21: zakończonych 30/09/2023
A22: Środki pieniężne netto z działalności operacyjnej | B22: 37299000 | C22: 36068000 | D22: =B22/$G$5 -> 8669795.1 | E22: =C22/$H$5 -> 7879754.4
A23: Środki pieniężne netto (wydane) / wygenerowane w związku z dział.inwestycyjną | B23: -164574600 | C23: -13186000 | D23: =B23/$G$5 -> -38253789 | E23: =C23/$H$5 -> -2880737.6
A24: Środki pieniężne netto wykorzystane w działalności finansowej | B24: 96728000 | C24: -1218000 | D24: =B24/$G$5 -> 22483497 | E24: =C24/$H$5 -> -266095.73
A25: Środki pieniężne na koniec okresu sprawozdawczego | B25: 82368400 | C25: 111070000 | D25: =B25/$G$5 -> 19145745 | E25: =C25/$H$5 -> 24265397
A26: Skonsolidowane | B26: tys. PLN | D26: tys. EUR
A27: sprawozdanie z sytuacji finansowej | B27: Stan na 30/09/2024 | C27: Stan na 31/12/2023 | D27: Stan na 30/09/2024 | E27: Stan na 31/12/2023 | G27: ='Średni-eur 2024'!J7 -> 4.2791 | H27: ='Średni-eur-2023'!M7 -> 4.348
A28: Aktywa trwałe | B28: 370335000 | C28: 226208000 | D28: =B28/$G$27 -> 86545068 | E28: =C28/$H$27 -> 52025759
A29: Aktywa obrotowe | B29: 191399000 | C29: 209459000 | D29: =B29/$G$27 -> 44728798 | E29: =C29/$H$27 -> 48173643
A30: Środki pieniężne i ich ekwiwalenty | B30: 82368000 | C30: 112916000 | D30: =B30/$G$27 -> 19248907 | E30: =C30/$H$27 -> 25969641
A31: Aktywa razem | B31: 561734000 | C31: 435667000 | D31: =B31/$G$27 -> 1.3127387e+08 | E31: =C31/$H$27 -> 1.001994e+08
A32: Kapitał własny | B32: 237722000 | C32: 209544000 | D32: =B32/$G$27 -> 55554205 | E32: =C32/$H$27 -> 48193192
A33: Kap. własny na akcjonariuszy j. dominującej | B33: 93993000 | C33: 84144000 | D33: =B33/$G$27 -> 21965600 | E33: =C33/$H$27 -> 19352346
A34: Kapitał akcyjny | B34: 3707000 | C34: 3707000 | D34: =B34/$G$27 -> 866303.66 | E34: =C34/$H$27 -> 852575.9
A35: Udziały niekontrolujące | B35: 143729000 | C35: 125400000 | D35: =B35/$G$27 -> 33588605 | E35: =C35/$H$27 -> 28840846
A36: Zobowiązania długoterminowe | B36: 231024000 | C36: 134147000 | D36: =B36/$G$27 -> 53988923 | E36: =C36/$H$27 -> 30852576
A37: Zobowiązania krótkoterminowe | B37: 92988000 | C37: 91976000 | D37: =B37/$G$27 -> 21730738 | E37: =C37/$H$27 -> 21153634
A38: Pasywa razem | B38: 561734000 | C38: 435667000 | D38: =B38/$G$27 -> 1.3127387e+08 | E38: =C38/$H$27 -> 1.001994e+08

Sheet Jednostkowe
A2: Ailleron SA – wybrane dane
A3: Jednostkowy rachunek zysków i strat oraz sprawozdanie z pozostałych całkowitych dochodów | B3: tys. PLN | D3: tys. EUR
B4: 9 miesięcy | C4: 9 miesięcy | D4: 9 miesięcy | E4: 9 miesięcy
B5: zakończonych 30/09/2024 | C5: zakończonych 30/09/2023 | D5: zakończonych 30/09/2024 | E5: zakończonych 30/09/2023 | G5: =Skonsolidowane!G5 -> 4.3021778 | H5: =Skonsolidowane!H5 -> 4.5773
A6: Działalność kontynuowana
A7: Przychody ze sprzedaży | B7: 50475000 | C7: 58332000 | D7: =B7/$G$5 -> 11732430 | E7: =C7/$H$5 -> 12743757
A8: Koszt własny sprzedaży | B8: 39913000 | C8: 46069000 | D8: =B8/$G$5 -> 9277394.4 | E8: =C8/$H$5 -> 10064667
A9: Zysk (strata) brutto ze sprzedaży | B9: 10562000 | C9: 12263000 | D9: =B9/$G$5 -> 2455035.7 | E9: =C9/$H$5 -> 2679090.3
A10: Zysk (strata) na działalności operacyjnej | B10: -6781000 | C10: -10820000 | D10: =B10/$G$5 -> -1576178.5 | E10: =C10/$H$5 -> -2363838.9
A11: Zysk (strata) przed opodatkowaniem | B11: -7845000 | C11: -9984000 | D11: =B11/$G$5 -> -1823495.1 | E11: =C11/$H$5 -> -2181198.5
A12: ZYSK (STRATA) NETTO RAZEM | B12: -6641000 | C12: -10714000 | D12: =B12/$G$5 -> -1543636.8 | E12: =C12/$H$5 -> -2340681.2
A13: Zysk (strata) na jedną akcję zwykłą podstawowy i rozwodniony (w gr/zł/EUR) | B13: -0.53749325 | C13: -0.86714391 | D13: =B13/$G$5 -> -0.12493516 | E13: =C13/$H$5 -> -0.18944441
A14: Pozostałe całkowite dochody netto | B14: 0 | C14: 0 | D14: - | E14: -
A15: Suma całkowitych dochodów | B15: -6641000 | C15: -10714000 | D15: =B15/$G$5 -> -1543636.8 | E15: =C15/$H$5 -> -2340681.2
A16: Liczba akcji (szt.) | B16: 12 355 504 | C16: 12355504 | D16: 12 355 504 | E16: 12355504
A17: Jednostkowe | B17: tys. PLN | D17: tys. EUR
A18: sprawozdanie z przepływów pieniężnych | B18: 9 miesięcy | C18: 9 miesięcy | D18: 9 miesięcy | E18: 9 miesięcy
B19: zakończonych 30/09/2024 | C19: zakończonych 30/09/2023 | D19: zakończonych 30/09/2024 | E19: zakończonych 30/09/2023
A20: Środki pieniężne netto z działalności operacyjnej | B20: 732797 | C20: -7708238 | D20: =B20/$G$5 -> 170331.64 | E20: =C20/$H$5 -> -1684014.2
A21: Środki pieniężne netto (wydane) / wygenerowane w związku z dział.inwestycyjną | B21: 1262000 | C21: -8175000 | D21: =B21/$G$5 -> 293339.81 | E21: =C21/$H$5 -> -1785987.4
A22: Środki pieniężne netto wykorzystane w działalności finansowej | B22: -2949000 | C22: 3565000 | D22: =B22/$G$5 -> -685466.79 | E22: =C22/$H$5 -> 778843.42
A23: Środki pieniężne na koniec okresu sprawozdawczego | B23: 1237797 | C23: 4572762 | D23: =B23/$G$5 -> 287714.05 | E23: =C23/$H$5 -> 999008.59
A24: Jednostkowe | B24: tys. PLN | D24: tys. EUR
A25: sprawozdanie z sytuacji finansowej | B25: Stan na 30/09/2024 | C25: Stan na 31/12/2023 | D25: Stan na 30/09/2024 | E25: Stan na 31/12/2023 | G25: =Skonsolidowane!G27 -> 4.2791 | H25: =Skonsolidowane!H27 -> 4.348
A26: Aktywa trwałe | B26: 94600000 | C26: 98969 | D26: =B26/$G$25 -> 22107453 | E26: =C26/$H$25 -> 22761.96
A27: Aktywa obrotowe | B27: 14541000 | C27: 20086 | D27: =B27/$G$25 -> 3398144.5 | E27: =C27/$H$25 -> 4619.5952
A28: Środki pieniężne i ich ekwiwalenty | B28: 1238000 | C28: 2192 | D28: =B28/$G$25 -> 289313.17 | E28: =C28/$H$25 -> 504.13983
A29: Aktywa razem | B29: 109141000 | C29: 119055 | D29: =B29/$G$25 -> 25505597 | E29: =C29/$H$25 -> 27381.555
A30: Kapitał własny | B30: 42098000 | C30: 48180 | D30: =B30/$G$25 -> 9838050.1 | E30: =C30/$H$25 -> 11080.957
A31: Kapitał akcyjny | B31: 3707000 | C31: 3707 | D31: =B31/$G$25 -> 866303.66 | E31: =C31/$H$25 -> 852.5759
A32: Zobowiązania długoterminowe | B32: 32014000 | C32: 34247 | D32: =B32/$G$25 -> 7481479.8 | E32: =C32/$H$25 -> 7876.4949
A33: Zobowiązania krótkoterminowe | B33: 35029006 | C33: 36628 | D33: =B33/$G$25 -> 8186068.6 | E33: =C33/$H$25 -> 8424.103
A34: Pasywa razem | B34: 109141006 | C34: 119055 | D34: =B34/$G$25 -> 25505598 | E34: =C34/$H$25 -> 27381.555

Sheet Średni-eur 2024
A1: YEAR | B1: 2024
A3: 1 USD | B3: JAN | C3: FEB | D3: MAR | E3: APR | F3: MAY | G3: JUN | H3: JUL | I3: AUG | J3: SEP | K3: OCT | L3: NOV | M3: DEC
A4: end of month | B4: 4.0135 | C4: 3.9803 | D4: 3.9886 | E4: 4.0341 | F4: 3.9389 | G4: 4.032 | H4: 3.9689 | I4: 3.8644 | J4: 3.8193
A5: monthly average | B5: 4.0011 | C5: 4.0083 | D5: 3.9658 | E5: 4.0106 | F5: 3.9675 | G5: 4.0127 | H5: 3.9462 | I5: 3.902
A6: 1 EUR
A7: end of month | B7: 4.3434 | C7: 4.319 | D7: 4.3009 | E7: 4.3213 | F7: 4.2678 | G7: 4.313 | H7: 4.2953 | I7: 4.2798 | J7: 4.2791
A8: monthly average | B8: 4.3652 | C8: 4.3274 | D8: 4.3074 | E8: 4.3026 | F8: 4.2848 | G8: 4.3177 | H8: 4.2811 | I8: 4.2918
A11: YEARLY AVERAGE RATES:
A12: JAN - AUG
A13: 1 USD - | B13: 3.9762
A14: 1 EUR - | B14: 4.3096
A17: 45565 | B17: =AVERAGE(B7:J7) -> 4.3021778

Sheet Średni-eur-2023
A1: YEAR | B1: 2023
A3: 1 USD | B3: JAN | C3: FEB | D3: MAR | E3: APR | F3: MAY | G3: JUN | H3: JUL | I3: AUG | J3: SEP | K3: OCT | L3: NOV | M3: DEC
A4: end of month | B4: 4.348 | C4: 4.4475 | D4: 4.2934 | E4: 4.1753 | F4: 4.2559 | G4: 4.1066 | H4: 3.9995 | I4: 4.1074 | J4: 4.3697 | K4: 4.1684 | L4: 3.981 | M4: 3.935
A5: monthly average | B5: 4.3571 | C5: 4.4264 | D5: 4.3914 | E5: 4.2333 | F5: 4.1791 | G5: 4.1215 | H5: 4.0273 | I5: 4.0888 | J5: 4.2974 | K5: 4.2758 | L5: 4.0787 | M5: 3.9672
A6: 1 EUR
A7: end of month | B7: 4.7089 | C7: 4.717 | D7: 4.6755 | E7: 4.5889 | F7: 4.5376 | G7: 4.4503 | H7: 4.4135 | I7: 4.4684 | J7: 4.6356 | K7: 4.4475 | L7: 4.3492 | M7: 4.348
A8: monthly average | B8: 4.6968 | C8: 4.7427 | D8: 4.6925 | E8: 4.6414 | F8: 4.5411 | G8: 4.4648 | H8: 4.4455 | I8: 4.4599 | J8: 4.594 | K8: 4.5186 | L8: 4.4033 | M8: 4.3323
A11: YEARLY AVERAGE RATES:
A12: JAN - DEC
A13: 1 USD - | B13: 4.2021
A14: 1 EUR - | B14: 4.543
A17: 45565 | B17: =AVERAGE(B7:J7) -> 4.5773
