Workbook
Name ____OK1: #REF!,#REF!
Name ____OK2: #REF!,#REF!
Name ____OK3: #REF!,#REF!
Name ___OK1: #REF!,#REF!
Name ___OK2: #REF!,#REF!
Name ___OK3: #REF!,#REF!
Name __DAT1: #REF!
Name __DAT2: #REF!
Name __DAT3: #REF!
Name __DAT4: #REF!
Name __DAT5: #REF!
Name __DAT6: #REF!
Name __DAT7: #REF!
Name __DAT8: #REF!
Name __FS1: #REF!
Name __OK1: #REF!,#REF!
Name __OK2: #REF!,#REF!
Name __OK3: #REF!,#REF!
Name __scr0504: #REF!
Name __scr0603: #REF!
Name __scr0604: #REF!
Name __scr0605: #REF!
Name __scr0705: #REF!
Name __scr0903: #REF!
Name __scr1102: #REF!
Name __scr1104: #REF!
Name __scr1105: #REF!
Name __scr1202: #REF!
Name __scr1203: #REF!
Name __scr1204: #REF!
Name __scr1205: #REF!
Name __sdt0504: #REF!
Name __sdt0603: #REF!
Name __sdt0604: #REF!
Name __sdt0605: #REF!
Name __sdt0705: #REF!
Name __sdt0903: #REF!
Name __sdt0904: #REF!
Name __sdt1102: #REF!
Name __sdt1104: #REF!
Name __sdt1105: #REF!
Name __sdt1202: #REF!
Name __sdt1203: #REF!
Name __sdt1204: #REF!
Name __sdt1205: #REF!
Name _DAT1: #REF!
Name _DAT2: #REF!
Name _DAT3: #REF!
Name _DAT4: #REF!
Name _DAT5: #REF!
Name _DAT6: #REF!
Name _DAT7: #REF!
Name _DAT8: #REF!
Name _FS1: #REF!
Name _kwi09: #REF!
Name _lut09: #REF!
Name _mar09: #REF!
Name _OK1: #REF!,#REF!
Name _OK2: #REF!,#REF!
Name _OK3: #REF!,#REF!

Sheet Bilans_s
A1: SKONSOLIDOWANE SPRAWOZDANIE FINANSOWE GRUPY KAPITAŁOWEJ AILLERON SA ZA 2023 ROK ZAKOŃCZONY 31/12/2023
A2: SPORZĄDZONE WEDŁUG MIĘDZYNARODOWYCH STANDARDÓW SPRAWOZDAWCZOŚCI FINANSOWEJ
A3: WSZYSTKIE KWOTY PODANO W TYSIĄCACH ZŁOTYCH POLSKICH (TYS. PLN), O ILE NIE WSKAZANO INACZEJ
A5: SKONSOLIDOWANE SPRAWOZDANIE Z SYTUACJI FINANSOWEJ NA DZIEŃ 31.12.2023 ROKU
A6: AKTYWA | B6: nota | C6: tys. PLN
C7: Stan na 31/12/2023 | D7: Stan na 31/12/2022 (po przekształceniu)
A9: AKTYWA TRWAŁE | C9: =SUM(C10:C17) -> 226208000 | D9: =SUM(D10:D17) -> 209645000
A10: Rzeczowe aktywa trwałe | B10: 13 | C10: 43952000 | D10: 28368000
A11: Wartość firmy | B11: 14 | C11: 145249000 | D11: 149527000
A12: Pozostałe aktywa niematerialne | B12: 15 | C12: 34583000 | D12: 28827000
A13: Inwestycje w jednostkach zależnych | B13: 16 | C13: 50000 | D13: 50000
A14: Aktywa z tytułu podatku odroczonego | B14: 10 | C14: 1417000 | D14: 1347000
A15: Pozostałe aktywa finansowe | B15: 17 | C15: 728000 | D15: 1249000
A16: Pozostałe aktywa | B16: 18 | C16: 229000 | D16: 277000
A17: Inne długoterminowe aktywa finansowe
A18: AKTYWA OBROTOWE | C18: =SUM(C19:C28) -> 209459000 | D18: =SUM(D19:D28) -> 209495000
A19: Zapasy | B19: 19 | C19: 553000 | D19: 691000
A20: Należności z tytułu dostaw i usług | B20: 20 | C20: 83331000 | D20: 94381000
A21: Należności krótkoterminowe pozostałe | C21: 3929000 | D21: 3875000
A22: Aktywa kontraktowe | B22: 6, 21 | C22: 2328000 | D22: 4227000
A23: Pozostałe aktywa finansowe | C23: 85000 | D23: 383000
A24: Należności z tytułu bieżącego podatku dochodowego | C24: 126000 | D24: 2000
A25: Należności z tytułu innych podatków niż podatek dochodowy | B25: 10 | C25: 6191000 | D25: 16243000
A26: Pozostałe aktywa | B26: 23 | C26: 0 | D26: 287000
A27: Środki pieniężne i ich ekwiwalenty | B27: 34 | C27: 112916000 | D27: 89406000
A28: Aktywa klasyfikowane jako przeznaczone do zbycia | B28: 12 | C28: 0 | D28: 0
A29: AKTYWA RAZEM | C29: =C9+C18 -> 435667000 | D29: =D9+D18 -> 419140000
A31: SKONSOLIDOWANE SPRAWOZDANIE Z SYTUACJI FINANSOWEJ NA DZIEŃ 31.12.2023 ROKU - [C.D.]
A32: PASYWA | B32: nota | C32: tys. PLN
C33: =C7 -> Stan na 31/12/2023 | D33: =D7 -> Stan na 31/12/2022 (po przekształceniu)
A34: KAPITAŁ WŁASNY | C34: =C35+C41 -> 209544000 | D34: =D35+D41 -> 1.8247592e+08
A35: Kapitał własny przypadający na akcjonariuszy jednostki dominującej | C35: =SUM(C36:C40) -> 84144000 | D35: =SUM(D36:D40) -> 67120922
A36: Kapitał akcyjny | B36: 22 | C36: 3707000 | D36: 3707000
A37: Nadwyżka ze sprzedaży akcji | B37: 22 | C37: 38412000 | D37: 38412000
A38: Kapitał rezerwowy | C38: 1253000 | D38: 737000
A39: Zyski zatrzymane | B39: 23 | C39: 43804000 | D39: =98490000-74858078.08+96000 -> 23727922
A40: Różnice kursowe z przeliczenia jednostek zagranicznych | C40: -3032000 | D40: 537000
A41: Udziały niekontrolujące | B41: 23 | C41: 125400000 | D41: =115794000-439000 -> 115355000
A42: ZOBOWIĄZANIA | C42: =C43+C50 -> 226123000 | D42: =D43+D50 -> 2.3666408e+08
A43: Zobowiązania długoterminowe | C43: =SUM(C44:C49) -> 134147000 | D43: =SUM(D44:D49) -> 1.5945408e+08
A44: Długoterminowe zobowiązania leasingowe | B44: 25 | C44: 36059000 | D44: 19280000
A45: Pozostałe zobowiązania długoterminowe finansowe | D45: 0
A46: Długoterminowe zobowiązania finansowe z tyt. kredytów | B46: 24 | C46: 50457000 | D46: 64503000
A47: Pozostałe długoterminowe zobowiązania finansowe | B47: 27.2 | C47: 45887000 | D47: 74858078
A48: Rezerwa na świadczenia emerytalne i podobne | B48: 26 | C48: 210000 | D48: 342000
A49: Rezerwa z tytułu odroczonego podatku dochodowego | B49: 10 | C49: 1534000 | D49: 471000
A50: Zobowiązania krótkoterminowe | C50: =SUM(C51:C61) -> 91976000 | D50: =SUM(D51:D61) -> 77210000
A51: Zobowiązania z tytułu dostaw i usług | B51: 28 | C51: 30575000 | D51: =33186000+343000 -> 33529000
A52: Zobowiązania kontraktowe | B52: 21 | C52: 1483000 | D52: 0
A53: Krótkoterminowe zobowiązania z tyt. otrzymanych kredytów | B53: 24 | C53: 27279000 | D53: 7344000
A54: Krótkoterminowe zobowiązania leasingowe | B54: 25 | C54: 5975000 | D54: 7407000
A55: Zobowiązania z tytułu bieżącego podatku dochodowego | B55: 10 | C55: 2571000 | D55: 2531000
A56: Zobowiązania z tytułu innych podatków niż podatek dochodowy | B56: 10 | C56: 4172000 | D56: 5104000
A57: Rezerwy na świadczenia emerytalne i podobne | B57: 26 | C57: 2656000 | D57: 3040000
A58: Rezerwy krótkoterminowe | B58: 26 | C58: 2543000 | D58: 4552000
A59: Przychody przyszłych okresów | B59: 30 | C59: 1322000 | D59: 427000
A60: Pozostałe zobowiązania | B60: 27 | C60: 13400000 | D60: 13276000
A61: Zobowiązania związane z aktywami trwałymi zaklasyfikowanymi jako przeznaczone do sprzedaży | B61: 12
A62: PASYWA RAZEM | C62: =C35+C42+C41 -> 435667000 | D62: =D35+D42+D41 -> 419140000

Sheet RZIS_s
A1: SKONSOLIDOWANY RACHUNEK ZYSKÓW I STRAT ZA OKRES 01.01.2023 - 31.12.2023
A2: SKONSOLIDOWANY RACHUNEK ZYSKÓW I STRAT (Wariant kalkulacyjny) | B2: nota | C2: tys.PLN
C3: Okres zakończony 31/12/2023 | D3: Okres zakończony 31/12/2022
A4: Działalność kontynuowana
A5: PRZYCHODY ZE SPRZEDAŻY | B5: 5, 6 | C5: =C6+C7 -> 453119000 | D5: =413441000-D26 -> 410082000
A6: Przychody ze sprzedaży usług | C6: 452995000 | D6: 201305000
A7: Przychody ze sprzedaży towarów i materiałów | C7: 124000 | D7: 15527000
A8: Koszt własny sprzedaży (koszt sprzedanych produktów, usług, towarów i materiałów) | C8: =C9+C10 -> 341461000 | D8: =300585000-D27 -> 294826000
A9: Koszt sprzedanych usług | C9: 341386000 | D9: 132209000
A10: Koszt sprzedanych towarów i materiałów | C10: 75000 | D10: 14222000
A11: ZYSK (STRATA) BRUTTO ZE SPRZEDAŻY | C11: =C5-C8 -> 111658000 | D11: =D5-D8 -> 115256000
A12: Koszty sprzedaży | C12: 26782000 | D12: 19713000
A13: Koszty ogólnego zarządu | C13: 43169000 | D13: 41362000
A14: Pozostałe przychody operacyjne | B14: 9 | C14: 1613000 | D14: 418000
A15: Pozostałe koszty operacyjne | B15: 9 | C15: 7710000 | D15: 4025000
A16: ZYSK (STRATA) NA DZIAŁALNOŚCI OPERACYJNEJ | C16: =C11-C12-C13+C14-C15 -> 35610000 | D16: =D11-D12-D13+D14-D15 -> 50574000
A17: Przychody finansowe | B17: 7 | C17: 4918000 | D17: 2035000
A18: Koszty finansowe | B18: 8 | C18: 8758000 | D18: 2331000
A19: Zysk (strata) przed opodatkowaniem | C19: =C16+C17-C18 -> 31770000 | D19: =D16+D17-D18 -> 50278000
A21: Podatek dochodowy | B21: 10 | C21: =C22+C23 -> 10885000 | D21: =9333000-D29 -> 9789000
A22: Część bieżąca | C22: 11391000 | D22: 8317000
A23: Część odroczona | C23: -506000 | D23: 215000
A24: Zysk (strata) netto z działalności kontynuowanej | B24: 12 | C24: =C19-C21 -> 20885000 | D24: =D19-D21 -> 40489000
A25: Działalność zaniechana
A26: Przychody ze sprzedaży | C26: 0 | D26: 3359000
A27: Koszty operacyjne ogółem | C27: 0 | D27: 5759000
A28: Zysk (strata) z działalności operacyjnej | C28: 0 | D28: =D26-D27 -> -2400000
A29: Podatek dochodowy | C29: =C28*0.19 -> 0 | D29: =D28*0.19 -> -456000
A30: Zysk (strata) netto z działalności zaniechanej | C30: =C28-C29 -> 0 | D30: =D28-D29 -> -1944000
A31: ZYSK (STRATA) NETTO | C31: =C24+C30 -> 20885000 | D31: =D24+D30 -> 38545000
A33: SKONSOLIDOWANY RACHUNEK ZYSKÓW I STRAT ZA OKRES 01.01.2023 - 31.12.2023 - [C.D.]
A34: SKONSOLIDOWANY RACHUNEK ZYSKÓW I STRAT (Wariant kalkulacyjny) | B34: nota | C34: tys.PLN
C35: =C3 -> Okres zakończony 31/12/2023 | D35: =D3 -> Okres zakończony 31/12/2022
A36: Zysk (strata) netto, z tego przypadający: | C36: =C31 -> 20885000 | D36: =D31 -> 38545000
A37: Akcjonariuszom jednostki dominującej | C37: 3532000 | D37: 13229000
A38: Udziałom niedającym kontroli | C38: 17353000 | D38: =D36-D37 -> 25316000
A39: Zysk (strata) netto na jedną akcję zwykłą | B39: 12 | C39: 3.2583859
A40: (w zł/gr na jedną akcję):
A41: z działalności kontynuowanej:
A42: - podstawowy | C42: =C37/12355504 -> 0.2858645 | D42: =D37/12355504 -> 1.0706969
A43: - rozwodniony | C43: =C42 -> 0.2858645 | D43: =D42 -> 1.0706969
A44: z działalności zaniechanej:
A45: - podstawowy | C45: =C30/12355504 -> 0 | D45: =D30/12355504 -> -0.15733879
A46: - rozwodniony | C46: =C45 -> 0 | D46: =D45 -> -0.15733879

Sheet SSCD_s
A1: SKONSOLIDOWANE SPRAWOZDANIE Z CAŁKOWITYCH DOCHODÓW ZA OKRES 01.01.2023 - 31.12.2023
A2: SKONSOLIDOWANE SPRAWOZDANIE Z CAŁKOWITYCH DOCHODÓW | C2: tys.PLN
C3: =RZIS_s!C3 -> Okres zakończony 31/12/2023 | D3: =RZIS_s!D3 -> Okres zakończony 31/12/2022
A4: ZYSK (STRATA) NETTO | C4: =RZIS_s!C31 -> 20885000 | D4: =RZIS_s!D31 -> 38545000
A5: Pozostałe dochody całkowite
A6: Różnice kursowe z przeliczenia jednostek zagranicznych | C6: -7069000 | D6: 1276000
A7: POZOSTAŁE CAŁKOWITE DOCHODY NETTO | C7: =C6 -> -7069000 | D7: =D6 -> 1276000
A8: SUMA CAŁKOWITYCH DOCHODÓW | C8: =C4+C7 -> 13816000 | D8: =D4+D7 -> 39821000
A9: przypadających akcjonariuszom jednostki dominującej | C9: -37000 | D9: 13833000
A10: przypadających udziałom niedającym kontroli | C10: 13853000 | D10: 25988000

Sheet CF_s
A1: SKONSOLIDOWANE SPRAWOZDANIE Z PRZEPŁYWÓW PIENIĘŻNYCH ZA OKRES OD 1 STYCZNIA 2023 DO 31 GRUDNIA 2023 [METODA POŚREDNIA]
B2: tys.PLN
B3: =SSCD_s!C3 -> Okres zakończony 31/12/2023 | C3: =SSCD_s!D3 -> Okres zakończony 31/12/2022
A4: Przepływy pieniężne z działalności operacyjnej
A5: Zysk za rok obrotowy | B5: =RZIS_s!C31 -> 20885000 | C5: =RZIS_s!D31 -> 38545000
A6: Korekty: | B6: =SUM(B7:B24) -> 46002000 | C6: =SUM(C7:C24) -> 21129000
A7: Koszt podatku dochodowego ujęty w wyniku | B7: =RZIS_s!C29+RZIS_s!C21 -> 10885000 | C7: =RZIS_s!D21+RZIS_s!D29 -> 9333000
A8: Koszty finansowe ujęte w wyniku | B8: ='[2]8 '!D8 -> 5412000 | C8: 1559000
A9: Przychody z inwestycji ujęte w wyniku
A10: Zysk/Strata ze zbycia/zmiany przeznaczenia składników rzeczowych aktywów trwałych | B10: =-'[2]9 '!F6+'[2]9 '!F27 -> -552000 | C10: 2232000
A11: Przychody z inwestycji ujęte w wyniku
A12: (Zysk) / strata netto z wyceny aktywów/zobowiązań finansowych wycenianych w skorygowanej cenie nabycia | B12: ='[2]7'!C23 -> 31000 | C12: 490000
A13: Zysk/Strata z tytułu odwrócenia odpisu/utraty wartości należności z tytułu dostaw i usług | B13: =-'[2]9 '!F35 -> -4019000 | C13: -885000
A14: Amortyzacja i umorzenie aktywów trwałych | B14: ='[2]6cd'!E67 -> 14451000 | C14: 12950000
A15: (Dodatnie) / ujemne różnice kursowe netto | B15: ='[2]7'!C20-'[2]8 '!D15 -> 956000 | C15: 888000
A16: Pozostałe zmiany | B16: =-(Bilans_s!C38+Bilans_s!C40-Bilans_s!D38-Bilans_s!D40)+881000-110000 -> 3824000 | C16: 1084000
A17: Korekta z tyt. progarmu motywacyjnego | B17: 516000 | C17: 481000
A18: (Zwiększenie) / zmniejszenie salda należności z tytułu dostaw i usług oraz pozostałych należności | B18: =Bilans_s!D20-Bilans_s!C20+Bilans_s!D21-Bilans_s!C21 -> 10996000 | C18: -38906000
A19: (Zwiększenie) / zmniejszenie stanu zapasów | B19: =Bilans_s!D19-Bilans_s!C19 -> 138000 | C19: 350000
A20: (Zwiększenie) / zmniejszenie pozostałych aktywów | B20: =(Bilans_s!D26+Bilans_s!D17-Bilans_s!C17-Bilans_s!C26+Bilans_s!D22-Bilans_s!C22) -> 2186000 | C20: -20000
A21: Zmniejszenie salda zobowiązań z tytułu dostaw i usług oraz pozostałych zobowiązań | B21: =Bilans_s!C51+Bilans_s!C55+Bilans_s!C56-Bilans_s!D51-Bilans_s!D55-Bilans_s!D56 -> -3846000 | C21: 30380000
A22: Zwiększenie / (zmniejszenie) rezerw | B22: =-(Bilans_s!C57+Bilans_s!C48+Bilans_s!C49-Bilans_s!D48-Bilans_s!D49-Bilans_s!D58-Bilans_s!D57) -> 4005000 | C22: 533000
A23: Zwiększenie / (zmniejszenie) przychodów przyszłych okresów | B23: =Bilans_s!C59-Bilans_s!D59 -> 895000 | C23: -1909000
A24: Zwiększenie / (zmniejszenie) pozostałych zobowiązań | B24: =Bilans_s!C60-Bilans_s!D60 -> 124000 | C24: 2569000
A25: Środki pieniężne wygenerowane na działalności operacyjnej | B25: =SUM(B5:B6) -> 66887000 | C25: =SUM(C5:C6) -> 59674000
A26: Zapłacone odsetki i różnice kursowe | B26: -1769000 | C26: -2447000
A27: Zapłacony podatek dochodowy | B27: -9963000 | C27: -11587000
A28: ŚRODKI PIENIĘŻNE NETTO Z DZIAŁALNOŚCI OPERACYJNEJ | B28: =SUM(B25:B27) -> 55155000 | C28: =SUM(C25:C27) -> 45640000
A29: SKONSOLIDOWANE SPRAWOZDANIE Z PRZEPŁYWÓW PIENIĘŻNYCH ZA OKRES OD 1 STYCZNIA 2023 DO 31 GRUDNIA 2023 [METODA POŚREDNIA] - [C.D.]
B30: tys.PLN
B31: =B3 -> Okres zakończony 31/12/2023 | C31: =C3 -> Okres zakończony 31/12/2022
A32: Przepływy pieniężne z działalności inwestycyjnej
A33: Płatności z tytułu nabycia aktywów finansowych | B33: 0 | C33: 0
A34: Otrzymane odsetki od jedn. powiązanych | B34: 0 | C34: 0
A35: Pożyczki otrzymane od jednostek powiązanych | B35: 0 | C35: 0
A36: Płatności z tytułu nabycia jednostek zależnych | B36: =-3827000-4489000 -> -8316000 | C36: -99474000
A37: Pożyczki spłacone od jednostek powiązanych | C37: 0
A38: Pożyczki udzielone jednostkom powiązanym | B38: 0 | C38: -383000
A39: Spłata pożyczek wraz z odsetkami od pozostałych jednostek | B39: 0 | C39: 10000
A40: Dywidendy wypłacone | C40: 0
A41: Pożyczki udzielone pozostałym podmiotom
A42: Płatności za rzeczowe aktywa trwałe | B42: -2627000 | C42: -7914000
A43: Wpływy z tytułu zbycia składników rzeczowych aktywów trwałych | B43: 640000 | C43: 329000
A44: Płatności za aktywa niematerialne | B44: =-'[2]15'!I38 -> -9468000 | C44: -19287000
A46: Inne wpływy/wydatki inwestycyjne
A47: Wpływy netto z tytułu przejęcia jednostki zależnej | B47: 0 | C47: 0
A48: ŚRODKI PIENIĘŻNE NETTO (WYDANE) / WYGENEROWANE W ZWIĄZKU Z DZIAŁALNOŚCIĄ INWESTYCYJNĄ | B48: =SUM(B33:B47) -> -19771000 | C48: =SUM(C33:C47) -> -126719000
A49: Przepływy pieniężne z działalności finansowej
A50: Nabycie jednostki zależnej
A51: Dywidendy wypłacone | B51: -12356000 | C51: -3954000
A52: Spłata rat kredytowych | B52: ='[2]23-25'!G73*1000 -> -3593000 | C52: -4000
A53: Spłata odsetek od kredytu | B53: =-'[2]8 '!D4 -> -3643000 | C53: -764000
A54: Spłata pożyczki
A55: Zaciągnięcie kredytu | B55: =18450000-4000000 -> 14450000 | C55: 69884000
A56: Dywidendy wypłacone na rzecz właścicieli
A57: Spłata zadłużenia z tyt. umów leasingu | B57: -6732000 | C57: -6016000
A58: ŚRODKI PIENIĘŻNE NETTO WYKORZYSTANE W DZIAŁALNOŚCI FINANSOWEJ | B58: =SUM(B50:B57) -> -11874000 | C58: =SUM(C50:C57) -> 59146000
A59: Zwiększenie netto środków pieniężnych i ich ekwiwalentów | B59: =B28+B48+B58 -> 23510000 | C59: =C28+C48+C58 -> -21933000
A60: Środki pieniężne i ich ekwiwalenty na początek okresu sprawozdawczego | B60: =C62 -> 89406000 | C60: 111339000
A61: Zmiana stanu środków pieniężnych
A62: ŚRODKI PIENIĘŻNE I ICH EKWIWALENTY NA KONIEC OKRESU SPRAWOZDAWCZEGO | B62: =B59+B60+B61 -> 112916000 | C62: =C59+C60 -> 89406000

Sheet ZZKW_s
A1: SKONSOLIDOWANE SPRAWOZDANIE ZE ZMIAN W KAPITALE WŁASNYM ZA OKRES SPRAWOZDAWCZY KOŃCZĄCY SIĘ 31 GRUDNIA 2023 ROKU
B2: tys.PLN
B3: Kapitał podstawowy | C3: Nadwyżka ze sprzedaży akcji | D3: Kapitał rezerwowy | E3: Zyski zatrzymane | F3: Różnice kursowe z przeliczenia jednostek zależnych | G3: Przypadające akcjonariuszom jednostki dominującej | H3: Udziały niekontrolujące | I3: Razem
A4: Stan na 1 stycznia 2022 roku | B4: 3707 | C4: 38412 | D4: 257 | E4: 90691 | F4: -67 | G4: 133000 | H4: 82456 | I4: =G4+H4 -> 215456
A5: Zysk netto za rok obrotowy | B5: 0 | C5: 0 | D5: 0 | E5: =RZIS_s!D37/1000 -> 13229 | F5: 0 | G5: =B5+D5+C5+E5+F5 -> 13229 | H5: =RZIS_s!D38/1000 -> 25316 | I5: =G5+H5 -> 38545
A6: Pozostałe całkowite dochody za rok obrotowy (netto) | B6: 0 | C6: 0 | D6: 0 | E6: 0 | F6: 604 | G6: =B6+D6+C6+E6+F6 -> 604 | H6: 672 | I6: =G6+H6 -> 1276
A7: Suma całkowitych dochodów | B7: =B5+B6 -> 0 | C7: =C5+C6 -> 0 | D7: =D5+D6 -> 0 | E7: =E5+E6 -> 13229 | F7: =F5+F6 -> 604 | G7: =G5+G6 -> 13833 | H7: =H5+H6 -> 25988 | I7: =G7+H7 -> 39821
A8: Przejęcie jednostek gospodarczych | B8: 0 | C8: 0 | D8: 0 | E8: 0 | F8: 0 | G8: 0 | H8: 5874 | I8: =G8+H8 -> 5874
A9: Transakcja z udziałowcami mniejszościowymi | B9: 0 | C9: 0 | D9: 0 | E9: -1476 | F9: 0 | G9: =E9 -> -1476 | H9: 1476 | I9: =G9+H9 -> 0
A10: Nabycie jednostki zależnej | B10: 0 | C10: 0 | D10: 0 | E10: 0 | F10: 0 | G10: 0 | H10: 0 | I10: =G10+H10 -> 0
A11: Kapitał rezerwowy na program opcyjny | B11: 0 | C11: 0 | D11: 480 | E11: 0 | F11: 0 | G11: =D11 -> 480 | H11: 0 | I11: =G11+H11 -> 480
A12: Wypłata dywidendy | B12: 0 | C12: 0 | D12: 0 | E12: -3954 | F12: 0 | G12: =B12+D12+C12+E12+F12 -> -3954 | H12: 0 | I12: =G12+H12 -> -3954
A13: Zmiana kapitałów własnych | B13: =SUM(B7:B12) -> 0 | C13: =SUM(C7:C12) -> 0 | D13: =SUM(D7:D12) -> 480 | E13: =SUM(E7:E12) -> 7799 | F13: =SUM(F7:F12) -> 604 | G13: =SUM(G7:G12) -> 8883 | H13: =SUM(H7:H12) -> 33338 | I13: =G13+H13 -> 42221
A14: Stan na 31 grudnia 2022 roku | B14: =B4+B13 -> 3707 | C14: =C4+C13 -> 38412 | D14: =D4+D13 -> 737 | E14: =E4+E13 -> 98490 | F14: =F4+F13 -> 537 | G14: =G4+G13 -> 141883 | H14: =H4+H13 -> 115794 | I14: =I4+I13 -> 257677
A16: Stan na 1 stycznia 2023 roku ( z poprzedniego sprawozdania) | B16: =B14 -> 3707 | C16: =C14 -> 38412 | D16: =D14 -> 737 | E16: =E14 -> 98490 | F16: =F14 -> 537 | G16: =B16+D16+C16+E16+F16 -> 141883 | H16: =H14 -> 115794 | I16: =G16+H16 -> 257677
A17: Przekształcenia | E17: =96-74858 -> -74762 | G17: =E17 -> -74762 | H17: -439 | I17: =G17+H17 -> -75201
A18: Stan na 1 stycznia 2023 roku (po przekształceniach) | B18: =B16+B17 -> 3707 | C18: =C16+C17 -> 38412 | D18: =D16+D17 -> 737 | E18: =E16+E17 -> 23728 | F18: =F16+F17 -> 537 | G18: =G16+G17 -> 67121 | H18: =H16+H17 -> 115355 | I18: =G18+H18 -> 182476
A19: Zysk netto za rok obrotowy | B19: 0 | C19: 0 | D19: 0 | E19: =RZIS_s!C37/1000 -> 3532 | F19: 0 | G19: =B19+D19+C19+E19+F19 -> 3532 | H19: =RZIS_s!C38/1000 -> 17353 | I19: =G19+H19 -> 20885
A20: Pozostałe całkowite dochody za rok obrotowy (netto) | B20: 0 | C20: 0 | D20: 0 | E20: 0 | F20: -3569 | G20: =B20+D20+C20+E20+F20 -> -3569 | H20: -3500 | I20: =G20+H20 -> -7069
A21: Suma całkowitych dochodów | B21: =B19+B20 -> 0 | C21: =C19+C20 -> 0 | D21: =D19+D20 -> 0 | E21: =E19+E20 -> 3532 | F21: =F19+F20 -> -3569 | G21: =G19+G20 -> -37 | H21: =H19+H20 -> 13853 | I21: =G21+H21 -> 13816
A22: Przejęcie jednostek gospodarczych | B22: 0 | C22: 0 | D22: 0 | E22: 0 | F22: 0 | G22: 0 | H22: 0 | I22: =G22+H22 -> 0
A23: Transakcja z udziałowcami mniejszościowymi | B23: 0 | C23: 0 | D23: 0 | E23: =545-488-129+28971 -> 28899 | F23: 0 | G23: =B23+D23+C23+E23+F23 -> 28899 | H23: =-56-3752 -> -3808 | I23: =G23+H23 -> 25091
A24: Kapitał rezerwowy na program opcyjny | B24: 0 | C24: 0 | D24: 516 | E24: 0 | F24: 0 | G24: =B24+D24+C24+E24+F24 -> 516 | H24: 0 | I24: =G24+H24 -> 516
A25: Wypłata dywidendy | B25: 0 | C25: 0 | D25: 0 | E25: -12355 | F25: 0 | G25: =B25+D25+C25+E25+F25 -> -12355 | H25: 0 | I25: =G25+H25 -> -12355
A26: Zmiana kapitałów własnych | B26: =B21+B22+B23+B24+B25 -> 0 | C26: =C21+C22+C23+C24+C25 -> 0 | D26: =D21+D22+D23+D24+D25 -> 516 | E26: =E21+E22+E23+E24+E25 -> 20076 | F26: =F21+F22+F23+F24+F25 -> -3569 | G26: =G21+G22+G23+G24+G25 -> 17023 | H26: =H21+H22+H23+H24+H25 -> 10045 | I26: =I21+I22+I23+I24+I25 -> 27068
A27: Stan na 31 grudnia 2023 roku | B27: =B18+B26 -> 3707 | C27: =C18+C26 -> 38412 | D27: =D18+D26 -> 1253 | E27: =E18+E26 -> 43804 | F27: =F18+F26 -> -3032 | G27: =G18+G26 -> 84144 | H27: =H18+H26 -> 125400 | I27: =I18+I26 -> 209544

Sheet Bilans_j
A1: JEDNOSTKOWE SPRAWOZDANIE FINANSOWE AILLERON SA ZA 2023 ROK ZAKOŃCZONY 31/12/2023
A2: SPORZĄDZONE WEDŁUG MIĘDZYNARODOWYCH STANDARDÓW SPRAWOZDAWCZOŚCI FINANSOWEJ
A3: WSZYSTKIE KWOTY PODANO W TYSIĄCACH ZŁOTYCH POLSKICH (TYS. PLN), O ILE NIE WSKAZANO INACZEJ
A4: JEDNOSTKOWE SPRAWOZDANIE Z SYTUACJI FINANSOWEJ NA DZIEŃ 31.12.2023 ROKU
A5: AKTYWA | B5: nota | C5: tys. PLN
C6: Stan na 31/12/2023 | D6: Stan na 31/12/2022
A8: AKTYWA TRWAŁE | C8: =SUM(C9:C14) -> 98969 | D8: =SUM(D9:D14) -> 76126
A9: Rzeczowe aktywa trwałe | B9: 15 | C9: 20147 | D9: 11748
A10: Pozostałe aktywa niematerialne | B10: 16 | C10: 31676 | D10: 25236
A11: Inwestycje w jednostkach zależnych | B11: 18 | C11: 30693 | D11: 31205
A12: Aktywa z tytułu podatku odroczonego | B12: 10
A13: Należności z tytułu leasingu finansowego | B13: 17 | C13: 16254 | D13: 7660
A14: Pozostałe aktywa | B14: 20 | C14: 199 | D14: 277
A15: AKTYWA OBROTOWE | C15: =SUM(C16:C24) -> 20086 | D15: =SUM(D16:D24) -> 39892
A16: Zapasy | B16: 21 | C16: 7 | D16: 59
A17: Należności z tytułu dostaw i usług | B17: 22 | C17: 11891 | D17: 11633
A18: Należności krótkoterminowe pozostałe | C18: 2107 | D18: 1526
A19: Należności z tytułu leasingu finansowego | B19: 17 | C19: 2272 | D19: 2908
A20: Aktywa kontraktowe | B20: 6.23 | C20: 859 | D20: 4227
A21: Pozostałe aktywa finansowe | B21: 19 | C21: 0 | D21: 1705
A22: Należności z tytułu bieżącego podatku dochodowego
A23: Należności z tytułu innych podatków niż podatek dochodowy | B23: 10 | C23: 758 | D23: 943
A24: Środki pieniężne i ich ekwiwalenty | B24: 36 | C24: 2192 | D24: 16891
A25: Grupa aktywów przeznaczonych do zbycia | B25: 12
A26: AKTYWA RAZEM | C26: =C8+C15 -> 119055 | D26: =D8+D15+D25 -> 116018
A29: JEDNOSTKOWE SPRAWOZDANIE Z SYTUACJI FINANSOWEJ NA DZIEŃ 31.12.2023 ROKU -C.D.
A30: PASYWA | B30: nota | C30: tys. PLN
C31: =C6 -> Stan na 31/12/2023 | D31: =D6 -> Stan na 31/12/2022
A32: KAPITAŁ WŁASNY | C32: =SUM(C33:C36) -> 48180 | D32: =SUM(D33:D36) -> 75163
A33: Kapitał akcyjny | B33: 24 | C33: 3707 | D33: 3707
A34: Kapitał rezerwowy | C34: 1253 | D34: 737
A35: Nadwyżka ze sprzedaży akcji | B35: 24 | C35: 38412 | D35: 38412
A36: Zyski zatrzymane | B36: 25 | C36: 4808 | D36: 32307
A37: ZOBOWIĄZANIA | C37: =C38+C43 -> 70875 | D37: =D38+D43+D52 -> 40855
A38: Zobowiązania długoterminowe | C38: =SUM(C39:C42) -> 34247 | D38: =SUM(D39:D42) -> 16625
A39: Długoterminowe zobowiązania leasingowe | B39: 27 | C39: 33450 | D39: 16013
A40: Rezerwa na świadczenia emerytalne i podobne | B40: 28 | C40: 119 | D40: 124
A41: Inne rezerwy długoterminowe
A42: Rezerwa z tytułu odroczonego podatku dochodowego | B42: 10 | C42: 678 | D42: 488
A43: Zobowiązania krótkoterminowe | C43: =SUM(C44:C51) -> 36628 | D43: =SUM(D44:D51) -> 24230
A44: Zobowiązania z tytułu dostaw i usług | B44: 30 | C44: 9563 | D44: 10557
A45: Krótkoterminowe zobowiązania z tyt. otrzymanych kredytów | B45: 26 | C45: 15801 | D45: 52
A46: Krótkoterminowe zobowiązania leasingowe | B46: 27 | C46: 5180 | D46: 6668
A47: Zobowiązania z tytułu bieżącego podatku dochodowego | B47: 10 | C47: 4 | D47: 3
A48: Zobowiązania z tytułu innych podatków niż podatek dochodowy | B48: 10 | C48: 1406 | D48: 1781
A49: Rezerwy na świadczenia emerytalne i podobne | B49: 28 | C49: 1122 | D49: 1352
A50: Przychody przyszłych okresów | B50: 32 | C50: 152 | D50: 322
A51: Pozostałe zobowiązania | B51: 29 | C51: 3400 | D51: 3495
A52: Zobowiązania związane z grupą aktywów przeznaczonych do zbycia | B52: 12
A53: PASYWA RAZEM | C53: =C32+C37 -> 119055 | D53: =D32+D37 -> 116018

Sheet RZIS_j
A1: JEDNOSTKOWY RACHUNEK ZYSKÓW I STRAT ZA OKRES 01.01.2023 - 31.12.2023
A2: JEDNOSTKOWY RACHUNEK ZYSKÓW I STRAT (Wariant kalkulacyjny) | B2: nota | C2: tys.PLN
C3: Okres zakończony 31/12/2023 | D3: Okres zakończony 31/12/2022
A4: Działalność kontynuowana
A5: PRZYCHODY ZE SPRZEDAŻY | B5: 5, 6 | C5: =C6+C7 -> 73975 | D5: 67895
A6: Przychody ze sprzedaży usług | C6: 73963 | E6: do ukrycia
A7: Przychody ze sprzedaży towarów i materiałów | C7: 12
A8: Koszt własny sprzedaży (koszt sprzedanych produktów, usług, towarów i materiałów) | C8: =C9 -> 54703 | D8: 47306
A9: Koszt sprzedanych usług | C9: 54703 | E9: do ukrycia
A10: Koszt sprzedanych towarów i materiałów
A11: ZYSK (STRATA) BRUTTO ZE SPRZEDAŻY | C11: =C5-C8 -> 19272 | D11: =D5-D8 -> 20589
A12: Koszty sprzedaży | C12: 10843 | D12: 11001
A13: Koszty ogólnego zarządu | C13: 15418 | D13: 12793
A14: Pozostałe przychody operacyjne | B14: 9 | C14: 583 | D14: 815
A15: Pozostałe koszty operacyjne | B15: 9 | C15: 5599 | D15: 2436
A16: ZYSK (STRATA) NA DZIAŁALNOŚCI OPERACYJNEJ | C16: =C11-C12-C13+C14-C15 -> -12005 | D16: =D11-D12-D13+D14-D15 -> -4826
A17: Przychody finansowe | B17: 7 | C17: 1144 | D17: 1060
A18: Koszty finansowe | B18: 8 | C18: 4009 | D18: 1266
A19: Zysk (strata) przed opodatkowaniem | C19: =C16+C17-C18 -> -14870 | D19: =D16+D17-D18 -> -5032
A21: Podatek dochodowy | B21: 10 | C21: =C22+C23 -> 273 | D21: -54
A22: Część bieżąca | C22: =26+57 -> 83 | E22: do ukrycia
A23: Część odroczona | C23: 190
A24: Zysk (strata) netto z działalności kontynuowanej | C24: =C19-C21 -> -15143 | D24: =D19-D21 -> -4978
A25: Działalność zaniechana | B25: 11
A26: Przychody ze sprzedaży | C26: 0 | D26: 3359
A27: Koszty operacyjne ogółem | C27: 0 | D27: 5759
A28: Zysk (strata) z działalności operacyjnej | C28: =C26-C27 -> 0 | D28: =D26-D27 -> -2400
A29: Podatek dochodowy | C29: =C28*0.19 -> 0 | D29: -456
A30: Zysk (strata) netto z działalności zaniechanej | B30: 11 | C30: =C28-C29 -> 0 | D30: =D28-D29 -> -1944
A31: ZYSK (STRATA) NETTO RAZEM | C31: =C24+C30 -> -15143 | D31: =D24+D30 -> -6922
A34: JEDNOSTKOWY RACHUNEK ZYSKÓW I STRAT ZA OKRES 01.01.2023 - 31.12.2023 - C.D.
A35: JEDNOSTKOWY RACHUNEK ZYSKÓW I STRAT (Wariant kalkulacyjny) | B35: nota | C35: tys. PLN
C36: =C3 -> Okres zakończony 31/12/2023 | D36: =D3 -> Okres zakończony 31/12/2022
A37: Zysk (strata) netto: | C37: =C31 -> -15143 | D37: =D31 -> -6922
A38: Akcjonariuszom podmiotu dominującego | C38: =C31 -> -15143 | D38: =D31 -> -6922
A39: Zysk (strata) netto na jedną akcję zwykłą | B39: 14
A40: (w zł/gr na jedną akcję):
A41: z działalności kontynuowanej:
A42: - podstawowy | C42: =C24/12355504*1000 -> -1.2256076 | D42: =D24/12355504*1000 -> -0.40289736
A43: - rozwodniony | C43: =C42 -> -1.2256076 | D43: =D42 -> -0.40289736
A44: z działalności kontynuowanej i zaniechanej:
A45: - podstawowy | C45: =C37/12355504*1000 -> -1.2256076 | D45: =D37/12355504*1000 -> -0.56023615
A46: - rozwodniony | C46: =C45 -> -1.2256076 | D46: =D45 -> -0.56023615

Sheet SSCD_j
A1: JEDNOSTKOWE SPRAWOZDANIE Z CAŁKOWITYCH DOCHODÓW ZA OKRES 01.01.2023 - 31.12.2023
A2: JEDNOSTKOWE SPRAWOZDANIE Z CAŁKOWITYCH DOCHODÓW | C2: tys. PLN
C3: Okres zakończony 31/12/2023 | D3: Okres zakończony 31/12/2022
A4: ZYSK (STRATA) NETTO | C4: =RZIS_j!C37*1000 -> -15143000 | D4: =RZIS_j!D37*1000 -> -6922000
A5: Pozostałe dochody całkowite | C5: 0 | D5: 0
A6: Różnice kursowe z przeliczenia jednostek zagranicznych | C6: 0 | D6: 0
A7: POZOSTAŁE CAŁKOWITE DOCHODY NETTO | C7: =C6 -> 0 | D7: =D6 -> 0
A8: SUMA CAŁKOWITYCH DOCHODÓW | C8: =C4+C7 -> -15143000 | D8: =D4+D7 -> -6922000

Sheet CF_j
A1: JEDNOSTKOWE SPRAWOZDANIE Z PRZEPŁYWÓW PIENIĘŻNYCH ZA OKRES OD 1 STYCZNIA 2023 DO 31 GRUDNIA 2023 [METODA POŚREDNIA]
B2: tys. PLN
B3: Okres zakończony 31/12/2023 | C3: Okres zakończony 31/12/2022
A4: Przepływy pieniężne z działalności operacyjnej
A5: Zysk za rok obrotowy | B5: =RZIS_j!C31 -> -15143 | C5: =RZIS_j!D31 -> -6922
A6: Korekty: | B6: =SUM(B7:B26) -> 10590 | C6: =SUM(C7:C26) -> 12212
A7: Koszt podatku dochodowego ujęty w wyniku | B7: =RZIS_j!C21+RZIS_j!C29 -> 273 | C7: =RZIS_j!D21+RZIS_j!D29 -> -510
A8: Koszty finansowe ujęte w wyniku | B8: 1975 | C8: 678
A9: Przychody z inwestycji ujęte w wyniku | B9: -752 | C9: -355
A10: Zysk/Strata ze zbycia/zmiany przeznaczenia składników rzeczowych aktywów trwałych | B10: 718 | C10: 1638
A11: (Zysk) / strata netto z wyceny aktywów/zobowiązań finansowych wycenianych w skorygowanej cenie nabycia | B11: 2001 | C11: 517
A12: Zysk/Strata z tytułu odwrócenia odpisu/utraty wartości należności z tytułu dostaw i usług | B12: =6158-916 -> 5242 | C12: -190
A13: Amortyzacja i umorzenie aktywów trwałych | B13: 6224 | C13: 5847
A14: (Dodatnie) / ujemne różnice kursowe netto | B14: -1281 | C14: 538
A16: Zmiany w kapitale obrotowym:
A17: (Zwiększenie) / zmniejszenie salda należności z tytułu dostaw i usług oraz pozostałych należności | B17: -5896 | C17: 1614
A18: (Zwiększenie) / zmniejszenie aktywów kontraktowych | B18: 0 | C18: 0
A19: (Zwiększenie) / zmniejszenie stanu zapasów | B19: 52 | C19: 170
A20: (Zwiększenie) / zmniejszenie pozostałych aktywów | B20: 3446 | C20: -423
A21: Zmniejszenie salda zobowiązań z tytułu dostaw i usług oraz pozostałych zobowiązań | B21: -1369 | C21: 2016
A22: Zmniejszenie salda zobowiązań kontraktowych | B22: =-907+907 -> 0 | C22: 0
A23: Zwiększenie / (zmniejszenie) rezerw | B23: -235 | C23: 134
A24: Zwiększenie / (zmniejszenie) przychodów przyszłych okresów | B24: -170 | C24: -322
A25: Zwiększenie / (zmniejszenie) pozostałych zobowiązań | B25: -154 | C25: 379
A26: Korekta z tyt. programu motywacyjnego | B26: 516 | C26: 481
A27: Środki pieniężne wygenerowane na działalności operacyjnej | B27: =B5+B6 -> -4553 | C27: =C5+C6 -> 5290
A28: Zapłacone odsetki | B28: -1565 | C28: -824
A29: Zapłacony podatek dochodowy | B29: -24 | C29: 731
A30: ŚRODKI PIENIĘŻNE NETTO Z DZIAŁALNOŚCI OPERACYJNEJ | B30: =SUM(B27:B29) -> -6142 | C30: =SUM(C27:C29) -> 5197
A31: JEDNOSTKOWE SPRAWOZDANIE Z PRZEPŁYWÓW PIENIĘŻNYCH ZA OKRES OD 1 STYCZNIA 2023 DO 31 GRUDNIA 2023 [METODA POŚREDNIA] - C.D
B32: tys.PLN
B33: =B3 -> Okres zakończony 31/12/2023 | C33: =C3 -> Okres zakończony 31/12/2022
A35: Przepływy pieniężne z działalności inwestycyjnej
A36: Wpływy ze sprzedaży aktywów finansowych
A37: Spłata należności leasingowych | B37: 2151 | C37: 2803
A38: Odsetki otrzymane od subleasingu | B38: 752 | C38: 355
A39: Pożyczki udzielone jednostkom powiązanym | B39: =270-268 -> 2 | C39: -825
A40: Spłata pożyczek wraz z odsetkami od jednostek pozostałych | B40: 0 | C40: 10
A41: Pożyczki udzielone pozostałym podmiotom
A42: Płatności za rzeczowe aktywa trwałe | B42: -791 | C42: -459
A43: Płatności za aktywa niematerialne | B43: -9080 | C43: -15722
A44: Dywidendy otrzymane
A45: Wpływy z tytułu zbycia składników rzeczowych aktywów trwałych | B45: 475 | C45: 106
A46: Wpływy netto z tytułu sprzedaży jednostek zależnych
A47: ŚRODKI PIENIĘŻNE NETTO (WYDANE) / WYGENEROWANE W ZWIĄZKU Z DZIAŁALNOŚCIĄ INWESTYCYJNĄ | B47: =SUM(B36:B46) -> -6491 | C47: =SUM(C36:C46) -> -13732
A48: Przepływy pieniężne z działalności finansowej
A49: Dywidendy wypłacone | B49: -12356 | C49: -3954
A50: Spłata rat kredytowych i pożyczek | C50: -4
A51: Spłata odsetek od kredytu | B51: -341
A52: Spłata odsetek od pożyczek otrzymanych od jednostek zależnych | B52: 0 | C52: 0
A53: Zaciągnięcie kredytu krótkoterminowego | B53: 15680 | C53: 0
A54: Spłata zadłużenia z tyt. umów leasingu | B54: -5049 | C54: -5171
A55: ŚRODKI PIENIĘŻNE NETTO WYKORZYSTANE W DZIAŁALNOŚCI FINANSOWEJ | B55: =SUM(B49:B54) -> -2066 | C55: =SUM(C49:C54) -> -9129
A56: Zwiększenie netto środków pieniężnych i ich ekwiwalentów | B56: =B30+B55+B47 -> -14699 | C56: =C30+C55+C47 -> -17664
A57: Środki pieniężne i ich ekwiwalenty na początek okresu sprawozdawczego | B57: =C59 -> 16891 | C57: 34555
A58: Zmiana stanu innych środków pieniężnych
A59: ŚRODKI PIENIĘŻNE I ICH EKWIWALENTY NA KONIEC OKRESU SPRAWOZDAWCZEGO | B59: =B56+B57+B58 -> 2192 | C59: =C56+C57 -> 16891

Sheet ZZKW_j
A1: JEDNOSTKOWE SPRAWOZDANIE ZE ZMIAN W KAPITALE WŁASNYM ZA OKRES SPRAWOZDAWCZY KOŃCZĄCY SIĘ 31 GRUDNIA 2023 ROKU
B2: tys. PLN
B3: Kapitał podstawowy | C3: Kapitał rezerwowy | D3: Nadwyżka ze sprzedaży akcji | E3: Zyski zatrzymane | F3: Razem
A4: Stan na 1 stycznia 2022 roku | B4: 3707 | C4: 257 | D4: 38412 | E4: 43182 | F4: =SUM(B4:E4) -> 85558
A5: Zysk netto za rok obrotowy | B5: 0 | C5: 0 | D5: 0 | E5: =RZIS_j!D31 -> -6922 | F5: =SUM(B5:E5) -> -6922
A6: Pozostałe całkowite dochody za rok obrotowy (netto) | B6: 0 | C6: 0 | D6: 0 | E6: - | F6: =SUM(B6:E6) -> 0
A7: Suma całkowitych dochodów | B7: =SUM(B5:B6) -> 0 | C7: =SUM(C5:C6) -> 0 | D7: =SUM(D5:D6) -> 0 | E7: =SUM(E5:E6) -> -6922 | F7: =SUM(B7:E7) -> -6922
A8: Kapitał rezerwowy na program opcyjny | B8: 0 | C8: 480 | D8: 0 | E8: 0 | F8: =SUM(B8:E8) -> 480
A9: Wypłata dywidendy | B9: 0 | C9: 0 | D9: 0 | E9: -3953 | F9: =SUM(B9:E9) -> -3953
A10: Zmiana kapitałów własnych | B10: =B7+B8+B9 -> 0 | C10: =C7+C8+C9 -> 480 | D10: =D7+D8+D9 -> 0 | E10: =E7+E8+E9 -> -10875 | F10: =SUM(B10:E10) -> -10395
A11: Stan na 31 grudnia 2022 roku | B11: =B4+B10 -> 3707 | C11: =C4+C10 -> 737 | D11: =D4+D10 -> 38412 | E11: =E4+E10 -> 32307 | F11: =F4+F10 -> 75163
A13: Stan na 1 stycznia 2023 roku | B13: =B11 -> 3707 | C13: =C11 -> 737 | D13: =D11 -> 38412 | E13: =E11 -> 32307 | F13: =SUM(B13:E13) -> 75163
A14: Zysk netto za rok obrotowy | B14: 0 | C14: 0 | D14: 0 | E14: =RZIS_j!C31 -> -15143 | F14: =SUM(B14:E14) -> -15143
A15: Pozostałe całkowite dochody za rok obrotowy (netto) | B15: 0 | C15: 0 | D15: 0 | E15: 0 | F15: =SUM(B15:E15) -> 0
A16: Suma całkowitych dochodów | B16: =SUM(B14:B15) -> 0 | C16: =SUM(C14:C15) -> 0 | D16: =SUM(D14:D15) -> 0 | E16: =SUM(E14:E15) -> -15143 | F16: =SUM(B16:E16) -> -15143
A17: Kapitał rezerwowy na program opcyjny | B17: 0 | C17: 516 | D17: 0 | E17: 0 | F17: =SUM(B17:E17) -> 516
A18: Wypłata dywidendy | B18: 0 | C18: 0 | D18: 0 | E18: -12356 | F18: =SUM(B18:E18) -> -12356
A19: Zmiana kapitałów własnych | B19: =SUM(B16:B18) -> 0 | C19: =SUM(C16:C18) -> 516 | D19: =SUM(D16:D18) -> 0 | E19: =SUM(E16:E18) -> -27499 | F19: =SUM(B19:E19) -> -26983
A20: Stan na 31 grudnia 2023 roku | B20: =B13+B19 -> 3707 | C20: =C13+C19 -> 1253 | D20: =D13+D19 -> 38412 | E20: =E13+E19 -> 4808 | F20: =F13+F19 -> 48180
