Workbook
Name _R1_Nieodlaczne: #REF!
Name _R2: #REF!
Name _R2_Kontrolwewn: #REF!
Name _R3_Analityczne: #REF!
Name aa: [1]SF!$C$201:$D$203,[1]SF!$C$205:$D$207,[1]SF!$C$209:$D$210,[1]SF!$C$213:$D$215,[1]SF!$C$217:$D$219,[1]SF!$C$222:$D$228,[1]SF!$C$230:$D$234,[1]SF!$C$237:$D$238,[1]SF!$C$240:$D$241
Name aaa: #REF!
Name adres: [2]WSTĘP!$IU$5
Name ala: [3]WSTĘP!$IU$9
Name B.O.: [2]WSTĘP!$IU$13
Name B.Z.: [2]WSTĘP!$IU$9
Name bbb: #REF!
Name COP: #REF!
Name Dane_kalkulacyjny: [4]SF!$C$201:$D$203,[4]SF!$C$205:$D$207,[4]SF!$C$209:$D$210,[4]SF!$C$213:$D$215,[4]SF!$C$217:$D$219,[4]SF!$C$222:$D$228,[4]SF!$C$230:$D$234,[4]SF!$C$237:$D$238,[4]SF!$C$240:$D$241
Name Dane_porównawczy: [4]SF!$C$147:$D$151,[4]SF!$C$153:$D$161,[4]SF!$C$164:$D$166,[4]SF!$C$168:$D$170,[4]SF!$C$173:$D$179,[4]SF!$C$181:$D$185,[4]SF!$C$188:$D$189,[4]SF!$C$191:$D$192
Name Dane_RZiS_1.Rodz.: [5]SF!$C$105:$D$108,[5]SF!$C$110:$D$117,[5]SF!$C$120:$D$122,[5]SF!$C$124:$D$125,[5]SF!$C$128:$D$131,[5]SF!$C$133:$D$136,[5]SF!$C$138:$D$139,[5]SF!$C$142:$D$143
Name Dane_RZiS_2.Kalk.: [5]SF!$C$151,[5]SF!$C$151:$D$152,[5]SF!$C$154:$D$155,[5]SF!$C$157:$D$158,[5]SF!$C$161:$D$163,[5]SF!$C$165:$D$166,[5]SF!$C$169:$D$172,[5]SF!$C$174:$D$177,[5]SF!$C$179:$D$180,[5]SF!$C$183:$D$184
Name DataZatw: [6]Wstęp!$CI$88
Name DB: [7]P1!$AX$126
Name FromaPrawna: [2]WSTĘP!$IU$3
Name kodmiejscowość: [2]WSTĘP!$IU$6
Name KonOkrSpraw: [6]Wstęp!$CI$73
Name Korekty_Aktywa: [5]SF!$F$11:$U$15,[5]SF!$F$17:$U$23,[5]SF!$F$25:$U$29,[5]SF!$F$32:$U$36,[5]SF!$F$38:$T$42,[5]SF!$U$38,[5]SF!$U$40:$U$42,[5]SF!$F$44:$U$45,[5]SF!$F$47:$U$49,[5]SF!$F$51:$U$52
Name Korekty_Pasywa: [5]SF!$F$60:$U$61,[5]SF!$F$63:$U$69,[5]SF!$F$71:$U$72,[5]SF!$F$75:$U$75,[5]SF!$F$77:$U$78,[5]SF!$F$80:$U$82,[5]SF!$F$85:$T$94,[5]SF!$U$85:$U$89,[5]SF!$U$91:$U$94,[5]SF!$F$96:$U$97
Name Korekty_RZiS_1.Rodz.: [5]SF!$F$105:$U$108,[5]SF!$F$110:$U$117,[5]SF!$F$120:$U$122,[5]SF!$F$124:$U$125,[5]SF!$F$128:$U$131,[5]SF!$F$133:$U$136,[5]SF!$F$138:$U$139,[5]SF!$F$142:$T$143,[5]SF!$U$143
Name Korekty_RZiS_2.Kalk.: [5]SF!$F$151:$U$152,[5]SF!$F$154:$U$155,[5]SF!$F$157:$U$158,[5]SF!$F$161:$U$163,[5]SF!$F$165:$U$166,[5]SF!$F$169:$U$172,[5]SF!$F$174:$U$177,[5]SF!$F$179:$U$180,[5]SF!$F$183:$T$184,[5]SF!$U$184
Name LDB: [7]P1!$AX$123
Name LOK: [7]P1!$AX$124
Name LOKW: [7]P1!$AX$125
Name MiejsceData: [2]WSTĘP!$IU$78
Name miejscowość: [2]WSTĘP!$IU$8
Name n: #REF!
Name NazwaJednostki: [6]Wstęp!$Q$15
Name OdDo: [6]Wstęp!$CI$63
Name OdDoPoprz: [6]Wstęp!$CI$64
Name OK: [7]P1!$AX$127
Name okresbieżący: [2]WSTĘP!$IU$16
Name okrespoprzedni: [2]WSTĘP!$IU$18
Name Pain: [7]P1!$AX$134
Name PoprzedniB.Z.: [2]WSTĘP!$IU$15
Name PoziomZaokraglen: [6]Wstęp!$CI$117
Name RZISjednoKRSwzor: [6]Wstęp!$Q$15
Name SiedzibaMiasto: [6]Wstęp!$V$19
Name SkrotWaluty: [6]Wstęp!$CI$108
Name Tabela_1.1: [7]SF!$B$5:$AK$83
Name Tabela_1.2: [7]SF!$B$85:$AK$139
Name Tabela_2.1: [7]SF!$B$142:$AK$194
Name Tabela_2.2: [7]SF!$B$197:$AK$244
Name WalutaSpraw: [6]Wstęp!$CI$107

Sheet Bilans_skons
A1: SKONSOLIDOWANE SPRAWOZDANIE Z SYTUACJI FINANSOWEJ NA DZIEŃ 31.12.2018 ROKU
A2: AKTYWA | B2: nota | C2: tys. PLN
C3: Stan na 31/12/2018 | D3: Stan na 31/12/2017
A5: AKTYWA TRWAŁE | C5: =SUM(C6:C13) -> 57119 | D5: =SUM(D6:D13) -> 62545
A6: Rzeczowe aktywa trwałe | B6: 15 | C6: 11668 | D6: 13933
A7: Nieruchomości inwestycyjne | B7: 16 | C7: 0 | D7: 0
A8: Wartość firmy | B8: 17 | C8: 38379 | D8: 36747
A9: Pozostałe aktywa niematerialne | B9: 18 | C9: 5636 | D9: 6302
A10: Inwestycje w jednostkach zależnych | B10: 19, 20 | C10: 129 | D10: 3473
A11: Aktywa z tytułu podatku odroczonego | B11: 10 | C11: 1307 | D11: 2090
A12: Pozostałe aktywa finansowe | B12: 22 | C12: 0 | D12: 0
A13: Pozostałe aktywa | B13: 23 | C13: 0 | D13: 0
A14: AKTYWA OBROTOWE | C14: =SUM(C15:C22) -> 79851 | D14: =SUM(D15:D22) -> 65114
A15: Zapasy | B15: 24 | C15: 8580 | D15: 6858
A16: Należności z tytułu dostaw i usług oraz pozostałe należności | B16: 25 | C16: 50713 | D16: 38327
A17: Należności z tytułu kontraktów budowlanych i podobne | B17: 6.27 | C17: 11401 | D17: 10657
A18: Pozostałe aktywa finansowe | B18: 22 | C18: 962 | D18: 419
A19: Bieżące aktywa podatkowe | B19: 10 | C19: 2672 | D19: 1774
A20: Pozostałe aktywa | B20: 23 | C20: 0 | D20: 0
A21: Środki pieniężne i ich ekwiwalenty | B21: 46 | C21: 5523 | D21: 7079
A22: Aktywa klasyfikowane jako przeznaczone do zbycia | B22: 22 | C22: 0 | D22: 0
A23: AKTYWA RAZEM | C23: =C5+C14 -> 136970 | D23: =D5+D14 -> 127659
A26: SKONSOLIDOWANE SPRAWOZDANIE Z SYTUACJI FINANSOWEJ NA DZIEŃ 31.12.2018 ROKU -C.D.
A28: PASYWA | B28: nota | C28: tys. PLN
C29: Stan na 31/12/2018 | D29: Stan na 31/12/2017
A30: KAPITAŁ WŁASNY | C30: =SUM(C31:C36) -> 86731 | D30: =SUM(D31:D36) -> 81432
A31: Kapitał akcyjny | B31: 28 | C31: 3707 | D31: 3707
A32: Nadwyżka ze sprzedaży akcji | B32: 28 | C32: 38412 | D32: 38412
A33: Zyski zatrzymane | B33: 30 | C33: 44612 | D33: 39313
A34: Wynik wycen odnoszonych bezpośrednio poprzez kapitał własny | C34: 0 | D34: 0
A35: Kwoty ujęte bezpośrednio w kapitale, związane z aktywami klasyfikowanymi jako przeznaczone do zbycia | C35: 0 | D35: 0
A36: Kapitały przypadajace na jednostki zalezne dające współkontrole nad spółką | C36: 0 | D36: 0
A37: ZOBOWIĄZANIA | C37: =C38+C48 -> 50239 | D37: =D38+D48 -> 46227
A38: Zobowiązania długoterminowe | C38: =SUM(C39:C47) -> 12954 | D38: =SUM(D39:D47) -> 20030
A39: Długoterminowe zobowiązania z tyt. obligacji i umowy leasingu | B39: 34, 38 | C39: 794 | D39: 1115
A40: Długoterminowe zobowiązania finansowe z tyt kredytów | B40: 32 | C40: 4657 | D40: 7561
A41: Pozostałe zobowiązania długoterminowe | B41: 36 | C41: 4699 | D41: 7302
A42: Rezerwa na świadczenia emerytalne i podobne | B42: 35.39 | C42: 1300 | D42: 1116
A43: Rezerwy z tytułu napraw gwarancyjnych | C43: 20 | D43: 21
A44: Rezerwy z tytułu opcji na akcje | C44: 0 | D44: 0
...

Sheet RZIS_s
A1: SKONSOLIDOWANY RACHUNEK ZYSKÓW I STRAT ORAZ SPRAWOZDANIE Z POZOSTAŁYCH CAŁKOWITYCH DOCHODÓW ZA OKRES 01.01.2018 - 31.12.2018
A3: SKONSOLIDOWANY RACHUNEK ZYSKÓW I STRAT (Wariant kalkulacyjny) | B3: nota | C3: tys.PLN
C4: Okres zakończony 31/12/2018 | D4: Okres zakończony 31/12/2017
A5: Działalność kontynuowana
A6: PRZYCHODY ZE SPRZEDAŻY | B6: 5, 6 | C6: =SUM(C7:C9) -> 117730 | D6: =SUM(D7:D9) -> 101430
A7: Przychody ze sprzedaży wyrobów | C7: 0 | D7: 0
A8: Przychody ze sprzedaży usług | C8: 107525 | D8: 91919
A9: Przychody ze sprzedaży towarów i materiałów | C9: 10205 | D9: 9511
A10: Koszt własny sprzedaży (koszt sprzedanych produktów, usług, towarów i materiałów) | C10: =SUM(C11:C13) -> 85425 | D10: =SUM(D11:D13) -> 70608
A11: Koszt wytworzenia sprzedanych wyrobów | C11: 0 | D11: 0
A12: Koszt sprzedanych usług | C12: 76330 | D12: 62066
A13: Koszt sprzedanych towarów i materiałów | C13: 9095 | D13: 8542
A14: ZYSK (STRATA) BRUTTO ZE SPRZEDAŻY | C14: =C6-C10 -> 32305 | D14: =D6-D10 -> 30822
A15: Koszty sprzedaży | C15: 15689 | D15: 12592
A16: Koszty ogólnego zarządu | C16: 10365 | D16: 8334
A17: Pozostałe przychody operacyjne | B17: 9 | C17: 88 | D17: 58
A18: Pozostałe koszty operacyjne | B18: 9 | C18: 217 | D18: 48
A19: ZYSK (STRATA) NA DZIAŁALNOŚCI OPERACYJNEJ | C19: =C14-C15-C16+C17-C18 -> 6122 | D19: =D14-D15-D16+D17-D18 -> 9906
A20: Przychody finansowe | B20: 7 | C20: 136 | D20: 168
A21: Koszty finansowe | B21: 8 | C21: 408 | D21: 919
A22: Udział w zyskach jednostek stowarzyszonych | C22: 0 | D22: 0
A23: Zysk ze sprzedaży udziałów w jednostce stowarzyszonej | C23: 0 | D23: 0
A24: Zysk (strata) przed opodatkowaniem | C24: =C19+C20-C21 -> 5850 | D24: =D19+D20-D21 -> 9155
A26: Podatek dochodowy | B26: 10 | C26: =SUM(C27:C28) -> 839 | D26: =SUM(D27:D28) -> 8
A27: Część bieżąca | C27: 1499 | D27: 519
A28: Część odroczona | C28: -660 | D28: -511
A29: Zysk (strata) netto z działalności kontynuowanej | B29: 13 | C29: =C24-C26 -> 5011 | D29: =D24-D26 -> 9147
A30: Działalność zaniechana | B30: 11
A31: Zysk (strata) netto z działalności zaniechanej | B31: 11 | C31: 0 | D31: 0
A32: ZYSK (STRATA) NETTO | C32: =C29 -> 5011 | D32: =D29 -> 9147
A34: SKONSOLIDOWANY RACHUNEK ZYSKÓW I STRAT ORAZ SPRAWOZDANIE Z POZOSTAŁYCH CAŁKOWITYCH DOCHODÓW ZA OKRES 01.01.2018 - 31.12.2018 - C.D.
A36: SKONSOLIDOWANY RACHUNEK ZYSKÓW I STRAT (Wariant kalkulacyjny) | B36: nota | C36: tys.PLN
C37: =C4 -> Okres zakończony 31/12/2018 | D37: =D4 -> Okres zakończony 31/12/2017
A38: Zysk (strata) netto, z tego przypadający: | C38: =C32 -> 5011 | D38: =D32 -> 9147
A39: Akcjonariuszom podmiotu dominującego | C39: 5017 | D39: =D32 -> 9147
A40: Akcjonariuszom mniejszościowym | C40: -6.5 | D40: -
A41: Zysk (strata) netto na jedną akcję zwykłą | B41: 14
A42: (w zł/gr na jedną akcję):
A43: z działalności kontynuowanej:
A44: - podstawowy | C44: =C38/12355504*1000 -> 0.40556824 | D44: =D39/12355504*1000 -> 0.74031784
...

Sheet CF_skons
A1: SKONSOLIDOWANE SPRAWOZDANIE Z PRZEPŁYWÓW PIENIĘŻNYCH ZA OKRES OD 1 STYCZNIA 2018 DO 31 GRUDNIA 2018 [METODA POŚREDNIA]
B2: tys.PLN
B3: Okres zakończony 31/12/2018 | C3: Okres zakończony 31/12/2017
A4: Przepływy pieniężne z działalności operacyjnej
A5: Zysk za rok obrotowy | B5: =RZIS_s!$C$39 -> 5017 | C5: =RZIS_s!D65 -> 9147
A6: Korekty: Koszt podatku dochodowego ujęty w wyniku | B6: 839 | C6: 8
A7: Udział w zysku jednostek stowarzyszonych | B7: -7 | C7: 0
A8: Koszty finansowe ujęte w wyniku | B8: 118 | C8: 126
A9: Przychody z inwestycji ujęte w wyniku | B9: 282 | C9: 0
A10: Zysk ze zbycia składników rzeczowych aktywów trwałych | B10: -183 | C10: -17
A11: Zysk/strata z tytułu likwidacji środków trwałych | B11: 98 | C11: 16
A12: (Zysk) / strata netto z wyceny zobowiązań finansowych wycenianych w skorygowanej cenie nabycia | B12: 0 | C12: 135
A13: Zysk/strata z tytułu zmiany przeznaczenia środków trwałych | B13: 0 | C13: 0
A14: Zysk ze zbycia jednostki zależnej | B14: 0 | C14: 0
A15: Korekta konsolidacyjna wartości aktywów finansowych | B15: 0 | C15: 0
A16: Zysk/strata z tytułu zwrotu wartości inwestycji długoterminowych | B16: 0 | C16: -22
A17: Strata z tytułu utraty wartości należności z tytułu dostaw i usług | B17: 102 | C17: 586
... A22: Korekta związana z konsolidacją spółki zależnej Hoteliga International Sp. z o.o. | B22: 1762 | C22: 0
B23: =SUM(B5:B22) -> 15961 | C23: =SUM(C5:C22) -> 17611
A24: Zmiany w kapitale obrotowym:
A25: (Zwiększenie) / zmniejszenie salda należności z tytułu dostaw i usług oraz pozostałych należności | B25: -13310 | C25: -5804
A26: (Zwiększenie) / zmniejszenie należności z tytułu kontraktów budowlanych | B26: -744 | C26: -564
A27: (Zwiększenie) / zmniejszenie stanu zapasów | B27: -1723 | C27: -167
A28: (Zwiększenie) / zmniejszenie pozostałych aktywów | B28: 782 | C28: -391
A29: Zmniejszenie salda zobowiązań z tytułu dostaw i usług oraz pozostałych zobowiązań | B29: 8109 | C29: 1034
A30: Zwiększenie / (zmniejszenie) zobowiązań z tytułu kontraktów budowlanych | B30: -527 | C30: -1425
A31: Zwiększenie / (zmniejszenie) rezerw | B31: -1252 | C31: 213
A32: Zwiększenie / (zmniejszenie) przychodów przyszłych okresów | B32: 1387 | C32: 51
A33: Zwiększenie / (zmniejszenie) pozostałych zobowiązań | B33: 1078 | C33: -2102
A34: Środki pieniężne wygenerowane na działalności operacyjnej | B34: =SUM(B23:B33) -> 9761 | C34: =SUM(C23:C33) -> 8456
A35: Zapłacone odsetki | B35: -157 | C35: -790
A36: Zapłacony podatek dochodowy | B36: -1073 | C36: -180
A37: ŚRODKI PIENIĘŻNE NETTO Z DZIAŁALNOŚCI OPERACYJNEJ | B37: =SUM(B34:B36) -> 8531 | C37: =SUM(C34:C36) -> 7486
A38: SKONSOLIDOWANE SPRAWOZDANIE Z PRZEPŁYWÓW PIENIĘŻNYCH ZA OKRES OD 1 STYCZNIA 2018 DO 31 GRUDNIA 2018 [METODA POŚREDNIA] - C.D.
B39: tys.PLN
B40: =B3 -> Okres zakończony 31/12/2018 | C40: =C3 -> Okres zakończony 31/12/2017
A41: Przepływy pieniężne z działalności inwestycyjnej
A42: Płatności z tytułu nabycia aktywów finansowych | B42: -1 | C42: -3473
A43: Otrzymane odsetki od jedn. powiązanych | B43: 0 | C43: 0
A44: Pożyczki otrzymane od jednostek powiązanych | B44: 0 | C44: 0
...

Sheet ZZKW_s
A1: SKONSOLIDOWANE SPRAWOZDANIE ZE ZMIAN W KAPITALE WŁASNYM ZA OKRES SPRAWOZDAWCZY KOŃCZĄCY SIĘ 31 GRUDNIA 2018 ROKU
B2: tys.PLN
B3: Kapitał podstawowy | C3: Nadwyżka ze sprzedaży akcji | D3: Kapitał rezerwowy ogółem | E3: Kapitał rezerwowy z przeszac. Rzeczowych aktywów trwałych | F3: Kapitał rezerwowy z przeszac. Inwestycji | G3: Kapitał rezerwowy na świadczenia pracownicze rozliczane instrumentami kapitałowymi | H3: Kapitał rezerwowy na zabezpieczenia | I3: Kapitał rezerwowy z przewalutowania | J3: Nadwyżka ze sprzedaży opcji na obligacje zamienne | K3: Zyski zatrzymane | L3: Przypadające akcjonariuszom jednostki dominującej | M3: Przypadające udziałom niedającym kontroli | N3: Razem
A5: Stan na 1 stycznia 2017 roku (z poprzedniego sprawozdania) | B5: 3707 | C5: 38412 | D5: - | E5: - | F5: - | G5: - | H5: - | I5: - | J5: - | K5: 32637 | L5: 32637 | M5: - | N5: =SUM(B5:K5) -> 74756
A6: Przekształcenia | B6: - | C6: - | D6: - | E6: - | F6: - | G6: - | H6: - | I6: - | J6: - | K6: - | L6: - | M6: - | N6: -
A7: Stan na 1 stycznia 2017 roku (po przekształceniach) | B7: 3707 | C7: 38412 | D7: - | E7: - | F7: - | G7: - | H7: - | I7: - | J7: - | K7: 32637 | L7: 32637 | M7: - | N7: 74756
A8: Zysk netto za rok obrotowy | B8: - | C8: - | D8: - | E8: - | F8: - | G8: - | H8: - | I8: - | J8: - | K8: 9147 | L8: 9147 | M8: - | N8: 9147
A9: Pozostałe całkowite dochody za rok obrotowy (netto) | B9: - | C9: - | D9: - | E9: - | F9: - | G9: - | H9: - | I9: - | J9: - | K9: - | L9: - | M9: - | N9: -
A10: Suma całkowitych dochodów | B10: - | C10: - | D10: - | E10: - | F10: - | G10: - | H10: - | I10: - | J10: - | K10: 9147 | L10: 9147 | M10: - | N10: 9147
A11: Wykorzystanie rezerwy w ramach planu pracowniczych opcji na akcję | B11: - | C11: - | D11: - | E11: - | F11: - | G11: - | H11: - | I11: - | J11: - | K11: - | L11: - | M11: - | N11: -
A12: Ujęcie płatności dokonywanych na bazie akcji | B12: - | C12: - | D12: - | E12: - | F12: - | G12: - | H12: - | I12: - | J12: - | K12: - | L12: - | M12: - | N12: -
A13: Wypłata dywidendy | B13: - | C13: - | D13: - | E13: - | F13: - | G13: - | H13: - | I13: - | J13: - | K13: -2471 | L13: -2471 | M13: - | N13: -2471
A14: Stan na 31 grudnia 2017 roku | B14: 3707 | C14: 38412 | D14: - | E14: - | F14: - | G14: - | H14: - | I14: - | J14: - | K14: 39313 | L14: 39313 | M14: - | N14: 81432
A15: Zysk netto za rok obrotowy | B15: - | C15: - | D15: - | E15: - | F15: - | G15: - | H15: - | I15: - | J15: - | K15: - | L15: - | M15: - | N15: -
A16: Pozostałe całkowite dochody za rok obrotowy (netto) | B16: - | C16: - | D16: - | E16: - | F16: - | G16: - | H16: - | I16: - | J16: - | K16: - | L16: - | M16: - | N16: -
A17: Suma całkowitych dochodów | B17: - | C17: - | D17: - | E17: - | F17: - | G17: - | H17: - | I17: - | J17: - | K17: - | L17: - | M17: - | N17: 0
A18: Pozostałe całkowite dochody za rok obrotowy (netto) | B18: - | C18: - | D18: - | E18: - | F18: - | G18: - | H18: - | I18: - | J18: - | K18: - | L18: - | M18: - | N18: -
A19: Ujęcie płatności dokonywanych na bazie akcji | B19: - | C19: - | D19: - | E19: - | F19: - | G19: - | H19: - | I19: - | J19: - | K19: - | L19: - | M19: - | N19: -
A20: Emisja akcji zwykłych | B20: - | C20: - | D20: - | E20: - | F20: - | G20: - | H20: - | I20: - | J20: - | K20: - | L20: - | M20: - | N20: -
A21: Emisja akcji zwykłych w ramach planu pracowniczych opcji na akcje | B21: - | C21: - | D21: - | E21: - | F21: - | G21: - | H21: - | I21: - | J21: - | K21: - | L21: - | M21: - | N21: -
A22: Emisja akcji zwykłych z tytułu świadczonych usług doradczych | B22: - | C22: - | D22: - | E22: - | F22: - | G22: - | H22: - | I22: - | J22: - | K22: - | L22: - | M22: - | N22: -
A23: Emisja zamiennych akcji preferencyjnych bez prawa do głosu | B23: - | C23: - | D23: - | E23: - | F23: - | G23: - | H23: - | I23: - | J23: - | K23: - | L23: - | M23: - | N23: -
A24: Emisja obligacji zamiennych | B24: - | C24: - | D24: - | E24: - | F24: - | G24: - | H24: - | I24: - | J24: - | K24: - | L24: - | M24: - | N24: -
A25: Koszty emisji akcji | B25: - | C25: - | D25: - | E25: - | F25: - | G25: - | H25: - | I25: - | J25: - | K25: - | L25: - | M25: - | N25: -
A26: Odkup akcji zwykłych | B26: - | C26: - | D26: - | E26: - | F26: - | G26: - | H26: - | I26: - | J26: - | K26: - | L26: - | M26: - | N26: -
A27: Koszty odkupu akcji zwykłych | B27: - | C27: - | D27: - | E27: - | F27: - | G27: - | H27: - | I27: - | J27: - | K27: - | L27: - | M27: - | N27: -
A28: Emisja akcji powyżej ceny nominalnej | B28: - | C28: - | D28: - | E28: - | F28: - | G28: - | H28: - | I28: - | J28: - | K28: - | L28: - | M28: - | N28: -
A29: Przeniesienie do zysków zatrzymanych | B29: - | C29: - | D29: - | E29: - | F29: - | G29: - | H29: - | I29: - | J29: - | K29: - | L29: - | M29: - | N29: -
A30: Z podziału zysku | B30: - | C30: - | D30: - | E30: - | F30: - | G30: - | H30: - | I30: - | J30: - | K30: 7621 | L30: 7621 | M30: - | N30: =SUM(B30:K30) -> 7621
A31: Przeniesienie na kapitał zapasowy | B31: - | C31: - | D31: - | E31: - | F31: - | G31: - | H31: - | I31: - | J31: - | K31: -4980 | L31: -4108 | M31: - | N31: =SUM(B31:K31) -> -4980
A32: Pokrycoe strat z lat poprzednich | B32: - | C32: - | D32: - | E32: - | F32: - | G32: - | H32: - | I32: - | J32: - | K32: -170 | L32: -170 | M32: - | N32: -170
A33: Wypłata dywidendy | B33: - | C33: - | D33: - | E33: - | F33: - | G33: - | H33: - | I33: - | J33: - | K33: -2471 | L33: -2471 | M33: - | N33: -2471
A34: Zapłata dot. Lat poprzednich jako skutek przejścia na MSSF | B34: - | C34: - | D34: - | E34: - | F34: - | G34: - | H34: - | I34: - | J34: - | K34: 173 | L34: 173 | M34: - | N34: 173
A35: Przeniesienie na kapitał zapasowy | B35: - | C35: - | D35: - | E35: - | F35: - | G35: - | H35: - | I35: - | J35: - | K35: -173 | L35: -173 | M35: - | N35: -173
A36: Podatek dochodowy związany z transakcjami z właścicielami | B36: - | C36: - | D36: - | E36: - | F36: - | G36: - | H36: - | I36: - | J36: - | K36: - | L36: - | M36: -
A37: Stan na 31 grudnia 2017 roku | B37: =SUM(B14:B36) -> 3707 | C37: =SUM(C14:C36) -> 38412 | D37: - | E37: - | F37: - | G37: - | H37: - | I37: - | J37: - | K37: =SUM(K14:K36) -> 39313 | L37: =SUM(L14:L36) -> 40185 | M37: - | N37: =SUM(N14:N36) -> 81432
A38: SKONSOLIDOWANE SPRAWOZDANIE ZE ZMIAN W KAPITALE WŁASNYM ZA OKRES SPRAWOZDAWCZY KOŃCZĄCY SIĘ 31 GRUDNIA 2018 ROKU - C.D.
B39: tys.PLN
B40: Kapitał podstawowy | C40: Nadwyżka ze sprzedaży akcji | D40: Kapitał rezerwowy ogółem | E40: Kapitał rezerwowy z przeszac. Rzeczowych aktywów trwałych | F40: Kapitał rezerwowy z przeszac. Inwestycji | G40: Kapitał rezerwowy na świadczenia pracownicze rozliczane instrumentami kapitałowymi | H40: Kapitał rezerwowy na zabezpieczenia | I40: Kapitał rezerwowy z przewalutowania | J40: Nadwyżka ze sprzedaży opcji na obligacje zamienne | K40: Zyski zatrzymane | L40: Przypadające akcjonariuszom jednostki dominującej | M40: Przypadające udziałom niedającym kontroli | N40: Razem
A42: Stan na 1 stycznia 2018 roku (z poprzedniego sprawozdania) | B42: 3707 | C42: 38412 | D42: - | E42: - | F42: - | G42: - | H42: - | I42: - | J42: - | K42: 39313 | L42: =K42 -> 39313 | M42: - | N42: =SUM(B42:K42) -> 81432
...

Sheet Bilans_j
A1: JEDNOSTKOWE SPRAWOZDANIE Z SYTUACJI FINANSOWEJ NA DZIEŃ 31.12.2018 ROKU
A2: AKTYWA | B2: nota | C2: tys. PLN
C3: Stan na 31/12/2018 | D3: Stan na 31/12/2017
A5: AKTYWA TRWAŁE | C5: =SUM(C6:C13) -> 49302 | D5: =SUM(D6:D13) -> 53202
A6: Rzeczowe aktywa trwałe | B6: 15 | C6: 11486 | D6: 13933
A7: Nieruchomości inwestycyjne | B7: 16 | C7: 0 | D7: 0
A8: Wartość firmy | B8: 17 | C8: 27433 | D8: 27433
A9: Pozostałe aktywa niematerialne | B9: 18 | C9: 5564 | D9: 6299
A10: Inwestycje w jednostkach zależnych | B10: 19, 20 | C10: 3551 | D10: 3476
A11: Aktywa z tytułu podatku odroczonego | B11: 10 | C11: 1268 | D11: 2061
A12: Pozostałe aktywa finansowe | B12: 22 | C12: 0 | D12: 0
A13: Pozostałe aktywa | B13: 23 | C13: 0 | D13: 0
A14: AKTYWA OBROTOWE | C14: =SUM(C15:C22) -> 73458 | D14: =SUM(D15:D22) -> 62898
A15: Zapasy | B15: 24 | C15: 8580 | D15: 6858
A16: Należności z tytułu dostaw i usług oraz pozostałe należności | B16: 25 | C16: 47469 | D16: 37210
A17: Należności z tytułu kontraktów budowlanych i podobne | B17: 6.27 | C17: 11401 | D17: 10657
A18: Pozostałe aktywa finansowe | B18: 22 | C18: 888 | D18: 419
A19: Bieżące aktywa podatkowe | B19: 10 | C19: 1212 | D19: 978
A20: Pozostałe aktywa | B20: 23 | C20: 0 | D20: 0
A21: Środki pieniężne i ich ekwiwalenty | B21: 46 | C21: 3908 | D21: 6776
A22: Aktywa klasyfikowane jako przeznaczone do zbycia | B22: 22 | C22: 0 | D22: 0
A23: AKTYWA RAZEM | C23: =C5+C14 -> 122760 | D23: =D5+D14 -> 116100
A26: JEDNOSTKOWE SPRAWOZDANIE Z SYTUACJI FINANSOWEJ NA DZIEŃ 31.12.2018 ROKU -C.D.
A28: PASYWA | B28: nota | C28: tys. PLN
C29: Stan na 31/12/2018 | D29: Stan na 31/12/2017
A30: KAPITAŁ WŁASNY | C30: =SUM(C31:C36) -> 74020 | D30: =SUM(D31:D36) -> 70945
A31: Kapitał akcyjny | B31: 28 | C31: 3707 | D31: 3707
A32: Nadwyżka ze sprzedaży akcji | B32: 28 | C32: 38412 | D32: 38412
A33: Zyski zatrzymane | B33: 30 | C33: 31901 | D33: 28826
A34: Wynik wycen odnoszonych bezpośrednio poprzez kapitał własny | C34: 0 | D34: 0
A35: Kwoty ujęte bezpośrednio w kapitale, związane z aktywami klasyfikowanymi jako przeznaczone do zbycia | C35: 0 | D35: 0
A36: Kapitały przypadajace na jednostki zalezne dające współkontrole nad spółką | C36: 0 | D36: 0
A37: ZOBOWIĄZANIA | C37: =C38+C48 -> 48740 | D37: =D38+D48 -> 45155
A38: Zobowiązania długoterminowe | C38: =SUM(C39:C47) -> 12900 | D38: =SUM(D39:D47) -> 20030
A39: Długoterminowe zobowiązania z tyt. obligacji i umowy leasingu | B39: 34, 38 | C39: 794 | D39: 1115
A40: Długoterminowe zobowiązania finansowe z tyt kredytów | B40: 32 | C40: 4657 | D40: 7561
A41: Pozostałe zobowiązania długoterminowe | B41: 36 | C41: 4699 | D41: 7302
A42: Rezerwa na świadczenia emerytalne i podobne | B42: 35.39 | C42: 1251 | D42: 1116
A43: Rezerwy z tytułu napraw gwarancyjnych | C43: 21 | D43: 21
A44: Rezerwy z tytułu opcji na akcje | C44: 0 | D44: 0
...

Sheet RZIS_j
A1: JEDNOSTKOWY RACHUNEK ZYSKÓW I STRAT ORAZ SPRAWOZDANIE Z POZOSTAŁYCH CAŁKOWITYCH DOCHODÓW ZA OKRES 01.01.2018 - 31.12.2018
A2: JEDNOSTKOWY RACHUNEK ZYSKÓW I STRAT (Wariant kalkulacyjny) | B2: nota | C2: tys.PLN
C3: Okres zakończony 31/12/2018 | D3: Okres zakończony 31/12/2017
A4: Działalność kontynuowana
A5: PRZYCHODY ZE SPRZEDAŻY | B5: 5, 6 | C5: =SUM(C6:C8) -> 108692 | D5: =SUM(D6:D8) -> 96643
A6: Przychody ze sprzedaży wyrobów | C6: 0 | D6: 0
A7: Przychody ze sprzedaży usług | C7: 98486 | D7: 87132
A8: Przychody ze sprzedaży towarów i materiałów | C8: 10206 | D8: 9511
A9: Koszt własny sprzedaży (koszt sprzedanych produktów, usług, towarów i materiałów) | C9: =SUM(C10:C12) -> 80404 | D9: =SUM(D10:D12) -> 67073
A10: Koszt wytworzenia sprzedanych wyrobów | C10: 0 | D10: 0
A11: Koszt sprzedanych usług | C11: 71309 | D11: 58531
A12: Koszt sprzedanych towarów i materiałów | C12: 9095 | D12: 8542
A13: ZYSK (STRATA) BRUTTO ZE SPRZEDAŻY | C13: =C5-C9 -> 28288 | D13: =D5-D9 -> 29570
A14: Koszty sprzedaży | C14: 15376 | D14: 12591
A15: Koszty ogólnego zarządu | C15: 9701 | D15: 8131
A16: Pozostałe przychody operacyjne | B16: 9 | C16: 159 | D16: 57
A17: Pozostałe koszty operacyjne | B17: 9 | C17: 151 | D17: 48
A18: ZYSK (STRATA) NA DZIAŁALNOŚCI OPERACYJNEJ | C18: =C13-C14-C15+C16-C17 -> 3219 | D18: =D13-D14-D15+D16-D17 -> 8857
A19: Przychody finansowe | B19: 7 | C19: 55 | D19: 172
A20: Koszty finansowe | B20: 8 | C20: 377 | D20: 877
A21: Udział w zyskach jednostek stowarzyszonych | C21: 0 | D21: 0
A22: Zysk ze sprzedaży udziałów w jednostce stowarzyszonej | C22: 0 | D22: 0
A23: Zysk (strata) przed opodatkowaniem | C23: =C18+C19-C20 -> 2897 | D23: =D18+D19-D20 -> 8152
A25: Podatek dochodowy | B25: 10 | C25: =SUM(C26:C27) -> 104 | D25: =SUM(D26:D27) -> -145
A26: Część bieżąca | C26: 749 | D26: 337
A27: Część odroczona | C27: -645 | D27: -482
A28: Zysk (strata) netto z działalności kontynuowanej | B28: 13 | C28: =C23-C25 -> 2793 | D28: =D23-D25 -> 8297
A29: Działalność zaniechana | B29: 11
A30: Zysk (strata) netto z działalności zaniechanej | B30: 11 | C30: 0 | D30: 0
A31: ZYSK (STRATA) NETTO | C31: =C28 -> 2793 | D31: =D28 -> 8297
A33: JEDNOSTKOWY RACHUNEK ZYSKÓW I STRAT ORAZ SPRAWOZDANIE Z POZOSTAŁYCH CAŁKOWITYCH DOCHODÓW ZA OKRES 01.01.2018 - 31.12.2018 - C.D.
A34: JEDNOSTKOWY RACHUNEK ZYSKÓW I STRAT (Wariant kalkulacyjny) | B34: nota | C34: tys.PLN
C35: =C3 -> Okres zakończony 31/12/2018 | D35: =D3 -> Okres zakończony 31/12/2017
A36: Zysk (strata) netto, z tego przypadający: | C36: =C31 -> 2793 | D36: =D31 -> 8297
A37: Akcjonariuszom podmiotu dominującego | C37: =C31 -> 2793 | D37: =D31 -> 8297
A38: Akcjonariuszom mniejszościowym | C38: 0 | D38: 0
A39: Zysk (strata) netto na jedną akcję zwykłą | B39: 14
A40: (w zł/gr na jedną akcję):
A41: z działalności kontynuowanej:
A42: - podstawowy | C42: =C37/12355504*1000 -> 0.2260531 | D42: =D37/12355504*1000 -> 0.67152259
...

Sheet CF_j
A1: JEDNOSTKOWE SPRAWOZDANIE Z PRZEPŁYWÓW PIENIĘŻNYCH ZA OKRES OD 1 STYCZNIA 2018 DO 31 GRUDNIA 2018 [METODA POŚREDNIA]
B2: tys.PLN
B3: Okres zakończony 31/12/2018 | C3: Okres zakończony 31/12/2017
A4: Przepływy pieniężne z działalności operacyjnej
A5: Zysk za rok obrotowy | B5: =RZIS_j!C63 -> 2793 | C5: =RZIS_j!D63 -> 8297
A6: Korekty: Koszt podatku dochodowego ujęty w wyniku | B6: 104 | C6: -145
A7: Udział w zysku jednostek stowarzyszonych | B7: 0 | C7: 0
A8: Koszty finansowe ujęte w wyniku | B8: 111 | C8: 120
A9: Przychody z inwestycji ujęte w wyniku | B9: 282 | C9: 0
A10: Zysk ze zbycia składników rzeczowych aktywów trwałych | B10: -183 | C10: -17
A11: Zysk/strata z tytułu likwidacji środków trwałych | B11: 98 | C11: 16
A12: (Zysk) / strata netto z wyceny zobowiązań finansowych wycenianych w skorygowanej cenie nabycia | B12: 0 | C12: 135
A13: Zysk/strata z tytułu zmiany przeznaczenia środków trwałych | B13: 0 | C13: 0
A14: Zysk ze zbycia jednostki zależnej | B14: 0 | C14: 0
A15: Korekta konsolidacyjna wartości aktywów finansowych | B15: 0 | C15: 0
A16: Zysk/strata z tytułu zwrotu wartości inwestycji długoterminowych | B16: 0 | C16: -22
A17: Strata z tytułu utraty wartości należności z tytułu dostaw i usług | B17: 102 | C17: 586
... A22: Korekta rozliczenia o połączenie ze spółką zależną środków pieniężnych | B22: 0 | C22: 0
B23: =SUM(B5:B22) -> 11209 | C23: =SUM(C5:C22) -> 16555
A24: Zmiany w kapitale obrotowym:
A25: (Zwiększenie) / zmniejszenie salda należności z tytułu dostaw i usług oraz pozostałych należności | B25: -10564 | C25: -4831
A26: (Zwiększenie) / zmniejszenie należności z tytułu kontraktów budowlanych | B26: -744 | C26: -564
A27: (Zwiększenie) / zmniejszenie stanu zapasów | B27: -1723 | C27: -167
A28: (Zwiększenie) / zmniejszenie pozostałych aktywów | B28: 793 | C28: -362
A29: Zmniejszenie salda zobowiązań z tytułu dostaw i usług oraz pozostałych zobowiązań | B29: 8117 | C29: 666
A30: Zwiększenie / (zmniejszenie) zobowiązań z tytułu kontraktów budowlanych | B30: -528 | C30: -1425
A31: Zwiększenie / (zmniejszenie) rezerw | B31: -1302 | C31: 213
A32: Zwiększenie / (zmniejszenie) przychodów przyszłych okresów | B32: 1179 | C32: -
A33: Zwiększenie / (zmniejszenie) pozostałych zobowiązań | B33: 1078 | C33: -2101
A34: Środki pieniężne wygenerowane na działalności operacyjnej | B34: =SUM(B23:B33) -> 7515 | C34: =SUM(C23:C33) -> 7984
A35: Zapłacone odsetki | B35: -206 | C35: -746
A36: Zapłacony podatek dochodowy | B36: -316 | C36: -54
A37: ŚRODKI PIENIĘŻNE NETTO Z DZIAŁALNOŚCI OPERACYJNEJ | B37: =SUM(B34:B36) -> 6993 | C37: =SUM(C34:C36) -> 7184
A38: JEDNOSTKOWE SPRAWOZDANIE Z PRZEPŁYWÓW PIENIĘŻNYCH ZA OKRES OD 1 STYCZNIA 2018 DO 31 GRUDNIA 2018 [METODA POŚREDNIA] - C.D.
B39: tys.PLN
B40: =B3 -> Okres zakończony 31/12/2018 | C40: =C3 -> Okres zakończony 31/12/2017
A41: Przepływy pieniężne z działalności inwestycyjnej
A42: Płatności z tytułu nabycia aktywów finansowych | B42: 0 | C42: -3473
A43: Otrzymane odsetki od jedn. powiązanych | B43: 0 | C43: 3
A44: Pożyczki otrzymane od jednostek powiązanych | B44: 0 | C44: 0
...

Sheet ZZKW_j
A1: JEDNOSTKOWE SPRAWOZDANIE ZE ZMIAN W KAPITALE WŁASNYM ZA OKRES SPRAWOZDAWCZY KOŃCZĄCY SIĘ 31 GRUDNIA 2018 ROKU
B2: tys.PLN
B3: Kapitał podstawowy | C3: Nadwyżka ze sprzedaży akcji | D3: Kapitał rezerwowy ogółem | E3: Kapitał rezerwowy z przeszac. Rzeczowych aktywów trwałych | F3: Kapitał rezerwowy z przeszac. Inwestycji | G3: Kapitał rezerwowy na świadczenia pracownicze rozliczane instrumentami kapitałowymi | H3: Kapitał rezerwowy na zabezpieczenia | I3: Kapitał rezerwowy z przewalutowania | J3: Nadwyżka ze sprzedaży opcji na obligacje zamienne | K3: Zyski zatrzymane | L3: Przypadające akcjonariuszom jednostki dominującej | M3: Przypadające udziałom niedającym kontroli | N3: Razem
A5: Stan na 1 stycznia 2017 roku (z poprzedniego sprawozdania) | B5: 3707 | C5: =Bilans_j!D32 -> 38412 | D5: - | E5: - | F5: - | G5: - | H5: - | I5: - | J5: - | K5: 23000 | L5: =K5 -> 23000 | M5: - | N5: =SUM(B5:K5) -> 65119
A6: Przekształcenia | B6: - | C6: - | D6: - | E6: - | F6: - | G6: - | H6: - | I6: - | J6: - | K6: - | L6: - | M6: - | N6: -
A7: Stan na 1 stycznia 2017 roku (po przekształceniach) | B7: 3707 | C7: 38412 | D7: - | E7: - | F7: - | G7: - | H7: - | I7: - | J7: - | K7: =K5 -> 23000 | L7: =K5 -> 23000 | M7: - | N7: =SUM(B7:K7) -> 65119
A8: Zysk netto za rok obrotowy | B8: - | C8: - | D8: - | E8: - | F8: - | G8: - | H8: - | I8: - | J8: - | K8: =RZIS_j!D63 -> 8297 | L8: =RZIS_j!D63 -> 8297 | M8: - | N8: =K8 -> 8297
A9: Pozostałe całkowite dochody za rok obrotowy (netto) | B9: - | C9: - | D9: - | E9: - | F9: - | G9: - | H9: - | I9: - | J9: - | K9: - | L9: - | M9: - | N9: -
A10: Suma całkowitych dochodów | B10: - | C10: - | D10: - | E10: - | F10: - | G10: - | H10: - | I10: - | J10: - | K10: =K8 -> 8297 | L10: =L8 -> 8297 | M10: - | N10: =K10 -> 8297
A11: Wykorzystanie rezerwy w ramach planu pracowniczych opcji na akcję | B11: - | C11: - | D11: - | E11: - | F11: - | G11: - | H11: - | I11: - | J11: - | K11: - | L11: - | M11: - | N11: -
A12: Ujęcie płatności dokonywanych na bazie akcji | B12: - | C12: - | D12: - | E12: - | F12: - | G12: - | H12: - | I12: - | J12: - | K12: - | L12: - | M12: - | N12: -
A13: Wypłata dywidendy | B13: - | C13: - | D13: - | E13: - | F13: - | G13: - | H13: - | I13: - | J13: - | K13: 2471 | L13: 2471 | M13: - | N13: =L13 -> 2471
A14: Stan na 31 grudnia 2017 roku | B14: 3707 | C14: 38412 | D14: - | E14: - | F14: - | G14: - | H14: - | I14: - | J14: - | K14: =K7+K8-K13 -> 28826 | L14: =L7+L8-L13 -> 28826 | M14: - | N14: =N7+N8-N13 -> 70945
A15: Zysk netto za rok obrotowy | B15: - | C15: - | D15: - | E15: - | F15: - | G15: - | H15: - | I15: - | J15: - | K15: - | L15: - | M15: - | N15: -
A16: Pozostałe całkowite dochody za rok obrotowy (netto) | B16: - | C16: - | D16: - | E16: - | F16: - | G16: - | H16: - | I16: - | J16: - | K16: - | L16: - | M16: - | N16: -
A17: Suma całkowitych dochodów | B17: - | C17: - | D17: - | E17: - | F17: - | G17: - | H17: - | I17: - | J17: - | K17: - | L17: - | M17: - | N17: =N7+N10 -> 73416
A18: Pozostałe całkowite dochody za rok obrotowy (netto) | B18: - | C18: - | D18: - | E18: - | F18: - | G18: - | H18: - | I18: - | J18: - | K18: - | L18: - | M18: - | N18: -
A19: Ujęcie płatności dokonywanych na bazie akcji | B19: - | C19: - | D19: - | E19: - | F19: - | G19: - | H19: - | I19: - | J19: - | K19: - | L19: - | M19: - | N19: -
A20: Emisja akcji zwykłych | B20: - | C20: - | D20: - | E20: - | F20: - | G20: - | H20: - | I20: - | J20: - | K20: - | L20: - | M20: - | N20: -
A21: Emisja akcji zwykłych w ramach planu pracowniczych opcji na akcje | B21: - | C21: - | D21: - | E21: - | F21: - | G21: - | H21: - | I21: - | J21: - | K21: - | L21: - | M21: - | N21: -
A22: Emisja akcji zwykłych z tytułu świadczonych usług doradczych | B22: - | C22: - | D22: - | E22: - | F22: - | G22: - | H22: - | I22: - | J22: - | K22: - | L22: - | M22: - | N22: -
A23: Emisja zamiennych akcji preferencyjnych bez prawa do głosu | B23: - | C23: - | D23: - | E23: - | F23: - | G23: - | H23: - | I23: - | J23: - | K23: - | L23: - | M23: - | N23: -
A24: Emisja obligacji zamiennych | B24: - | C24: - | D24: - | E24: - | F24: - | G24: - | H24: - | I24: - | J24: - | K24: - | L24: - | M24: - | N24: -
A25: Koszty emisji akcji | B25: - | C25: - | D25: - | E25: - | F25: - | G25: - | H25: - | I25: - | J25: - | K25: - | L25: - | M25: - | N25: -
A26: Odkup akcji zwykłych | B26: - | C26: - | D26: - | E26: - | F26: - | G26: - | H26: - | I26: - | J26: - | K26: - | L26: - | M26: - | N26: -
A27: Koszty odkupu akcji zwykłych | B27: - | C27: - | D27: - | E27: - | F27: - | G27: - | H27: - | I27: - | J27: - | K27: - | L27: - | M27: - | N27: -
A28: Emisja akcji powyżej ceny nominalnej | B28: - | C28: - | D28: - | E28: - | F28: - | G28: - | H28: - | I28: - | J28: - | K28: - | L28: - | M28: - | N28: -
A29: Przeniesienie do zysków zatrzymanych | B29: - | C29: - | D29: - | E29: - | F29: - | G29: - | H29: - | I29: - | J29: - | K29: - | L29: - | M29: - | N29: -
A30: Z podziału zysku | B30: - | C30: - | D30: - | E30: - | F30: - | G30: - | H30: - | I30: - | J30: - | K30: 6579 | L30: 6579 | M30: - | N30: =K30 -> 6579
A31: Przeniesienie na kapitał zapasowy | B31: - | C31: - | D31: - | E31: - | F31: - | G31: - | H31: - | I31: - | J31: - | K31: -4108 | L31: -4108 | M31: - | N31: =K31 -> -4108
A32: Wypłata dywidendy | B32: - | C32: - | D32: - | E32: - | F32: - | G32: - | H32: - | I32: - | J32: - | K32: -2471 | L32: -2471 | N32: =K32 -> -2471
A33: Zysk. dot. lat poprzednich jako skutek przejścia na MSSF | B33: - | C33: - | D33: - | E33: - | F33: - | G33: - | H33: - | I33: - | J33: - | K33: 173 | L33: 173 | N33: =K33 -> 173
A34: Przeniesienie na kapitał zapasowy | B34: - | C34: - | D34: - | E34: - | F34: - | G34: - | H34: - | I34: - | J34: - | K34: -173 | L34: -173 | N34: =K34 -> -173
A35: Podatek dochodowy związany z transakcjami z właścicielami | B35: - | C35: - | D35: - | E35: - | F35: - | G35: - | H35: - | I35: - | J35: - | K35: - | L35: - | M35: - | N35: -
A36: Stan na 31 grudnia 2017 roku | B36: =SUM(B14:B35) -> 3707 | C36: =SUM(C14:C35) -> 38412 | D36: - | E36: - | F36: - | G36: - | H36: - | I36: - | J36: - | K36: =SUM(K14:K35) -> 28826 | L36: =SUM(L14:L35) -> 28826 | M36: - | N36: =N14 -> 70945
A37: JEDNOSTKOWE SPRAWOZDANIE ZE ZMIAN W KAPITALE WŁASNYM ZA OKRES SPRAWOZDAWCZY KOŃCZĄCY SIĘ 31 GRUDNIA 2018 ROKU - C.D.
B38: tys.PLN
B39: Kapitał podstawowy | C39: Nadwyżka ze sprzedaży akcji | D39: Kapitał rezerwowy ogółem | E39: Kapitał rezerwowy z przeszac. Rzeczowych aktywów trwałych | F39: Kapitał rezerwowy z przeszac. Inwestycji | G39: Kapitał rezerwowy na świadczenia pracownicze rozliczane instrumentami kapitałowymi | H39: Kapitał rezerwowy na zabezpieczenia | I39: Kapitał rezerwowy z przewalutowania | J39: Nadwyżka ze sprzedaży opcji na obligacje zamienne | K39: Zyski zatrzymane | L39: Przypadające akcjonariuszom jednostki dominującej | M39: Przypadające udziałom niedającym kontroli | N39: Razem
A41: Stan na 1 stycznia 2018 roku (z poprzedniego sprawozdania) | B41: =B36 -> 3707 | C41: =C36 -> 38412 | D41: - | E41: - | F41: - | G41: - | H41: - | I41: - | J41: - | K41: =K36 -> 28826 | L41: =K41 -> 28826 | M41: - | N41: =SUM(B41:K41) -> 70945
A42: Przekształcenia | B42: - | C42: - | D42: - | E42: - | F42: - | G42: - | H42: - | I42: - | J42: - | K42: - | L42: - | M42: - | N42: -
...
