Workbook
Name ____OK1: [1]DP!$AK$10:$AK$29,[1]DP!$AK$37:$AK$51
Name ____OK2: [1]DP!$AJ$10:$AJ$29,[1]DP!$AJ$37:$AJ$51
Name ____OK3: [1]DP!$AI$10:$AI$29,[1]DP!$AI$37:$AI$51
Name ___OK1: [2]DP!$AK$10:$AK$29,[2]DP!$AK$37:$AK$51
Name ___OK2: [2]DP!$AJ$10:$AJ$29,[2]DP!$AJ$37:$AJ$51
Name ___OK3: [2]DP!$AI$10:$AI$29,[2]DP!$AI$37:$AI$51
Name __DAT1: #REF!
Name __DAT2: #REF!
Name __DAT3: #REF!
Name __DAT4: #REF!
Name __DAT5: #REF!
Name __DAT6: #REF!
Name __DAT7: #REF!
Name __DAT8: #REF!
Name __FS1: #REF!
Name __OK1: [4]DP!$AK$10:$AK$29,[4]DP!$AK$37:$AK$51
Name __OK2: [4]DP!$AJ$10:$AJ$29,[4]DP!$AJ$37:$AJ$51
Name __OK3: [4]DP!$AI$10:$AI$29,[4]DP!$AI$37:$AI$51
Name __scr0504: #REF!
Name __scr0603: #REF!
Name __scr0604: #REF!
Name __scr0605: #REF!
Name __scr0705: #REF!
Name __scr0903: #REF!
Name __scr1102: #REF!
Name __scr1104: #REF!
Name __scr1105: #REF!
Name __scr1202: #REF!
Name __scr1203: #REF!
Name __scr1204: #REF!
Name __scr1205: #REF!
Name __sdt0504: #REF!
Name __sdt0603: #REF!
Name __sdt0604: #REF!
Name __sdt0605: #REF!
Name __sdt0705: #REF!
Name __sdt0903: #REF!
Name __sdt0904: #REF!
Name __sdt1102: #REF!
Name __sdt1104: #REF!
Name __sdt1105: #REF!
Name __sdt1202: #REF!
Name __sdt1203: #REF!
Name __sdt1204: #REF!
Name __sdt1205: #REF!
Name _DAT1: #REF!
Name _DAT2: #REF!
Name _DAT3: #REF!
Name _DAT4: #REF!
Name _DAT5: #REF!
Name _DAT6: #REF!
Name _DAT7: #REF!
Name _DAT8: #REF!
Name _FS1: #REF!
Name _kwi09: #REF!
Name _lut09: #REF!
Name _mar09: #REF!
Name _OK1: [4]DP!$AK$10:$AK$29,[4]DP!$AK$37:$AK$51
Name _OK2: [4]DP!$AJ$10:$AJ$29,[4]DP!$AJ$37:$AJ$51
Name _OK3: [4]DP!$AI$10:$AI$29,[4]DP!$AI$37:$AI$51

Sheet Bilans_s
A1: SKONSOLIDOWANE SPRAWOZDANIE FINANSOWE GRUPY KAPITAŁOWEJ AILLERON SA ZA 2022 ROK ZAKOŃCZONY 31/12/2022
A2: SPORZĄDZONE WEDŁUG MIĘDZYNARODOWYCH STANDARDÓW SPRAWOZDAWCZOŚCI FINANSOWEJ
A3: WSZYSTKIE KWOTY PODANO W TYSIĄCACH ZŁOTYCH POLSKICH (TYS. PLN), O ILE NIE WSKAZANO INACZEJ
A5: SKONSOLIDOWANE SPRAWOZDANIE Z SYTUACJI FINANSOWEJ NA DZIEŃ 31.12.2022 ROKU
A6: AKTYWA | B6: nota | C6: tys. PLN
C7: Stan na 31/12/2022 | D7: Stan na 31/12/2021 po przekształceniu
A9: AKTYWA TRWAŁE | C9: =SUM(C10:C18) -> 209645000 | D9: =SUM(D10:D18) -> 98062000
A10: Rzeczowe aktywa trwałe | B10: 13 | C10: 28368000 | D10: 22785000
A11: Nieruchomości inwestycyjne | B11: 16
A12: Wartość firmy | B12: 14 | C12: =147856000+1671000 -> 149527000 | D12: =51349000+3572000 -> 54921000
A13: Pozostałe aktywa niematerialne | B13: 15 | C13: 28827000 | D13: 17965000
A14: Inwestycje w jednostkach zależnych | B14: 16 | C14: 50000 | D14: 1428000
A15: Aktywa z tytułu podatku odroczonego | B15: 10 | C15: 1347000 | D15: 693000
A16: Pozostałe aktywa finansowe | B16: 17 | C16: =356000+893000 -> 1249000 | D16: 0
A17: Pozostałe aktywa | B17: 18 | C17: 277000 | D17: 270000
A18: Inne długoterminowe aktywa finansowe | C18: 0 | D18: 0
A19: AKTYWA OBROTOWE | C19: =SUM(C20:C29) -> 209495000 | D19: =SUM(D20:D29) -> 180626000
A20: Zapasy | B20: 19 | C20: 691000 | D20: 1041000
A21: Należności z tytułu dostaw i usług | B21: 20 | C21: 94381000 | D21: 58440000
A22: Należności krótkoterminowe pozostałe | C22: 3875000 | D22: 910000
A23: Aktywa kontraktowe | B23: 6, 21 | C23: 4227000 | D23: 4494000
A24: Pozostałe aktywa finansowe | C24: 383000 | D24: 40000
A25: Należności z tytułu bieżącego podatku dochodowego | C25: 2000 | D25: 736000
A26: Należności z tytułu innych podatków niż podatek dochodowy | B26: 10 | C26: 16243000 | D26: 3626000
A27: Pozostałe aktywa | B27: 23 | C27: 287000 | D27: 0
A28: Środki pieniężne i ich ekwiwalenty | B28: 34 | C28: 89406000 | D28: 111339000
A29: Aktywa klasyfikowane jako przeznaczone do zbycia | B29: 12 | C29: 0 | D29: 0
A30: AKTYWA RAZEM | C30: =C9+C19 -> 419140000 | D30: =D9+D19 -> 278688000
A32: SKONSOLIDOWANE SPRAWOZDANIE Z SYTUACJI FINANSOWEJ NA DZIEŃ 31.12.2022 ROKU - [C.D.]
A33: PASYWA | B33: nota | C33: tys. PLN
C34: =C7 -> Stan na 31/12/2022 | D34: =D7 -> Stan na 31/12/2021 po przekształceniu
A35: KAPITAŁ WŁASNY | C35: =C36+C44 -> 257677000 | D35: =D36+D44 -> 215456000
A36: Kapitał własny przypadający na akcjonariuszy jednostki dominującej | C36: =SUM(C37:C43) -> 141883000 | D36: =SUM(D37:D43) -> 133000000
A37: Kapitał akcyjny | B37: 22 | C37: 3707000 | D37: 3707000
A38: Nadwyżka ze sprzedaży akcji | B38: 22 | C38: 38412000 | D38: 38412000
A39: Kapitał rezerwowy | C39: 737000 | D39: 257000
A40: Zyski zatrzymane | B40: 23 | C40: =99966000-1476000 -> 98490000 | D40: 90691000
A41: Wynik wycen odnoszonych bezpośrednio poprzez kapitał własny
A42: Kwoty ujęte bezpośrednio w kapitale, związane z aktywami klasyfikowanymi jako przeznaczone do zbycia,
A43: Różnice kursowe z przeliczenia jednostek zagranicznych | C43: 537000 | D43: -67000
...

Sheet RZIS_s
A1: SKONSOLIDOWANY RACHUNEK ZYSKÓW I STRAT ZA OKRES 01.01.2022 - 31.12.2022
A2: SKONSOLIDOWANY RACHUNEK ZYSKÓW I STRAT (Wariant kalkulacyjny) | B2: nota | C2: tys.PLN
C3: Okres zakończony 31/12/2022 | D3: Okres zakończony 31/12/2021
A4: Działalność kontynuowana
A5: PRZYCHODY ZE SPRZEDAŻY | B5: 5, 6 | C5: =413441000-C30 -> 410082000 | D5: =216832000-4384000 -> 212448000
A6: Przychody ze sprzedaży wyrobów | C6: 0 | D6: 0
A7: Przychody ze sprzedaży usług | C7: 201305000 | D7: 148506000
A8: Przychody ze sprzedaży towarów i materiałów | C8: 15527000 | D8: 7698000
A9: Koszt własny sprzedaży (koszt sprzedanych produktów, usług, towarów i materiałów) | C9: =300585000-C31 -> 294826000 | D9: =146431000-4324000 -> 142107000
A10: Koszt wytworzenia sprzedanych wyrobów | C10: 0 | D10: 0
A11: Koszt sprzedanych usług | C11: 132209000 | D11: 101531000
A12: Koszt sprzedanych towarów i materiałów | C12: 14222000 | D12: 6886000
A13: ZYSK (STRATA) BRUTTO ZE SPRZEDAŻY | C13: =C5-C9 -> 115256000 | D13: =D5-D9 -> 70341000
A14: Koszty sprzedaży | C14: 19713000 | D14: 21084000
A15: Koszty ogólnego zarządu | C15: 41362000 | D15: 21860000
A16: Pozostałe przychody operacyjne | B16: 9 | C16: 418000 | D16: 82000
A17: Pozostałe koszty operacyjne | B17: 9 | C17: 4025000 | D17: 115000
A18: ZYSK (STRATA) NA DZIAŁALNOŚCI OPERACYJNEJ | C18: =C13-C14-C15+C16-C17 -> 50574000 | D18: =D13-D14-D15+D16-D17 -> 27364000
A19: Przychody finansowe | B19: 7 | C19: 2035000 | D19: 450000
A20: Koszty finansowe | B20: 8 | C20: 2331000 | D20: 2278000
A21: Udział w zyskach jednostek stowarzyszonych | C21: 0 | D21: 0
A22: Zysk ze sprzedaży udziałów w jednostce stowarzyszonej | C22: 0 | D22: 0
A23: Zysk (strata) przed opodatkowaniem | C23: =C18+C19-C20 -> 50278000 | D23: =D18+D19-D20 -> 25536000
A25: Podatek dochodowy | B25: 10 | C25: =9333000-C33 -> 9789000 | D25: =8532000-11000 -> 8521000
A26: Część bieżąca | C26: 8317000 | D26: 5414000
A27: Część odroczona | C27: =374000-159000 -> 215000 | D27: -1321000
A28: Zysk (strata) netto z działalności kontynuowanej | B28: 12 | C28: =C23-C25 -> 40489000 | D28: =D23-D25 -> 17015000
A29: Działalność zaniechana
A30: Przychody ze sprzedaży | C30: 3359000 | D30: 4384000
A31: Koszty operacyjne ogółem | C31: 5759000 | D31: 4324000
A32: Zysk (strata) z działalności operacyjnej | C32: =C30-C31 -> -2400000 | D32: =D30-D31 -> 60000
A33: Podatek dochodowy | C33: =C32*0.19 -> -456000 | D33: =D32*0.19 -> 11400
A34: Zysk (strata) netto z działalności zaniechanej | C34: =C32-C33 -> -1944000 | D34: =D32-D33 -> 48600
A35: Różnice kursowe z przeliczenia jednostek zagranicznych | C35: 0 | D35: 0
A36: Całkowite dochody ogółem | C36: =C28-C35 -> 40489000 | D36: =D28-D35 -> 17015000
A37: ZYSK (STRATA) NETTO | C37: =C28+C34 -> 38545000 | D37: =D28+D34 -> 17063600
A39: SKONSOLIDOWANY RACHUNEK ZYSKÓW I STRAT ZA OKRES 01.01.2022 - 31.12.2022 - [C.D.]
A40: SKONSOLIDOWANY RACHUNEK ZYSKÓW I STRAT (Wariant kalkulacyjny) | B40: nota | C40: tys.PLN
C41: =C3 -> Okres zakończony 31/12/2022 | D41: =D3 -> Okres zakończony 31/12/2021
A42: Zysk (strata) netto, z tego przypadający: | C42: =C37 -> 38545000 | D42: =D37 -> 17063600
...

Sheet SSCD_s
A1: SKONSOLIDOWANE SPRAWOZDANIE Z CAŁKOWITYCH DOCHODÓW ZA OKRES 01.01.2022 - 31.12.2022
A2: SKONSOLIDOWANE SPRAWOZDANIE Z CAŁKOWITYCH DOCHODÓW | C2: tys.PLN
C3: Okres zakończony 31/12/2022 | D3: Okres zakończony 31/12/2021
A4: ZYSK (STRATA) NETTO | C4: =RZIS_s!C37 -> 38545000 | D4: =RZIS_s!D37 -> 17063600
A5: Pozostałe dochody całkowite
A6: Różnice kursowe z przeliczenia jednostek zagranicznych | C6: 1276000 | D6: -117000
A7: POZOSTAŁE CAŁKOWITE DOCHODY NETTO | C7: =C6 -> 1276000 | D7: =D6 -> -117000
A8: SUMA CAŁKOWITYCH DOCHODÓW | C8: =C4+C7 -> 39821000 | D8: =D4+D7 -> 16946600
A9: przypadających akcjonariuszom jednostki dominującej | C9: =RZIS_s!C43+604000 -> 13833000 | D9: 7337000
A10: przypadających udziałom niedającym kontroli | C10: =RZIS_s!C44+672000 -> 25988000 | D10: 9610000

Sheet CF_s
A1: SKONSOLIDOWANE SPRAWOZDANIE Z PRZEPŁYWÓW PIENIĘŻNYCH ZA OKRES OD 1 STYCZNIA 2022 DO 31 GRUDNIA 2022 [METODA POŚREDNIA]
B2: tys.PLN
B3: Okres zakończony 31/12/2022 | C3: Okres zakończony 31/12/2021
A4: Przepływy pieniężne z działalności operacyjnej
A5: Zysk za rok obrotowy | B5: =RZIS_s!C37 -> 38545000 | C5: =RZIS_s!D37 -> 17063600
A6: Korekty: | B6: =SUM(B7:B34) -> 21129000 | C6: =SUM(C7:C34) -> 23155400
A7: Koszt podatku dochodowego ujęty w wyniku | B7: =RZIS_s!C33+RZIS_s!C25 -> 9333000 | C7: =RZIS_s!D25+RZIS_s!D33 -> 8532400
A8: Udział w zysku jednostek stowarzyszonych | B8: 0 | C8: 0
A9: Koszty finansowe ujęte w wyniku | B9: ='[50]8 '!D12 -> 1559000 | C9: 937000
A10: Przychody z inwestycji ujęte w wyniku
A11: Zysk/Strata ze zbycia/zmiany przeznaczenia składników rzeczowych aktywów trwałych | B11: =-'[50]9 '!F6+'[50]9 '!F32 -> 2232000 | C11: -147000
A12: Przychody z inwestycji ujęte w wyniku | B12: 0 | C12: 66000
A13: (Zysk) / strata netto z wyceny aktywów finansowych przeznaczonych do obrotu
A14: Zysk/strata z tytułu zmiany przeznaczenia środków trwałych | C14: 0
A15: Zysk/strata ze zbycia jednostki zależnej | C15: 0
A16: (Zysk) / strata netto z wyceny aktywów/zobowiązań finansowych wycenianych w skorygowanej cenie nabycia | B16: ='[50]7'!C46 -> 490000 | C16: 266000
A17: (Zysk) / strata netto z wyceny aktywów finansowych wycenianych w skorygowanej cenie nabycia
A18: Zysk/strata z tytułu zwrotu wartości inwestycji długoterminowych | C18: 0
A19: Zysk/Strata z tytułu odwrócenia odpisu/utraty wartości należności z tytułu dostaw i usług | B19: =-'[50]9 '!F40 -> -885000 | C19: -244000
A20: Odwrócenie odpisu z tytułu utraty wartości należności z tytułu dostaw i usług | C20: 0
A21: Amortyzacja i umorzenie aktywów trwałych | B21: ='[50]6cd'!E72 -> 12950000 | C21: 8331000
A22: Utrata wartości aktywów trwałych
A23: (Dodatnie) / ujemne różnice kursowe netto | B23: ='[50]7'!C42-'[50]8 '!D28 -> 888000 | C23: 913000
A24: Pozostałe zmiany | B24: =Bilans_s!C39+Bilans_s!C43-Bilans_s!D39-Bilans_s!D43 -> 1084000 | C24: 83000
A25: Korekta z tyt. progarmu motywacyjnego | B25: 481000 | C25: 0
A26: (Zwiększenie) / zmniejszenie salda należności z tytułu dostaw i usług oraz pozostałych należności | B26: =Bilans_s!D21-Bilans_s!C21+Bilans_s!D22-Bilans_s!C22 -> -38906000 | C26: -1454000
A27: (Zwiększenie) / zmniejszenie aktywów kontraktowych | C27: 0
A28: (Zwiększenie) / zmniejszenie stanu zapasów | B28: =Bilans_s!D20-Bilans_s!C20 -> 350000 | C28: 2635000
A29: (Zwiększenie) / zmniejszenie pozostałych aktywów | B29: =Bilans_s!D27+Bilans_s!D18-Bilans_s!C18-Bilans_s!C27+Bilans_s!D23-Bilans_s!C23 -> -20000 | C29: 1744000
A30: Zmniejszenie salda zobowiązań z tytułu dostaw i usług oraz pozostałych zobowiązań | B30: =Bilans_s!C58+Bilans_s!C64+Bilans_s!C65-Bilans_s!D58-Bilans_s!D64-Bilans_s!D65+14188000 -> 30380000 | C30: -612000
A31: Zmniejszenie salda zobowiązań kontraktowych | C31: 0
A32: Zwiększenie / (zmniejszenie) rezerw | B32: =Bilans_s!C66+Bilans_s!C51+Bilans_s!C54-Bilans_s!D51-Bilans_s!D54-Bilans_s!D52-Bilans_s!D67-Bilans_s!D66 -> 533000 | C32: 4000
A33: Zwiększenie / (zmniejszenie) przychodów przyszłych okresów | B33: =Bilans_s!C68-Bilans_s!D68 -> -1909000 | C33: 1460000
A34: Zwiększenie / (zmniejszenie) pozostałych zobowiązań | B34: =Bilans_s!C69-Bilans_s!D69 -> 2569000 | C34: 641000
A35: Środki pieniężne wygenerowane na działalności operacyjnej | B35: =SUM(B5:B6) -> 59674000 | C35: =SUM(C5:C6) -> 40219000
A36: Zapłacone odsetki i różnice kursowe | B36: =-B9-B23 -> -2447000 | C36: -1856000
A37: Zapłacony podatek dochodowy | B37: -11587000 | C37: -12281000
A38: ŚRODKI PIENIĘŻNE NETTO Z DZIAŁALNOŚCI OPERACYJNEJ | B38: =SUM(B35:B37) -> 45640000 | C38: =SUM(C35:C37) -> 26082000
A39: SKONSOLIDOWANE SPRAWOZDANIE Z PRZEPŁYWÓW PIENIĘŻNYCH ZA OKRES OD 1 STYCZNIA 2022 DO 31 GRUDNIA 2022 [METODA POŚREDNIA] - [C.D.]
B40: tys.PLN
...

Sheet ZZKW_s
A1: SKONSOLIDOWANE SPRAWOZDANIE ZE ZMIAN W KAPITALE WŁASNYM ZA OKRES SPRAWOZDAWCZY KOŃCZĄCY SIĘ 31 GRUDNIA 2022 ROKU
B2: tys.PLN
B3: Kapitał podstawowy | C3: Nadwyżka ze sprzedaży akcji | D3: Kapitał rezerwowy | E3: Zyski zatrzymane | F3: Różnice kursowe z przeliczenia jednostek zależnych | G3: Przypadające akcjonariuszom jednostki dominującej | H3: Udziały niekontrolujące | I3: Razem
A4: Stan na 1 stycznia 2021 roku | B4: 3707 | C4: 38412 | D4: 0 | E4: 52937 | F4: 50 | G4: =B4+D4+C4+E4+F4 -> 95106 | H4: 0 | I4: =G4+H4 -> 95106
A5: Zysk netto za rok obrotowy | B5: 0 | C5: 0 | D5: 0 | E5: =RZIS_s!D43/1000 -> 7454 | F5: 0 | G5: =B5+D5+C5+E5+F5 -> 7454 | H5: =RZIS_s!D44/1000 -> 9610 | I5: =G5+H5 -> 17064
A6: Pozostałe całkowite dochody za rok obrotowy (netto) | B6: 0 | C6: 0 | D6: 0 | E6: 0 | F6: =SSCD_s!D6/1000 -> -117 | G6: =B6+D6+C6+E6+F6 -> -117 | H6: 0 | I6: =G6+H6 -> -117
A7: Suma całkowitych dochodów | B7: =B5+B6 -> 0 | C7: =C5+C6 -> 0 | D7: =D5+D6 -> 0 | E7: =E5+E6 -> 7454 | F7: =F5+F6 -> -117 | G7: =G5+G6 -> 7337 | H7: =H5+H6 -> 9610 | I7: =G7+H7 -> 16947
A8: Transakcja z udziałowcami mniejszościowymi | B8: 0 | C8: 0 | D8: 0 | E8: 34254 | F8: 0 | G8: =E8 -> 34254 | H8: 70799 | I8: =G8+H8 -> 105053
A9: Nabycie jednostki zależnej | B9: 0 | C9: 0 | D9: 0 | E9: 0 | F9: 0 | G9: 0 | H9: 2047 | I9: =G9+H9 -> 2047
A10: Kapitał rezerwowy na program opcyjny | B10: 0 | C10: 0 | D10: 257 | E10: 0 | F10: 0 | G10: =D10 -> 257 | H10: 0 | I10: =G10+H10 -> 257
A11: Wypłata dywidendy | B11: 0 | C11: 0 | D11: 0 | E11: -3954 | F11: 0 | G11: =B11+D11+C11+E11+F11 -> -3954 | H11: 0 | I11: =G11+H11 -> -3954
A12: Zmiana kapitałów własnych | B12: =SUM(B7:B11) -> 0 | C12: =SUM(C7:C11) -> 0 | D12: =SUM(D7:D11) -> 257 | E12: =SUM(E7:E11) -> 37754 | F12: =SUM(F7:F11) -> -117 | G12: =SUM(G7:G11) -> 37894 | H12: =SUM(H7:H11) -> 82456 | I12: =G12+H12 -> 120350
A13: Stan na 31 grudnia 2021 roku | B13: =B4+B12 -> 3707 | C13: =C4+C12 -> 38412 | D13: =D4+D12 -> 257 | E13: =E4+E12 -> 90691 | F13: =F4+F12 -> -67 | G13: =G4+G12 -> 133000 | H13: =H4+H12 -> 82456 | I13: =I4+I12 -> 215456
A15: Stan na 1 stycznia 2022 roku | B15: =B13 -> 3707 | C15: =C13 -> 38412 | D15: =D13 -> 257 | E15: =E13 -> 90691 | F15: =F13 -> -67 | G15: =B15+D15+C15+E15+F15 -> 133000 | H15: =H13 -> 82456 | I15: =G15+H15 -> 215456
A16: Zysk netto za rok obrotowy | B16: 0 | C16: 0 | D16: 0 | E16: =RZIS_s!C43/1000 -> 13229 | F16: 0 | G16: =B16+D16+C16+E16+F16 -> 13229 | H16: =RZIS_s!C44/1000 -> 25316 | I16: =G16+H16 -> 38545
A17: Pozostałe całkowite dochody za rok obrotowy (netto) | B17: 0 | C17: 0 | D17: 0 | E17: 0 | F17: 604 | G17: =B17+D17+C17+E17+F17 -> 604 | H17: 672 | I17: =G17+H17 -> 1276
A18: Suma całkowitych dochodów | B18: =B16+B17 -> 0 | C18: =C16+C17 -> 0 | D18: =D16+D17 -> 0 | E18: =E16+E17 -> 13229 | F18: =F16+F17 -> 604 | G18: =G16+G17 -> 13833 | H18: =H16+H17 -> 25988 | I18: =G18+H18 -> 39821
A19: Przejęcie jednostek gospodarczych | B19: 0 | C19: 0 | D19: 0 | E19: 0 | F19: 0 | G19: 0 | H19: 5874 | I19: =G19+H19 -> 5874
A20: Transakcja z udziałowcami mniejszościowymi | B20: 0 | C20: 0 | D20: 0 | E20: -1476 | F20: 0 | G20: =B20+D20+C20+E20+F20 -> -1476 | H20: 1476 | I20: =G20+H20 -> 0
A21: Kapitał rezerwowy na program opcyjny | B21: 0 | C21: 0 | D21: 480 | E21: 0 | F21: 0 | G21: =B21+D21+C21+E21+F21 -> 480 | H21: 0 | I21: =G21+H21 -> 480
A22: Wypłata dywidendy | B22: 0 | C22: 0 | D22: 0 | E22: -3954 | F22: 0 | G22: =B22+D22+C22+E22+F22 -> -3954 | H22: 0 | I22: =G22+H22 -> -3954
A23: Zmiana kapitałów własnych | B23: =B18+B19+B20+B21+B22 -> 0 | C23: =C18+C19+C20+C21+C22 -> 0 | D23: =D18+D19+D20+D21+D22 -> 480 | E23: =E18+E19+E20+E21+E22 -> 7799 | F23: =F18+F19+F20+F21+F22 -> 604 | G23: =G18+G19+G20+G21+G22 -> 8883 | H23: =H18+H19+H20+H21+H22 -> 33338 | I23: =I18+I19+I20+I21+I22 -> 42221
A24: Stan na 31 grudnia 2022 roku | B24: =B15+B23 -> 3707 | C24: =C15+C23 -> 38412 | D24: =D15+D23 -> 737 | E24: =E15+E23 -> 98490 | F24: =F15+F23 -> 537 | G24: =G15+G23 -> 141883 | H24: =H15+H23 -> 115794 | I24: =I15+I23 -> 257677

Sheet Bilans_j
A1: JEDNOSTKOWE SPRAWOZDANIE FINANSOWE AILLERON SA ZA 2022 ROK ZAKOŃCZONY 31/12/2022
A2: SPORZĄDZONE WEDŁUG MIĘDZYNARODOWYCH STANDARDÓW SPRAWOZDAWCZOŚCI FINANSOWEJ
A3: WSZYSTKIE KWOTY PODANO W TYSIĄCACH ZŁOTYCH POLSKICH (TYS. PLN), O ILE NIE WSKAZANO INACZEJ
A4: JEDNOSTKOWE SPRAWOZDANIE Z SYTUACJI FINANSOWEJ NA DZIEŃ 31.12.2022 ROKU
A5: AKTYWA | B5: nota | C5: tys. PLN
C6: Stan na 31/12/2022 | D6: Stan na 31/12/2021
A8: AKTYWA TRWAŁE | C8: =SUM(C9:C14) -> 76126 | D8: =SUM(D9:D14) -> 65559
A9: Rzeczowe aktywa trwałe | B9: 15 | C9: =11748 -> 11748 | D9: 13232
A10: Pozostałe aktywa niematerialne | B10: 16 | C10: 25236 | D10: 13851
A11: Inwestycje w jednostkach zależnych | B11: 18 | C11: 31205 | D11: 31205
A12: Aktywa z tytułu podatku odroczonego | B12: 10 | D12: 0
A13: Należności z tytułu leasingu finansowego | B13: 17 | C13: =7660 -> 7660 | D13: 7001
A14: Pozostałe aktywa | B14: 20 | C14: 277 | D14: 270
A15: AKTYWA OBROTOWE | C15: =SUM(C16:C24) -> 39892 | D15: =SUM(D16:D24) -> 58124
A16: Zapasy | B16: 21 | C16: 59 | D16: 229
A17: Należności z tytułu dostaw i usług | B17: 22 | C17: 11633 | D17: 13936
A18: Należności krótkoterminowe pozostałe | C18: 1526 | D18: 887
A19: Należności z tytułu leasingu finansowego | B19: 17 | C19: 2908 | D19: 1865
A20: Aktywa kontraktowe | B20: 6.23 | C20: 4227 | D20: 3822
A21: Pozostałe aktywa finansowe | B21: 19 | C21: 1705 | D21: 1396
A22: Należności z tytułu bieżącego podatku dochodowego | C22: 0 | D22: 731
A23: Należności z tytułu innych podatków niż podatek dochodowy | B23: 10 | C23: 943 | D23: 703
A24: Środki pieniężne i ich ekwiwalenty | B24: 36 | C24: 16891 | D24: 34555
A25: Grupa aktywów przeznaczonych do zbycia | B25: 12
A26: AKTYWA RAZEM | C26: =C8+C15 -> 116018 | D26: =D8+D15+D25 -> 123683
A29: JEDNOSTKOWE SPRAWOZDANIE Z SYTUACJI FINANSOWEJ NA DZIEŃ 31.12.2022 ROKU -C.D.
A30: PASYWA | B30: nota | C30: tys. PLN
C31: =C6 -> Stan na 31/12/2022 | D31: =D6 -> Stan na 31/12/2021
A32: KAPITAŁ WŁASNY | C32: =SUM(C33:C36) -> 75163 | D32: =SUM(D33:D36) -> 85558
A33: Kapitał akcyjny | B33: 24 | C33: 3707 | D33: 3707
A34: Kapitał rezerwowy | C34: 737 | D34: 257
A35: Nadwyżka ze sprzedaży akcji | B35: 24 | C35: 38412 | D35: 38412
A36: Zyski zatrzymane | B36: 25 | C36: 32307 | D36: 43182
A37: ZOBOWIĄZANIA | C37: =C38+C43 -> 40855 | D37: =D38+D43+D52 -> 38125
A38: Zobowiązania długoterminowe | C38: =SUM(C39:C42) -> 16625 | D38: =SUM(D39:D42) -> 18155
A39: Długoterminowe zobowiązania leasingowe | B39: 27 | C39: 16013 | D39: 16973
A40: Rezerwa na świadczenia emerytalne i podobne | B40: 28 | C40: 124 | D40: 90
A41: Inne rezerwy długoterminowe | C41: 0 | D41: 21
A42: Rezerwa z tytułu odroczonego podatku dochodowego | B42: 10 | C42: 488 | D42: 1071
A43: Zobowiązania krótkoterminowe | C43: =SUM(C44:C51) -> 24230 | D43: =SUM(D44:D51) -> 19970
...

Sheet RZIS_j
A1: JEDNOSTKOWY RACHUNEK ZYSKÓW I STRAT ZA OKRES 01.01.2022 - 31.12.2022
A2: JEDNOSTKOWY RACHUNEK ZYSKÓW I STRAT (Wariant kalkulacyjny) | B2: nota | C2: tys.PLN
C3: Okres zakończony 31/12/2022 | D3: Okres zakończony 31/12/2021
A4: Działalność kontynuowana
A5: PRZYCHODY ZE SPRZEDAŻY | B5: 5, 6 | C5: =71254-3359 -> 67895 | D5: =64537-4384 -> 60153
A6: Przychody ze sprzedaży usług
A7: Przychody ze sprzedaży towarów i materiałów
A8: Koszt własny sprzedaży (koszt sprzedanych produktów, usług, towarów i materiałów) | C8: =53065-5742-17 -> 47306 | D8: =45461-4324 -> 41137
A9: Koszt sprzedanych usług
A10: Koszt sprzedanych towarów i materiałów
A11: ZYSK (STRATA) BRUTTO ZE SPRZEDAŻY | C11: =C5-C8 -> 20589 | D11: =D5-D8 -> 19016
A12: Koszty sprzedaży | C12: 11001 | D12: 10668
A13: Koszty ogólnego zarządu | C13: 12793 | D13: 13288
A14: Pozostałe przychody operacyjne | B14: 9 | C14: 815 | D14: 1729
A15: Pozostałe koszty operacyjne | B15: 9 | C15: 2436 | D15: 137
A16: ZYSK (STRATA) NA DZIAŁALNOŚCI OPERACYJNEJ | C16: =C11-C12-C13+C14-C15 -> -4826 | D16: =D11-D12-D13+D14-D15 -> -3348
A17: Przychody finansowe | B17: 7 | C17: 1060 | D17: 32771
A18: Koszty finansowe | B18: 8 | C18: 1266 | D18: 1589
A19: Zysk (strata) przed opodatkowaniem | C19: =C16+C17-C18 -> -5032 | D19: =D16+D17-D18 -> 27834
A21: Podatek dochodowy | B21: 10 | C21: =-510+453+3 -> -54 | D21: =4757-11 -> 4746
A22: Część bieżąca
A23: Część odroczona
A24: Zysk (strata) netto z działalności kontynuowanej | C24: =C19-C21 -> -4978 | D24: =D19-D21 -> 23088
A25: Działalność zaniechana | B25: 11
A26: Przychody ze sprzedaży | C26: 3359 | D26: =12095+4384 -> 16479
A27: Koszty operacyjne ogółem | C27: =5742+17 -> 5759 | D27: =10651+4324 -> 14975
A28: Zysk (strata) z działalności operacyjnej | C28: =C26-C27 -> -2400 | D28: =D26-D27 -> 1504
A29: Podatek dochodowy | C29: =C28*0.19 -> -456 | D29: ='[51]10-14 '!I44+'[51]10-14 '!H44 -> 285.4
A30: Zysk (strata) netto z działalności zaniechanej | B30: 11 | C30: =C28-C29 -> -1944 | D30: =D28-D29 -> 1218.6
A31: ZYSK (STRATA) NETTO RAZEM | C31: =C24+C30 -> -6922 | D31: =D24+D30 -> 24306.6
A34: JEDNOSTKOWY RACHUNEK ZYSKÓW I STRAT ZA OKRES 01.01.2022 - 31.12.2022 - C.D.
A35: JEDNOSTKOWY RACHUNEK ZYSKÓW I STRAT (Wariant kalkulacyjny) | B35: nota | C35: tys. PLN
C36: =C3 -> Okres zakończony 31/12/2022 | D36: =D3 -> Okres zakończony 31/12/2021
A37: Zysk (strata) netto: | C37: =C31 -> -6922 | D37: =D31 -> 24306.6
A38: Akcjonariuszom podmiotu dominującego | C38: =C31 -> -6922 | D38: =D31 -> 24306.6
A39: Zysk (strata) netto na jedną akcję zwykłą | B39: 14
A40: (w zł/gr na jedną akcję):
A41: z działalności kontynuowanej:
A42: - podstawowy | C42: =C24/12355504*1000 -> -0.40289736 | D42: =D24/12355504*1000 -> 1.8686409
A43: - rozwodniony | C43: =C42 -> -0.40289736 | D43: =D42 -> 1.8686409
...

Sheet SSCD_j
A1: JEDNOSTKOWE SPRAWOZDANIE Z CAŁKOWITYCH DOCHODÓW ZA OKRES 01.01.2022 - 31.12.2022
A2: JEDNOSTKOWE SPRAWOZDANIE Z CAŁKOWITYCH DOCHODÓW | C2: tys. PLN
C3: Okres zakończony 31/12/2022 | D3: Okres zakończony 31/12/2021
A4: ZYSK (STRATA) NETTO | C4: =RZIS_j!C37*1000 -> -6922000 | D4: =RZIS_j!D37*1000 -> 24306600
A5: Pozostałe dochody całkowite | C5: 0 | D5: 0
A6: Różnice kursowe z przeliczenia jednostek zagranicznych | C6: 0 | D6: 0
A7: POZOSTAŁE CAŁKOWITE DOCHODY NETTO | C7: =C6 -> 0 | D7: =D6 -> 0
A8: SUMA CAŁKOWITYCH DOCHODÓW | C8: =C4+C7 -> -6922000 | D8: =D4+D7 -> 24306600

Sheet CF_j
A1: JEDNOSTKOWE SPRAWOZDANIE Z PRZEPŁYWÓW PIENIĘŻNYCH ZA OKRES OD 1 STYCZNIA 2022 DO 31 GRUDNIA 2022 [METODA POŚREDNIA]
B2: tys. PLN
B3: Okres zakończony 31/12/2022 | C3: Okres zakończony 31/12/2021
A4: Przepływy pieniężne z działalności operacyjnej
A5: Zysk za rok obrotowy | B5: =RZIS_j!C31 -> -6922 | C5: =RZIS_j!D31 -> 24306.6
A6: Korekty: | B6: =SUM(B7:B26) -> 12212 | C6: =SUM(C7:C26) -> -10167.6
A7: Koszt podatku dochodowego ujęty w wyniku | B7: =RZIS_j!C21+RZIS_j!C29 -> -510 | C7: =RZIS_j!D21+RZIS_j!D29 -> 5031.4
A8: Koszty finansowe ujęte w wyniku | B8: 678 | C8: 980
A9: Przychody z inwestycji ujęte w wyniku | B9: -355 | C9: -32636
A10: Zysk/Strata ze zbycia/zmiany przeznaczenia składników rzeczowych aktywów trwałych | B10: 1638 | C10: -351
A11: (Zysk) / strata netto z wyceny aktywów/zobowiązań finansowych wycenianych w skorygowanej cenie nabycia | B11: 517 | C11: 266
A12: Zysk/Strata z tytułu odwrócenia odpisu/utraty wartości należności z tytułu dostaw i usług | B12: =657-847 -> -190 | C12: =502-747 -> -245
A13: Amortyzacja i umorzenie aktywów trwałych | B13: 5847 | C13: 6912
A14: (Dodatnie) / ujemne różnice kursowe netto | B14: 538 | C14: 532
A16: Zmiany w kapitale obrotowym:
A17: (Zwiększenie) / zmniejszenie salda należności z tytułu dostaw i usług oraz pozostałych należności | B17: 1614 | C17: 14079
A18: (Zwiększenie) / zmniejszenie aktywów kontraktowych | B18: 0 | C18: 0
A19: (Zwiększenie) / zmniejszenie stanu zapasów | B19: 170 | C19: 1444
A20: (Zwiększenie) / zmniejszenie pozostałych aktywów | B20: -423 | C20: 2423
A21: Zmniejszenie salda zobowiązań z tytułu dostaw i usług oraz pozostałych zobowiązań | B21: 2016 | C21: -6182
A22: Zmniejszenie salda zobowiązań kontraktowych | B22: =-907+907 -> 0 | C22: 0
A23: Zwiększenie / (zmniejszenie) rezerw | B23: =615-481 -> 134 | C23: 317
A24: Zwiększenie / (zmniejszenie) przychodów przyszłych okresów | B24: -322 | C24: -146
A25: Zwiększenie / (zmniejszenie) pozostałych zobowiązań | B25: 379 | C25: -2592
A26: Korekta z tyt. programu motywacyjnego | B26: 481 | C26: 0
A27: Środki pieniężne wygenerowane na działalności operacyjnej | B27: =B5+B6 -> 5290 | C27: =C5+C6 -> 14139
A28: Zapłacone odsetki | B28: -824 | C28: -1512
A29: Zapłacony podatek dochodowy | B29: 731 | C29: -5527
A30: ŚRODKI PIENIĘŻNE NETTO Z DZIAŁALNOŚCI OPERACYJNEJ | B30: =SUM(B27:B29) -> 5197 | C30: =SUM(C27:C29) -> 7100
A31: JEDNOSTKOWE SPRAWOZDANIE Z PRZEPŁYWÓW PIENIĘŻNYCH ZA OKRES OD 1 STYCZNIA 2022 DO 31 GRUDNIA 2022 [METODA POŚREDNIA] - C.D
B32: tys.PLN
B33: =B3 -> Okres zakończony 31/12/2022 | C33: =C3 -> Okres zakończony 31/12/2021
A35: Przepływy pieniężne z działalności inwestycyjnej
A36: Wpływy ze sprzedaży aktywów finansowych | B36: 0 | C36: 37422
A37: Spłata należności leasingowych | B37: 2803 | C37: 0
A38: Odsetki otrzymane od subleasingu | B38: 355 | C38: 0
A39: Pożyczki udzielone jednostkom powiązanym | B39: -825 | C39: -527
A40: Spłata pożyczek wraz z odsetkami od jednostek pozostałych | B40: 10 | C40: 20
A41: Pożyczki udzielone pozostałym podmiotom
A42: Płatności za rzeczowe aktywa trwałe | B42: -459 | C42: -737
...

Sheet ZZKW_j
A1: JEDNOSTKOWE SPRAWOZDANIE ZE ZMIAN W KAPITALE WŁASNYM ZA OKRES SPRAWOZDAWCZY KOŃCZĄCY SIĘ 31 GRUDNIA 2022 ROKU
B2: tys. PLN
B3: Kapitał podstawowy | C3: Kapitał rezerwowy | D3: Nadwyżka ze sprzedaży akcji | E3: Zyski zatrzymane | F3: Razem
A4: Stan na 1 stycznia 2021 roku | B4: 3707 | C4: 0 | D4: 38412 | E4: 22828 | F4: =SUM(B4:E4) -> 64947
A5: Zysk netto za rok obrotowy | B5: 0 | C5: 0 | D5: 0 | E5: =RZIS_j!D31 -> 24306.6 | F5: =SUM(B5:E5) -> 24306.6
A6: Pozostałe całkowite dochody za rok obrotowy (netto) | B6: 0 | C6: 0 | D6: 0 | E6: - | F6: =SUM(B6:E6) -> 0
A7: Suma całkowitych dochodów | B7: =SUM(B5:B6) -> 0 | C7: =SUM(C5:C6) -> 0 | D7: =SUM(D5:D6) -> 0 | E7: =SUM(E5:E6) -> 24306.6 | F7: =SUM(B7:E7) -> 24306.6
A8: Kapitał rezerwowy na program opcyjny | B8: 0 | C8: 257 | D8: 0 | E8: 0 | F8: =SUM(B8:E8) -> 257
A9: Wypłata dywidendy | B9: 0 | C9: 0 | D9: 0 | E9: -3953 | F9: =SUM(B9:E9) -> -3953
A10: Zmiana kapitałów własnych | B10: =B7+B8+B9 -> 0 | C10: =C7+C8+C9 -> 257 | D10: =D7+D8+D9 -> 0 | E10: =E7+E8+E9 -> 20353.6 | F10: =SUM(B10:E10) -> 20610.6
A11: Stan na 31 grudnia 2021 roku | B11: =B4+B10 -> 3707 | C11: =C4+C10 -> 257 | D11: =D4+D10 -> 38412 | E11: =E4+E10 -> 43181.6 | F11: =F4+F10 -> 85557.6
A13: Stan na 1 stycznia 2022 roku | B13: =B11 -> 3707 | C13: =C11 -> 257 | D13: =D11 -> 38412 | E13: =E11 -> 43181.6 | F13: =SUM(B13:E13) -> 85557.6
A14: Zysk netto za rok obrotowy | B14: 0 | C14: 0 | D14: 0 | E14: =RZIS_j!C31 -> -6922 | F14: =SUM(B14:E14) -> -6922
A15: Pozostałe całkowite dochody za rok obrotowy (netto) | B15: 0 | C15: 0 | D15: 0 | E15: 0 | F15: =SUM(B15:E15) -> 0
A16: Suma całkowitych dochodów | B16: =SUM(B14:B15) -> 0 | C16: =SUM(C14:C15) -> 0 | D16: =SUM(D14:D15) -> 0 | E16: =SUM(E14:E15) -> -6922 | F16: =SUM(B16:E16) -> -6922
A17: Kapitał rezerwowy na program opcyjny | B17: 0 | C17: 480 | D17: 0 | E17: 0 | F17: =SUM(B17:E17) -> 480
A18: Wypłata dywidendy | B18: 0 | C18: 0 | D18: 0 | E18: -3953 | F18: =SUM(B18:E18) -> -3953
A19: Zmiana kapitałów własnych | B19: =SUM(B16:B18) -> 0 | C19: =SUM(C16:C18) -> 480 | D19: =SUM(D16:D18) -> 0 | E19: =SUM(E16:E18) -> -10875 | F19: =SUM(B19:E19) -> -10395
A20: Stan na 31 grudnia 2022 roku | B20: =B13+B19 -> 3707 | C20: =C13+C19 -> 737 | D20: =D13+D19 -> 38412 | E20: =E13+E19 -> 32306.6 | F20: =F13+F19 -> 75162.6
