Workbook
Name _R1_Nieodlaczne: #REF!
Name _R1_Nieodlaczne: #REF!
Name _R1_Nieodlaczne: #REF!
Name _R2_Kontrolwewn: #REF!
Name _R2_Kontrolwewn: #REF!
Name _R2_Kontrolwewn: #REF!
Name _R3_Analityczne: #REF!
Name _R3_Analityczne: #REF!
Name _R3_Analityczne: #REF!
Name aa: [2]SF!$C$201:$D$203,[2]SF!$C$205:$D$207,[2]SF!$C$209:$D$210,[2]SF!$C$213:$D$215,[2]SF!$C$217:$D$219,[2]SF!$C$222:$D$228,[2]SF!$C$230:$D$234,[2]SF!$C$237:$D$238,[2]SF!$C$240:$D$241
Name aaa: #REF!
Name aaa: #REF!
Name aaa: #REF!
Name adres: [3]WSTĘP!$IU$5
Name ala: [4]WSTĘP!$IU$9
Name ala: [4]WSTĘP!$IU$9
Name B.O.: [3]WSTĘP!$IU$13
Name B.Z.: [3]WSTĘP!$IU$9
Name bbb: #REF!
Name bbb: #REF!
Name bbb: #REF!
Name cfff: #REF!
Name COP: #REF!
Name COP: #REF!
Name COP: #REF!
Name Dane_kalkulacyjny: [5]SF!$C$201:$D$203,[5]SF!$C$205:$D$207,[5]SF!$C$209:$D$210,[5]SF!$C$213:$D$215,[5]SF!$C$217:$D$219,[5]SF!$C$222:$D$228,[5]SF!$C$230:$D$234,[5]SF!$C$237:$D$238,[5]SF!$C$240:$D$241
Name Dane_porównawczy: [5]SF!$C$147:$D$151,[5]SF!$C$153:$D$161,[5]SF!$C$164:$D$166,[5]SF!$C$168:$D$170,[5]SF!$C$173:$D$179,[5]SF!$C$181:$D$185,[5]SF!$C$188:$D$189,[5]SF!$C$191:$D$192
Name Dane_RZiS_1.Rodz.: [6]SF!$C$105:$D$108,[6]SF!$C$110:$D$117,[6]SF!$C$120:$D$122,[6]SF!$C$124:$D$125,[6]SF!$C$128:$D$131,[6]SF!$C$133:$D$136,[6]SF!$C$138:$D$139,[6]SF!$C$142:$D$143
Name Dane_RZiS_2.Kalk.: [6]SF!$C$151,[6]SF!$C$151:$D$152,[6]SF!$C$154:$D$155,[6]SF!$C$157:$D$158,[6]SF!$C$161:$D$163,[6]SF!$C$165:$D$166,[6]SF!$C$169:$D$172,[6]SF!$C$174:$D$177,[6]SF!$C$179:$D$180,[6]SF!$C$183:$D$184
Name DataZatw: [7]Wstęp!$CI$88
Name DB: [8]P1!$AX$126
Name FromaPrawna: [3]WSTĘP!$IU$3
Name kodmiejscowość: [3]WSTĘP!$IU$6
Name KonOkrSpraw: [7]Wstęp!$CI$73
Name Korekty_Aktywa: [6]SF!$F$11:$U$15,[6]SF!$F$17:$U$23,[6]SF!$F$25:$U$29,[6]SF!$F$32:$U$36,[6]SF!$F$38:$T$42,[6]SF!$U$38,[6]SF!$U$40:$U$42,[6]SF!$F$44:$U$45,[6]SF!$F$47:$U$49,[6]SF!$F$51:$U$52
Name Korekty_Pasywa: [6]SF!$F$60:$U$61,[6]SF!$F$63:$U$69,[6]SF!$F$71:$U$72,[6]SF!$F$75:$U$75,[6]SF!$F$77:$U$78,[6]SF!$F$80:$U$82,[6]SF!$F$85:$T$94,[6]SF!$U$85:$U$89,[6]SF!$U$91:$U$94,[6]SF!$F$96:$U$97
Name Korekty_RZiS_1.Rodz.: [6]SF!$F$105:$U$108,[6]SF!$F$110:$U$117,[6]SF!$F$120:$U$122,[6]SF!$F$124:$U$125,[6]SF!$F$128:$U$131,[6]SF!$F$133:$U$136,[6]SF!$F$138:$U$139,[6]SF!$F$142:$T$143,[6]SF!$U$143
Name Korekty_RZiS_2.Kalk.: [6]SF!$F$151:$U$152,[6]SF!$F$154:$U$155,[6]SF!$F$157:$U$158,[6]SF!$F$161:$U$163,[6]SF!$F$165:$U$166,[6]SF!$F$169:$U$172,[6]SF!$F$174:$U$177,[6]SF!$F$179:$U$180,[6]SF!$F$183:$T$184,[6]SF!$U$184
Name LDB: [8]P1!$AX$123
Name LOK: [8]P1!$AX$124
Name LOKW: [8]P1!$AX$125
Name MiejsceData: [3]WSTĘP!$IU$78
Name miejscowość: [3]WSTĘP!$IU$8
Name n: #REF!
Name n: #REF!
Name n: #REF!
Name NazwaJednostki: [7]Wstęp!$Q$15
Name OdDo: [7]Wstęp!$CI$63
Name OdDoPoprz: [7]Wstęp!$CI$64
Name OK: [8]P1!$AX$127
Name okresbieżący: [3]WSTĘP!$IU$16
Name okrespoprzedni: [3]WSTĘP!$IU$18
Name ostatnia_komórka: #REF!
Name Pain: [8]P1!$AX$134
Name pierwsza_komórka: #REF!
Name PoprzedniB.Z.: [3]WSTĘP!$IU$15
Name PoziomZaokraglen: [7]Wstęp!$CI$117
Name RZISjednoKRSwzor: [7]Wstęp!$Q$15
Name SiedzibaMiasto: [7]Wstęp!$V$19
Name SkrotWaluty: [7]Wstęp!$CI$108

Sheet Bilans_s
A1: SKONSOLIDOWANE SPRAWOZDANIE FINANSOWE GRUPY KAPITAŁOWEJ AILLERON SA ZA 2021 ROK ZAKOŃCZONY 31/12/2021
A2: SPORZĄDZONE WEDŁUG MIĘDZYNARODOWYCH STANDARDÓW SPRAWOZDAWCZOŚCI FINANSOWEJ
A3: WSZYSTKIE KWOTY PODANO W TYSIĄCACH ZŁOTYCH POLSKICH (TYS. PLN), O ILE NIE WSKAZANO INACZEJ
A5: SKONSOLIDOWANE SPRAWOZDANIE Z SYTUACJI FINANSOWEJ NA DZIEŃ 31.12.2021 ROKU
A6: AKTYWA | B6: nota | C6: tys. PLN
C7: Stan na 31/12/2021 | D7: Stan na 31/12/2020
A9: AKTYWA TRWAŁE | C9: =SUM(C10:C17) -> 94490000 | D9: =SUM(D10:D17) -> 74121000
A10: Rzeczowe aktywa trwałe | B10: 13 | C10: 22785000 | D10: 26137000
A11: Nieruchomości inwestycyjne | B11: 16 | D11: 0
A12: Wartość firmy | B12: 14 | C12: 51349000 | D12: 38692000
A13: Pozostałe aktywa niematerialne | B13: 15 | C13: 17965000 | D13: 6146000
A14: Inwestycje w jednostkach zależnych | B14: 16 | C14: 1428000 | D14: 106000
A15: Aktywa z tytułu podatku odroczonego | B15: 10 | C15: 693000 | D15: 2546000
A16: Pozostałe aktywa finansowe | B16: 22 | D16: 0
A17: Pozostałe aktywa | B17: 18 | C17: 270000 | D17: 494000
A18: AKTYWA OBROTOWE | C18: =SUM(C19:C28) -> 180626000 | D18: =SUM(D19:D28) -> 88731000
A19: Zapasy | B19: 19 | C19: 1041000 | D19: 5374000
A20: Należności z tytułu dostaw i usług | B20: 20 | C20: 58440000 | D20: =44839000-D21 -> 44802000
A21: Należności krótkoterminowe pozostałe | C21: 910000 | D21: =30000+3000+4000 -> 37000
A22: Aktywa kontraktowe | B22: 6, 21 | C22: 4494000 | D22: 10309000
A23: Pozostałe aktywa finansowe | C23: 40000 | D23: 1830000
A24: Należności z tytułu bieżącego podatku dochodowego | C24: 736000 | D24: 0
A25: Należności z tytułu innych podatków niż podatek dochodowy | B25: 10 | C25: 3626000 | D25: 2666000
A26: Pozostałe aktywa | B26: 23 | C26: 0 | D26: 0
A27: Środki pieniężne i ich ekwiwalenty | B27: 34 | C27: 111339000 | D27: 23713000
A28: Aktywa klasyfikowane jako przeznaczone do zbycia | B28: 12 | C28: 0 | D28: 0
A29: AKTYWA RAZEM | C29: =C9+C18 -> 275116000 | D29: =D9+D18 -> 162852000
A31: SKONSOLIDOWANE SPRAWOZDANIE Z SYTUACJI FINANSOWEJ NA DZIEŃ 31.12.2021 ROKU - [C.D.]
A32: PASYWA | B32: nota | C32: tys. PLN
C33: =C7 -> Stan na 31/12/2021 | D33: =D7 -> Stan na 31/12/2020
A34: KAPITAŁ WŁASNY | C34: =C35+C43 -> 215456000 | D34: =D35+D43 -> 95106000
A35: Kapitał własny przypadający na akcjonariuszy jednostki dominującej | C35: =SUM(C36:C42) -> 133000000 | D35: =SUM(D36:D43) -> 95106000
A36: Kapitał akcyjny | B36: 22 | C36: 3707000 | D36: 3707000
A37: Nadwyżka ze sprzedaży akcji | B37: 22 | C37: 38412000 | D37: 38412000
A38: Kapitał rezerwowy | C38: 257000 | D38: 0
A39: Zyski zatrzymane | B39: 23 | C39: 90691000 | D39: 52937000
A40: Wynik wycen odnoszonych bezpośrednio poprzez kapitał własny | D40: 0
A41: Kwoty ujęte bezpośrednio w kapitale, związane z aktywami klasyfikowanymi jako przeznaczone do zbycia, | D41: 0
A42: Różnice kursowe z przeliczenia jednostek zagranicznych | C42: -67000 | D42: 50000
A43: Udziały niekontrolujące | C43: 82456000 | D43: 0
...

Sheet RZIS_s
A1: SKONSOLIDOWANY RACHUNEK ZYSKÓW I STRAT ZA OKRES 01.01.2021 - 31.12.2021
A2: SKONSOLIDOWANY RACHUNEK ZYSKÓW I STRAT (Wariant kalkulacyjny) | B2: nota | C2: tys.PLN
C3: Okres zakończony 31/12/2021 | D3: Okres zakończony 31/12/2020
A4: Działalność kontynuowana
A5: PRZYCHODY ZE SPRZEDAŻY | B5: 5, 6 | C5: =SUM(C6:C8) -> 216832000 | D5: =SUM(D6:D8) -> 156204000
A6: Przychody ze sprzedaży wyrobów | C6: 0 | D6: 0
A7: Przychody ze sprzedaży usług | C7: 201305000 | D7: 148506000
A8: Przychody ze sprzedaży towarów i materiałów | C8: 15527000 | D8: 7698000
A9: Koszt własny sprzedaży (koszt sprzedanych produktów, usług, towarów i materiałów) | C9: =SUM(C10:C12) -> 146431000 | D9: =SUM(D10:D12) -> 108417000
A10: Koszt wytworzenia sprzedanych wyrobów | C10: 0 | D10: 0
A11: Koszt sprzedanych usług | C11: 132209000 | D11: 101531000
A12: Koszt sprzedanych towarów i materiałów | C12: 14222000 | D12: 6886000
A13: ZYSK (STRATA) BRUTTO ZE SPRZEDAŻY | C13: =C5-C9 -> 70401000 | D13: =D5-D9 -> 47787000
A14: Koszty sprzedaży | C14: 21084000 | D14: 15674000
A15: Koszty ogólnego zarządu | C15: 21860000 | D15: 16252000
A16: Pozostałe przychody operacyjne | B16: 9 | C16: 82000 | D16: 69000
A17: Pozostałe koszty operacyjne | B17: 9 | C17: 115000 | D17: 410000
A18: ZYSK (STRATA) NA DZIAŁALNOŚCI OPERACYJNEJ | C18: =C13-C14-C15+C16-C17 -> 27424000 | D18: =D13-D14-D15+D16-D17 -> 15520000
A19: Przychody finansowe | B19: 7 | C19: 450000 | D19: 240000
A20: Koszty finansowe | B20: 8 | C20: 2278000 | D20: 2236000
A21: Udział w zyskach jednostek stowarzyszonych | C21: 0 | D21: 0
A22: Zysk ze sprzedaży udziałów w jednostce stowarzyszonej | C22: 0 | D22: 0
A23: Zysk (strata) przed opodatkowaniem | C23: =C18+C19-C20 -> 25596000 | D23: =D18+D19-D20 -> 13524000
A25: Podatek dochodowy | B25: 10 | C25: =SUM(C26:C27) -> 8532000 | D25: =SUM(D26:D27) -> 4093000
A26: Część bieżąca | C26: 8317000 | D26: 5414000
A27: Część odroczona | C27: =374000-159000 -> 215000 | D27: -1321000
A28: Zysk (strata) netto z działalności kontynuowanej | B28: 12 | C28: =C23-C25 -> 17064000 | D28: =D23-D25 -> 9431000
A29: Działalność zaniechana
A30: Zysk (strata) netto z działalności zaniechanej | C30: 0 | D30: 0
A31: Różnice kursowe z przeliczenia jednostek zagranicznych | C31: 0 | D31: 0
A32: Całkowite dochody ogółem | C32: =C28-C31 -> 17064000 | D32: =D28-D31 -> 9431000
A33: ZYSK (STRATA) NETTO | C33: =C28 -> 17064000 | D33: =D28 -> 9431000
A35: SKONSOLIDOWANY RACHUNEK ZYSKÓW I STRAT ZA OKRES 01.01.2021 - 31.12.2021 - [C.D.]
A36: SKONSOLIDOWANY RACHUNEK ZYSKÓW I STRAT (Wariant kalkulacyjny) | B36: nota | C36: tys.PLN
C37: =C3 -> Okres zakończony 31/12/2021 | D37: =D3 -> Okres zakończony 31/12/2020
A38: Zysk (strata) netto, z tego przypadający: | C38: =C33 -> 17064000 | D38: =D33 -> 9431000
A39: Akcjonariuszom jednostki dominującej | C39: 7454000 | D39: =D33 -> 9431000
A40: Udziałom niedającym kontroli | C40: =C38-C39 -> 9610000 | D40: 0
A41: Zysk (strata) netto na jedną akcję zwykłą | B41: 12
A42: (w zł/gr na jedną akcję):
...

Sheet SSCD_s
A1: SKONSOLIDOWANE SPRAWOZDANIE Z CAŁKOWITYCH DOCHODÓW ZA OKRES 01.01.2021 - 31.12.2021
A2: SKONSOLIDOWANE SPRAWOZDANIE Z CAŁKOWITYCH DOCHODÓW | C2: tys.PLN
C3: Okres zakończony 31/12/2021 | D3: Okres zakończony 31/12/2020
A4: ZYSK (STRATA) NETTO | C4: =RZIS_s!C33 -> 17064000 | D4: =RZIS_s!D33 -> 9431000
A5: Pozostałe dochody całkowite
A6: Różnice kursowe z przeliczenia jednostek zagranicznych | C6: -117000 | D6: 29000
A7: POZOSTAŁE CAŁKOWITE DOCHODY NETTO | C7: =C6 -> -117000 | D7: =D6 -> 29000
A8: SUMA CAŁKOWITYCH DOCHODÓW | C8: =C4+C7 -> 16947000 | D8: =D4+D7 -> 9460000
A9: przypadających akcjonariuszom jednostki dominującej | C9: =RZIS_s!C39-117000 -> 7337000 | D9: =D8 -> 9460000
A10: przypadających udziałom niedającym kontroli | C10: =RZIS_s!C40 -> 9610000 | D10: 0

Sheet CF_s
A1: SKONSOLIDOWANE SPRAWOZDANIE Z PRZEPŁYWÓW PIENIĘŻNYCH ZA OKRES OD 1 STYCZNIA 2021 DO 31 GRUDNIA 2021 [METODA POŚREDNIA]
B2: tys.PLN
B3: Okres zakończony 31/12/2021 | C3: Okres zakończony 31/12/2020
A4: Przepływy pieniężne z działalności operacyjnej
A5: Zysk za rok obrotowy | B5: =RZIS_s!C33 -> 17064000 | C5: =RZIS_s!D39 -> 9431000
A6: Korekty: | B6: =SUM(B7:B34) -> 23155000 | C6: =SUM(C7:C34) -> 20198000
A7: Koszt podatku dochodowego ujęty w wyniku | B7: =RZIS_s!C25 -> 8532000 | C7: =RZIS_s!D25 -> 4093000
A8: Udział w zysku jednostek stowarzyszonych | B8: 0 | C8: 0
A9: Koszty finansowe ujęte w wyniku | B9: 937000 | C9: 270000
A10: Przychody z inwestycji ujęte w wyniku | C10: 0
A11: Zysk/Strata ze zbycia/zmiany przeznaczenia składników rzeczowych aktywów trwałych | B11: -147000 | C11: =-145000+41000 -> -104000
A12: Przychody z inwestycji ujęte w wyniku | B12: 66000 | C12: 0
A13: (Zysk) / strata netto z wyceny aktywów finansowych przeznaczonych do obrotu | C13: 0
A14: Zysk/strata z tytułu zmiany przeznaczenia środków trwałych | B14: 0 | C14: 0
A15: Zysk/strata ze zbycia jednostki zależnej | B15: 0 | C15: 1622000
A16: (Zysk) / strata netto z wyceny aktywów/zobowiązań finansowych wycenianych w skorygowanej cenie nabycia | B16: 266000 | C16: 180000
A17: (Zysk) / strata netto z wyceny aktywów finansowych wycenianych w skorygowanej cenie nabycia | C17: 0
A18: Zysk/strata z tytułu zwrotu wartości inwestycji długoterminowych | B18: 0 | C18: 0
A19: Zysk/Strata z tytułu odwrócenia odpisu/utraty wartości należności z tytułu dostaw i usług | B19: =502000-746000 -> -244000 | C19: =1168000-478000 -> 690000
A20: Odwrócenie odpisu z tytułu utraty wartości należności z tytułu dostaw i usług | B20: 0 | C20: 0
A21: Amortyzacja i umorzenie aktywów trwałych | B21: 8331000 | C21: 8300000
A22: Utrata wartości aktywów trwałych | C22: 0
A23: (Dodatnie) / ujemne różnice kursowe netto | B23: 913000 | C23: -47000
A24: Pozostałe zmiany | B24: 83000 | C24: 185000
A25: Zmiany w kapitale obrotowym:
A26: (Zwiększenie) / zmniejszenie salda należności z tytułu dostaw i usług oraz pozostałych należności | B26: =-7270000+5816000 -> -1454000 | C26: =95000+3667000 -> 3762000
A27: (Zwiększenie) / zmniejszenie aktywów kontraktowych | B27: =5816000-5816000 -> 0 | C27: =3667000-3667000 -> 0
A28: (Zwiększenie) / zmniejszenie stanu zapasów | B28: 2635000 | C28: 235000
A29: (Zwiększenie) / zmniejszenie pozostałych aktywów | B29: 1744000 | C29: -844000
A30: Zmniejszenie salda zobowiązań z tytułu dostaw i usług oraz pozostałych zobowiązań pod | B30: =295000-907000 -> -612000 | C30: =1666000-1912000 -> -246000
A31: Zmniejszenie salda zobowiązań kontraktowych | B31: =-907000+907000 -> 0 | C31: =-1912000+1912000 -> 0
A32: Zwiększenie / (zmniejszenie) rezerw | B32: 4000 | C32: -94000
A33: Zwiększenie / (zmniejszenie) przychodów przyszłych okresów | B33: 1460000 | C33: -594000
A34: Zwiększenie / (zmniejszenie) pozostałych zobowiązań | B34: 641000 | C34: 2790000
A35: Środki pieniężne wygenerowane na działalności operacyjnej | B35: =SUM(B5:B6) -> 40219000 | C35: =SUM(C5:C6) -> 29629000
A36: Zapłacone odsetki i różnice kursowe | B36: -1856000 | C36: -222000
A37: Zapłacony podatek dochodowy | B37: =-13160000+879000 -> -12281000 | C37: -3688000
A38: ŚRODKI PIENIĘŻNE NETTO Z DZIAŁALNOŚCI OPERACYJNEJ | B38: =SUM(B35:B37) -> 26082000 | C38: =SUM(C35:C37) -> 25719000
A39: SKONSOLIDOWANE SPRAWOZDANIE Z PRZEPŁYWÓW PIENIĘŻNYCH ZA OKRES OD 1 STYCZNIA 2021 DO 31 GRUDNIA 2021 [METODA POŚREDNIA] - [C.D.]
B40: tys.PLN
...

Sheet ZZKW_s
A1: SKONSOLIDOWANE SPRAWOZDANIE ZE ZMIAN W KAPITALE WŁASNYM ZA OKRES SPRAWOZDAWCZY KOŃCZĄCY SIĘ 31 GRUDNIA 2021 ROKU
B2: tys.PLN
B3: Kapitał podstawowy | C3: Nadwyżka ze sprzedaży akcji | D3: Kapitał rezerwowy | E3: Zyski zatrzymane | F3: Różnice kuroswe z przeliczenia jednostek zależnych | G3: Przypadające akcjonariuszom jednostki dominującej | H3: Udziały niekontrolujące | I3: Razem
A4: Stan na 1 stycznia 2020 roku | B4: 3707 | C4: 38412 | D4: 0 | E4: 44829 | F4: 21 | G4: =B4+D4+C4+E4+F4 -> 86969 | H4: 0 | I4: =G4+H4 -> 86969
A5: Zysk netto za rok obrotowy | B5: 0 | C5: 0 | D5: 0 | E5: =RZIS_s!D39/1000 -> 9431 | F5: 0 | G5: =B5+D5+C5+E5+F5 -> 9431 | H5: 0 | I5: =G5+H5 -> 9431
A6: Pozostałe całkowite dochody za rok obrotowy (netto) | B6: 0 | C6: 0 | D6: 0 | E6: 0 | F6: 29 | G6: =B6+D6+C6+E6+F6 -> 29 | H6: 0 | I6: =G6+H6 -> 29
A7: Suma całkowitych dochodów | B7: =B5+B6 -> 0 | C7: =C5+C6 -> 0 | D7: =D5+D6 -> 0 | E7: =E5+E6 -> 9431 | F7: =F5+F6 -> 29 | G7: =G5+G6 -> 9460 | H7: =H5+H6 -> 0 | I7: =G7+H7 -> 9460
A8: Ujęcie rozliczenia związane z pierwszą konsolidacją spółek w USA | B8: 0 | C8: 0 | D8: 0 | E8: -1323 | F8: 0 | G8: =B8+D8+C8+E8+F8 -> -1323 | H8: 0 | I8: =G8+H8 -> -1323
A9: Zmiana kapitałów własnych | B9: =B7+B8 -> 0 | C9: =C7+C8 -> 0 | D9: =D7+D8 -> 0 | E9: =E7+E8 -> 8108 | F9: =F7+F8 -> 29 | G9: =G7+G8 -> 8137 | H9: =H7+H8 -> 0 | I9: =G9+H9 -> 8137
A10: Stan na 31 grudnia 2020 roku | B10: =B4+B9 -> 3707 | C10: =C4+C9 -> 38412 | D10: =D4+D9 -> 0 | E10: =E4+E9 -> 52937 | F10: =F4+F9 -> 50 | G10: =G4+G9 -> 95106 | H10: =H4+H9 -> 0 | I10: =I4+I9 -> 95106
A12: Stan na 1 stycznia 2021 roku | B12: =B10 -> 3707 | C12: =C10 -> 38412 | D12: 0 | E12: =E10 -> 52937 | F12: =F10 -> 50 | G12: =B12+D12+C12+E12+F12 -> 95106 | H12: 0 | I12: =G12+H12 -> 95106
A13: Zysk netto za rok obrotowy | B13: 0 | C13: 0 | D13: 0 | E13: =RZIS_s!C39/1000 -> 7454 | F13: 0 | G13: =B13+D13+C13+E13+F13 -> 7454 | H13: =RZIS_s!C40/1000 -> 9610 | I13: =G13+H13 -> 17064
A14: Pozostałe całkowite dochody za rok obrotowy (netto) | B14: 0 | C14: 0 | D14: 0 | E14: 0 | F14: -117 | G14: =B14+D14+C14+E14+F14 -> -117 | H14: 0 | I14: =G14+H14 -> -117
A15: Suma całkowitych dochodów | B15: =B13+B14 -> 0 | C15: =C13+C14 -> 0 | D15: =D13+D14 -> 0 | E15: =E13+E14 -> 7454 | F15: =F13+F14 -> -117 | G15: =G13+G14 -> 7337 | H15: =H13+H14 -> 9610 | I15: =G15+H15 -> 16947
A16: Transakcja z udziałowcami mniejszościowymi | B16: 0 | C16: 0 | D16: 0 | E16: 34254 | F16: 0 | G16: =B16+D16+C16+E16+F16 -> 34254 | H16: 70799 | I16: =G16+H16 -> 105053
A17: Nabycie jednostki zależnej | B17: 0 | C17: 0 | D17: 0 | E17: 0 | F17: 0 | G17: =B17+D17+C17+E17+F17 -> 0 | H17: 2047 | I17: =G17+H17 -> 2047
A18: Kapitał rezerwowy na program opcyjny | B18: 0 | C18: 0 | D18: 257 | E18: 0 | F18: 0 | G18: =B18+D18+C18+E18+F18 -> 257 | H18: 0 | I18: =G18+H18 -> 257
A19: Wypłata dywidendy | B19: 0 | C19: 0 | D19: 0 | E19: -3954 | F19: 0 | G19: =B19+D19+C19+E19+F19 -> -3954 | H19: 0 | I19: =G19+H19 -> -3954
A20: Zmiana kapitałów własnych | B20: =B15+B16+B17+B18+B19 -> 0 | C20: =C15+C16+C17+C18+C19 -> 0 | D20: =D15+D16+D17+D18+D19 -> 257 | E20: =E15+E16+E17+E18+E19 -> 37754 | F20: =F15+F16+F17+F18+F19 -> -117 | G20: =G15+G16+G17+G18+G19 -> 37894 | H20: =H15+H16+H17+H18+H19 -> 82456 | I20: =I15+I16+I17+I18+I19 -> 120350
A21: Stan na 31 grudnia 2021 roku | B21: =B12+B20 -> 3707 | C21: =C12+C20 -> 38412 | D21: =D12+D20 -> 257 | E21: =E12+E20 -> 90691 | F21: =F12+F20 -> -67 | G21: =G12+G20 -> 133000 | H21: =H12+H20 -> 82456 | I21: =I12+I20 -> 215456 | J21: =(Bilans_s!C35+Bilans_s!C43)/1000 -> 215456
A30: Kraków, 29 kwietnia 2022 r.

Sheet Arkusz1

Sheet Bilans_j
A1: JEDNOSTKOWE SPRAWOZDANIE FINANSOWE AILLERON SA ZA 2021 ROK ZAKOŃCZONY 31/12/2021
A2: SPORZĄDZONE WEDŁUG MIĘDZYNARODOWYCH STANDARDÓW SPRAWOZDAWCZOŚCI FINANSOWEJ
A3: WSZYSTKIE KWOTY PODANO W TYSIĄCACH ZŁOTYCH POLSKICH (TYS. PLN), O ILE NIE WSKAZANO INACZEJ
A4: JEDNOSTKOWE SPRAWOZDANIE Z SYTUACJI FINANSOWEJ NA DZIEŃ 31.12.2021 ROKU
A5: AKTYWA | B5: nota | C5: tys. PLN
C6: Stan na 31/12/2021 | D6: Stan na 31/12/2020
A8: AKTYWA TRWAŁE | C8: =SUM(C9:C14) -> 65559 | D8: =SUM(D9:D14) -> 31937
A9: Rzeczowe aktywa trwałe | B9: 15 | C9: 13232 | D9: =25915-882 -> 25033
A10: Pozostałe aktywa niematerialne | B10: 17 | C10: 13851 | D10: =6146-1956 -> 4190
A11: Inwestycje w jednostkach zależnych | B11: 18 | C11: 31205 | D11: 626
A12: Aktywa z tytułu podatku odroczonego | B12: 10 | C12: =3089+265-3354 -> 0 | D12: =2331-737 -> 1594
A13: Należności z tytułu leasingu finansowego | C13: 7001 | D13: 0
A14: Pozostałe aktywa | B14: 20 | C14: 270 | D14: =494 -> 494
A15: AKTYWA OBROTOWE | C15: =SUM(C16:C24) -> 58124 | D15: =SUM(D16:D24) -> 38367
A16: Zapasy | B16: 21 | C16: 229 | D16: 3044
A17: Należności z tytułu dostaw i usług | B17: 22 | C17: 13936 | D17: =13354-D18 -> 13324
A18: Należności krótkoterminowe pozostałe | C18: =943-56 -> 887 | D18: 30
A19: Należności z tytułu leasingu finansowego | C19: 1865 | D19: 0
A20: Aktywa kontraktowe | B20: 6.23 | C20: 3822 | D20: 6418
A21: Pozostałe aktywa finansowe | B21: 19 | C21: 1396 | D21: 2899
A22: Należności z tytułu bieżącego podatku dochodowego | C22: 731 | D22: 0
A23: Należności z tytułu innych podatków niż podatek dochodowy | B23: 10 | C23: 703 | D23: 976
A24: Środki pieniężne i ich ekwiwalenty | B24: 36 | C24: 34555 | D24: 11676
A25: Grupa aktywów przeznaczonych do zbycia | B25: 12 | C25: 0 | D25: 62577
A26: AKTYWA RAZEM | C26: =C8+C15 -> 123683 | D26: =D8+D15+D25 -> 132881
A29: JEDNOSTKOWE SPRAWOZDANIE Z SYTUACJI FINANSOWEJ NA DZIEŃ 31.12.2021 ROKU -C.D.
A31: PASYWA | B31: nota | C31: tys. PLN
C32: =C6 -> Stan na 31/12/2021 | D32: =D6 -> Stan na 31/12/2020
A33: KAPITAŁ WŁASNY | C33: =SUM(C34:C37) -> 85558 | D33: =SUM(D34:D37) -> 64947
A34: Kapitał akcyjny | B34: 24 | C34: 3707 | D34: 3707
A35: Kapitał rezerwowy | C35: 257 | D35: 0
A36: Nadwyżka ze sprzedaży akcji | B36: 24 | C36: 38412 | D36: 38412
A37: Zyski zatrzymane | B37: 25 | C37: =43025+157 -> 43182 | D37: 22828
A38: ZOBOWIĄZANIA | C38: =C39+C44 -> 38125 | D38: =D39+D44+D53 -> 67934
A39: Zobowiązania długoterminowe | C39: =SUM(C40:C43) -> 18155 | D39: =SUM(D40:D43) -> 22317
A40: Długoterminowe zobowiązania leasingowe | B40: 27 | C40: =17013-40 -> 16973 | D40: 20868
A41: Rezerwa na świadczenia emerytalne i podobne | B41: 28 | C41: 90 | D41: 39
A42: Inne rezerwy długoterminowe | C42: 21 | D42: 21
A43: Rezerwa z tytułu odroczonego podatku dochodowego | B43: 10 | C43: =4317+108-3354 -> 1071 | D43: 1389
A44: Zobowiązania krótkoterminowe | C44: =SUM(C45:C52) -> 19970 | D44: =SUM(D45:D52) -> 32018
...

Sheet RZIS_j
A1: JEDNOSTKOWY RACHUNEK ZYSKÓW I STRAT ZA OKRES 01.01.2021 - 31.12.2021
A3: JEDNOSTKOWY RACHUNEK ZYSKÓW I STRAT (Wariant kalkulacyjny) | B3: nota | C3: tys.PLN
C4: Okres zakończony 31/12/2021 | D4: Okres zakończony 31/12/2020
A5: Działalność kontynuowana
A6: PRZYCHODY ZE SPRZEDAŻY | B6: 5, 6 | C6: =SUM(C7:C8) -> 64537 | D6: =SUM(D7:D8) -> 53435
A7: Przychody ze sprzedaży usług | C7: 61758 | D7: 51646
A8: Przychody ze sprzedaży towarów i materiałów | C8: 2779 | D8: 1789
A9: Koszt własny sprzedaży (koszt sprzedanych produktów, usług, towarów i materiałów) | C9: =SUM(C10:C11) -> 45461 | D9: =SUM(D10:D11) -> 42381
A10: Koszt sprzedanych usług | C10: 42987 | D10: =80221-39297 -> 40924
A11: Koszt sprzedanych towarów i materiałów | C11: 2474 | D11: =6811-5354 -> 1457
A12: ZYSK (STRATA) BRUTTO ZE SPRZEDAŻY | C12: =C6-C9 -> 19076 | D12: =D6-D9 -> 11054
A13: Koszty sprzedaży | C13: 10668 | D13: 11218
A14: Koszty ogólnego zarządu | C14: 13288 | D14: 995
A15: Pozostałe przychody operacyjne | B15: 9 | C15: 1729 | D15: 168
A16: Pozostałe koszty operacyjne | B16: 9 | C16: 137 | D16: 170
A17: ZYSK (STRATA) NA DZIAŁALNOŚCI OPERACYJNEJ | C17: =C12-C13-C14+C15-C16 -> -3288 | D17: =D12-D13-D14+D15-D16 -> -1161
A18: Przychody finansowe | B18: 7 | C18: 32771 | D18: 224
A19: Koszty finansowe | B19: 8 | C19: 1589 | D19: 3454
A20: Zysk (strata) przed opodatkowaniem | C20: =C17+C18-C19 -> 27894 | D20: =D17+D18-D19 -> -4391
A22: Podatek dochodowy | B22: 10 | C22: =SUM(C23:C24) -> 4757 | D22: =SUM(D23:D24) -> 627
A23: Część bieżąca | C23: 3106 | D23: 1776
A24: Część odroczona | C24: =1808-157 -> 1651 | D24: -1149
A25: Zysk (strata) netto z działalności kontynuowanej | B25: 13 | C25: =C20-C22 -> 23137 | D25: =D20-D22 -> -5018
A26: Działalność zaniechana | B26: 11
A27: Przychody ze sprzedaży | C27: 12095 | D27: 62428
A28: Koszty operacyjne ogółem | C28: 10651 | D28: 59492
A29: Zysk (strata) z działalności operacyjnej | C29: =C27-C28 -> 1444 | D29: =D27-D28 -> 2936
A30: Podatek dochodowy | C30: 274 | D30: 545
A31: Zysk (strata) netto z działalności zaniechanej | B31: 11 | C31: =C29-C30 -> 1170 | D31: =D29-D30 -> 2391
A32: ZYSK (STRATA) NETTO RAZEM | C32: =C25+C31 -> 24307 | D32: =D25+D31 -> -2627
A35: JEDNOSTKOWY RACHUNEK ZYSKÓW I STRAT ZA OKRES 01.01.2021 - 31.12.2021 - C.D.
A37: JEDNOSTKOWY RACHUNEK ZYSKÓW I STRAT (Wariant kalkulacyjny) | B37: nota | C37: tys.PLN
C38: =C4 -> Okres zakończony 31/12/2021 | D38: =D4 -> Okres zakończony 31/12/2020
A39: Zysk (strata) netto: | C39: =C32 -> 24307 | D39: =D32 -> -2627
A40: Akcjonariuszom podmiotu dominującego | C40: =C32 -> 24307 | D40: =D32 -> -2627
A41: Zysk (strata) netto na jedną akcję zwykłą | B41: 14
A42: (w zł/gr na jedną akcję):
A43: z działalności kontynuowanej:
A44: - podstawowy | C44: =C25/12355504*1000 -> 1.8726067 | D44: =D25/12355504*1000 -> -0.40613479
A45: - rozwodniony | C45: =C44 -> 1.8726067 | D45: =D44 -> -0.40613479
...

Sheet SSCD_j
A1: JEDNOSTKOWE SPRAWOZDANIE Z CAŁKOWITYCH DOCHODÓW ZA OKRES 01.01.2021 - 31.12.2021
A2: JEDNOSTKOWE SPRAWOZDANIE Z CAŁKOWITYCH DOCHODÓW | C2: tys.PLN
C3: Okres zakończony 31/12/2021 | D3: Okres zakończony 31/12/2020
A4: ZYSK (STRATA) NETTO | C4: =RZIS_j!C39*1000 -> 24307000 | D4: =RZIS_j!D39*1000 -> -2627000
A5: Pozostałe dochody całkowite | C5: 0 | D5: 0
A6: Różnice kursowe z przeliczenia jednostek zagranicznych | C6: 0 | D6: 0
A7: POZOSTAŁE CAŁKOWITE DOCHODY NETTO | C7: =C6 -> 0 | D7: =D6 -> 0
A8: SUMA CAŁKOWITYCH DOCHODÓW | C8: =C4+C7 -> 24307000 | D8: =D4+D7 -> -2627000

Sheet CF_j
A1: JEDNOSTKOWE SPRAWOZDANIE Z PRZEPŁYWÓW PIENIĘŻNYCH ZA OKRES OD 1 STYCZNIA 2021 DO 31 GRUDNIA 2021 [METODA POŚREDNIA]
B2: tys.PLN
B3: Okres zakończony 31/12/2021 | C3: Okres zakończony 31/12/2020
A4: Przepływy pieniężne z działalności operacyjnej
A5: Zysk za rok obrotowy | B5: =RZIS_j!C32 -> 24307 | C5: =RZIS_j!D32 -> -2627
A6: Korekty: | B6: =SUM(B7:B29) -> -10168 | C6: =SUM(C7:C29) -> 20181
A7: Koszt podatku dochodowego ujęty w wyniku | B7: =RZIS_j!C22+RZIS_j!C30 -> 5031 | C7: 1172
A8: Koszty finansowe ujęte w wyniku | B8: 980 | C8: 481
A9: Przychody z inwestycji ujęte w wyniku | B9: =-23486-9150 -> -32636 | C9: 0
A10: Zysk/Strata ze zbycia składników rzeczowych aktywów trwałych | B10: -351 | C10: -138
A11: (Zysk) / strata netto z wyceny zobowiązań finansowych wycenianych w skorygowanej cenie nabycia | B11: 0 | C11: 180
A12: (Zysk) / strata netto z wyceny aktywów finansowych wycenianych w skorygowanej cenie nabycia | B12: 266 | C12: 0
A13: Zysk/strata z tytułu zmiany przeznaczenia środków trwałych | B13: 0 | C13: 41
A14: (Zysk)/strata ze zbycia jednostki zależnej | B14: 0 | C14: 2748
A15: Strata z tytułu utraty wartości należności z tytułu dostaw i usług | B15: 502 | C15: 1168
A16: Odwrócenie odpisu z tytułu utraty wartości należności z tytułu dostaw i usług | B16: -747 | C16: -478
A17: Amortyzacja i umorzenie aktywów trwałych | B17: 6912 | C17: 8006
A18: (Dodatnie) / ujemne różnice kursowe netto | B18: 532 | C18: -136
A20: Zmiany w kapitale obrotowym:
A21: (Zwiększenie) / zmniejszenie salda należności z tytułu dostaw i usług oraz pozostałych należności | B21: =2012+9150+2917 -> 14079 | C21: =2299+3667 -> 5966
A22: (Zwiększenie) / zmniejszenie aktywów kontraktowych | B22: 0 | C22: 0
A23: (Zwiększenie) / zmniejszenie stanu zapasów | B23: 1444 | C23: 336
A24: (Zwiększenie) / zmniejszenie pozostałych aktywów | B24: =623+1800 -> 2423 | C24: -660
A25: Zmniejszenie salda zobowiązań z tytułu dostaw i usług oraz pozostałych zobowiązań | B25: =-5598+1202-879-907 -> -6182 | C25: =2138-1912 -> 226
A26: Zmniejszenie salda zobowiązań kontraktowych | B26: =-907+907 -> 0 | C26: =-1912+1912 -> 0
A27: Zwiększenie / (zmniejszenie) rezerw | B27: =1519-1202 -> 317 | C27: -342
A28: Zwiększenie / (zmniejszenie) przychodów przyszłych okresów | B28: -146 | C28: -589
A29: Zwiększenie / (zmniejszenie) pozostałych zobowiązań | B29: -2592 | C29: 2200
A30: Środki pieniężne wygenerowane na działalności operacyjnej | B30: =B5+B6 -> 14139 | C30: =C5+C6 -> 17554
A31: Zapłacone odsetki | B31: -1512 | C31: -344
A32: Zapłacony podatek dochodowy | B32: =-6406+879 -> -5527 | C32: -919
A33: ŚRODKI PIENIĘŻNE NETTO Z DZIAŁALNOŚCI OPERACYJNEJ | B33: =SUM(B30:B32) -> 7100 | C33: =SUM(C30:C32) -> 16291
A34: JEDNOSTKOWE SPRAWOZDANIE Z PRZEPŁYWÓW PIENIĘŻNYCH ZA OKRES OD 1 STYCZNIA 2021 DO 31 GRUDNIA 2021 [METODA POŚREDNIA] - C.D.
B35: tys.PLN
B36: =B3 -> Okres zakończony 31/12/2021 | C36: =C3 -> Okres zakończony 31/12/2020
A38: Przepływy pieniężne z działalności inwestycyjnej
A39: Wpływy ze sprzedaży aktywów finansowych | B39: 37422 | C39: 0
A40: Pożyczki udzielone jednostkom powiązanym | B40: -527 | C40: -613
A41: Spłata pożyczek wraz z odsetkami od jednostek pozostałych | B41: 20 | C41: 10
A42: Pożyczki udzielone pozostałym podmiotom | B42: 0 | C42: -40
...

Sheet ZZKW_j
A1: JEDNOSTKOWE SPRAWOZDANIE ZE ZMIAN W KAPITALE WŁASNYM ZA OKRES SPRAWOZDAWCZY KOŃCZĄCY SIĘ 31 GRUDNIA 2021 ROKU
B2: tys.PLN
B3: Kapitał podstawowy | C3: Kapitał rezerwowy | D3: Nadwyżka ze sprzedaży akcji | E3: Zyski zatrzymane | F3: Razem
A4: Stan na 1 stycznia 2020 roku | B4: 3707 | C4: 0 | D4: 38412 | E4: 25455 | F4: =SUM(B4:E4) -> 67574
A5: Zysk netto za rok obrotowy | B5: 0 | C5: 0 | D5: 0 | E5: =RZIS_j!D32 -> -2627 | F5: =SUM(B5:E5) -> -2627
A6: Pozostałe całkowite dochody za rok obrotowy (netto) | B6: 0 | C6: 0 | D6: 0 | E6: - | F6: =SUM(B6:E6) -> 0
A7: Suma całkowitych dochodów | B7: =SUM(B5:B6) -> 0 | C7: =SUM(C5:C6) -> 0 | D7: =SUM(D5:D6) -> 0 | E7: =SUM(E5:E6) -> -2627 | F7: =SUM(B7:E7) -> -2627
A8: Stan na 31 grudnia 2020 roku | B8: =B4+B7 -> 3707 | C8: =C4+C7 -> 0 | D8: =D4+D7 -> 38412 | E8: =E4+E7 -> 22828 | F8: =F4+F7 -> 64947
A10: Stan na 1 stycznia 2021 roku | B10: =B8 -> 3707 | C10: 0 | D10: =D8 -> 38412 | E10: =E8 -> 22828 | F10: =SUM(B10:E10) -> 64947
A11: Zysk netto za rok obrotowy | B11: 0 | C11: 0 | D11: 0 | E11: =RZIS_j!C32 -> 24307 | F11: =SUM(B11:E11) -> 24307
A12: Pozostałe całkowite dochody za rok obrotowy (netto) | B12: 0 | C12: 0 | D12: 0 | E12: 0 | F12: =SUM(B12:E12) -> 0
A13: Suma całkowitych dochodów | B13: =SUM(B11:B12) -> 0 | C13: =SUM(C11:C12) -> 0 | D13: =SUM(D11:D12) -> 0 | E13: =SUM(E11:E12) -> 24307 | F13: =SUM(B13:E13) -> 24307
A14: Kapitał rezerwowy na program opcyjny | B14: 0 | C14: 257 | D14: 0 | E14: 0 | F14: =SUM(B14:E14) -> 257
A15: Wypłata dywidendy | B15: 0 | C15: 0 | D15: 0 | E15: -3953 | F15: =SUM(B15:E15) -> -3953
A16: Zmiana kapitałów własnych | B16: =SUM(B13:B15) -> 0 | C16: =SUM(C13:C15) -> 257 | D16: =SUM(D13:D15) -> 0 | E16: =SUM(E13:E15) -> 20354 | F16: =SUM(B16:E16) -> 20611
A17: Stan na 31 grudnia 2021 roku | B17: =B10+B16 -> 3707 | C17: =C10+C16 -> 257 | D17: =D10+D16 -> 38412 | E17: =E10+E16 -> 43182 | F17: =F10+F16 -> 85558
