Workbook
Name _R1_Nieodlaczne: #REF!
Name _R1_Nieodlaczne: #REF!
Name _R1_Nieodlaczne: #REF!
Name _R1_Nieodlaczne: #REF!
Name _R1_Nieodlaczne: #REF!
Name _R1_Nieodlaczne: #REF!
Name _R1_Nieodlaczne: #REF!
Name _R1_Nieodlaczne: #REF!
Name _R2_Kontrolwewn: #REF!
Name _R2_Kontrolwewn: #REF!
Name _R2_Kontrolwewn: #REF!
Name _R2_Kontrolwewn: #REF!
Name _R2_Kontrolwewn: #REF!
Name _R2_Kontrolwewn: #REF!
Name _R2_Kontrolwewn: #REF!
Name _R2_Kontrolwewn: #REF!
Name _R3_Analityczne: #REF!
Name _R3_Analityczne: #REF!
Name _R3_Analityczne: #REF!
Name _R3_Analityczne: #REF!
Name _R3_Analityczne: #REF!
Name _R3_Analityczne: #REF!
Name _R3_Analityczne: #REF!
Name _R3_Analityczne: #REF!
Name aa: [2]SF!$C$201:$D$203,[2]SF!$C$205:$D$207,[2]SF!$C$209:$D$210,[2]SF!$C$213:$D$215,[2]SF!$C$217:$D$219,[2]SF!$C$222:$D$228,[2]SF!$C$230:$D$234,[2]SF!$C$237:$D$238,[2]SF!$C$240:$D$241
Name aaa: #REF!
Name aaa: #REF!
Name aaa: #REF!
Name aaa: #REF!
Name aaa: #REF!
Name aaa: #REF!
Name aaa: #REF!
Name aaa: #REF!
Name adres: [3]WSTĘP!$IU$5
Name ala: [4]WSTĘP!$IU$9
Name ala: [4]WSTĘP!$IU$9
Name ala: [4]WSTĘP!$IU$9
Name ala: [4]WSTĘP!$IU$9
Name ala: [4]WSTĘP!$IU$9
Name ala: [4]WSTĘP!$IU$9
Name ala: [4]WSTĘP!$IU$9
Name B.O.: [3]WSTĘP!$IU$13
Name B.Z.: [3]WSTĘP!$IU$9
Name bbb: #REF!
Name bbb: #REF!
Name bbb: #REF!
Name bbb: #REF!
Name bbb: #REF!
Name bbb: #REF!
Name bbb: #REF!
Name bbb: #REF!
Name cfff: #REF!
Name cfff: #REF!
Name cfff: #REF!
Name cfff: #REF!
Name cfff: #REF!
Name cfff: #REF!
Name COP: #REF!
Name COP: #REF!
Name COP: #REF!

Sheet Bilans_s
A1: II. SKRÓCONE SKONSOLIDOWANE SPRAWOZDANIE FINANSOWE GRUPY KAPITAŁOWEJ AILLERON SA ZA I KWARTAŁ 2023 ROKU ZAKOŃCZONY 31/03/2023
A2: SPORZĄDZONE WEDŁUG MIĘDZYNARODOWYCH STANDARDÓW SPRAWOZDAWCZOŚCI FINANSOWEJ (wszystkie kwoty wyrażone są w tysiącach złotych polskich o ile nie wskazano inaczej)
A3: 1. SKONSOLIDOWANE SPRAWOZDANIE Z SYTUACJI FINANSOWEJ
A4: AKTYWA | B4: nota | C4: tys. PLN
C5: Stan na 31/03/2023 | D5: Stan na 31/12/2022
A6: AKTYWA TRWAŁE | C6: =SUM(C7:C13) -> 208245000 | D6: =SUM(D7:D13) -> 209645000
A7: Rzeczowe aktywa trwałe | B7: 10 | C7: 26521000 | D7: 28368000
A8: Wartość firmy | B8: 11 | C8: 148295000 | D8: 149527000
A9: Pozostałe aktywa niematerialne | C9: 31055000 | D9: 28827000
A10: Inwestycje w jednostkach zależnych | B10: 23 | C10: 50000 | D10: 50000
A11: Aktywa z tytułu podatku odroczonego | B11: 9 | C11: 873000 | D11: 1347000
A12: Pozostałe aktywa finansowe | C12: =281000+893000 -> 1174000 | D12: 1249000
A13: Pozostałe aktywa | C13: 277000 | D13: 277000
A14: AKTYWA OBROTOWE | C14: =SUM(C15:C23) -> 212213000 | D14: =SUM(D15:D23) -> 209495000
A15: Zapasy | B15: 12 | C15: 1225000 | D15: 691000
A16: Należności z tytułu dostaw i usług | B16: 13 | C16: 85433000 | D16: 94381000
A17: Należności krótkoterminowe pozostałe | B17: 13 | C17: 3725000 | D17: 3875000
A18: Aktywa kontraktowe | B18: 14 | C18: 3854000 | D18: 4227000
A19: Pozostałe aktywa finansowe | B19: 17 | C19: 257000 | D19: 383000
A20: Należności z tytułu bieżącego podatku dochodowego | B20: 9 | C20: 319000 | D20: 2000
A21: Należności z tytułu innych podatków niż podatek dochodowy | B21: 9 | C21: 18988000 | D21: 16243000
A22: Pozostałe aktywa | C22: 66000 | D22: 287000
A23: Środki pieniężne i ich ekwiwalenty | C23: 98346000 | D23: 89406000
A24: AKTYWA RAZEM | C24: =C6+C14 -> 420458000 | D24: =D6+D14 -> 419140000
A26: SKONSOLIDOWANE SPRAWOZDANIE Z SYTUACJI FINANSOWEJ [C.D.]
A27: PASYWA | B27: nota | C27: tys. PLN
C28: =C5 -> Stan na 31/03/2023 | D28: =D5 -> Stan na 31/12/2022
A29: KAPITAŁ WŁASNY | C29: =C30+C36 -> 264987000 | D29: =D30+D36 -> 257677000
A30: Kapitał własny przypadający na akcjonariuszy jednostki dominującej | C30: =SUM(C31:C35) -> 143685000 | D30: =SUM(D31:D35) -> 141883000
A31: Kapitał akcyjny | B31: 15 | C31: 3707000 | D31: 3707000
A32: Nadwyżka ze sprzedaży akcji | C32: 38412000 | D32: 38412000
A33: Kapitał rezerwowy | C33: 1099000 | D33: 737000
A34: Zyski zatrzymane | B34: 16 | C34: 100822000 | D34: 98490000
A35: Różnice kursowe z przeliczenia jednostek zagranicznych | C35: -355000 | D35: 537000
A36: Udziały niekontrolujące | B36: 16 | C36: 121302000 | D36: 115794000
A37: ZOBOWIĄZANIA | C37: =C38+C43 -> 155471000 | D37: =D38+D43 -> 161463000
A38: Zobowiązania długoterminowe | C38: =SUM(C39:C42) -> 83271000 | D38: =SUM(D39:D42) -> 84596000
A39: Długoterminowe zobowiązania leasingowe | B39: 18 | C39: 17482000 | D39: 19280000
A40: Długoterminowe zobowiązania z tyt. kredytów | B40: 19 | C40: 63078000 | D40: 64503000
A41: Rezerwa na świadczenia emerytalne i podobne | C41: 342000 | D41: 342000
...

Sheet RZIS_s
A1: 2. SKONSOLIDOWANY RACHUNEK ZYSKÓW I STRAT ZA OKRES OD 01.01.2023 DO 31.03.2023
A2: SKONSOLIDOWANY RACHUNEK ZYSKÓW I STRAT (Wariant kalkulacyjny) | B2: nota | C2: tys.PLN
C3: 3 miesiące zakończone 31/03/2023 | D3: 3 miesiące zakończone 31/03/2022
A4: Działalność kontynuowana
A5: Przychody ze sprzedaży | B5: 6.7 | C5: =SUM(C6:C7) -> 110561000 | D5: 76709000
A6: Przychody ze sprzedaży usług | C6: 110556000
A7: Przychody ze sprzedaży towarów i materiałów | C7: 5000
A8: Koszt własny sprzedaży (koszt sprzedanych produktów, usług, towarów i materiałów) | C8: =SUM(C9:C10) -> 83661000 | D8: 54366000
A9: Koszt sprzedanych usług | C9: 83629000
A10: Koszt sprzedanych towarów i materiałów | C10: 32000
A11: Zysk (strata) brutto ze sprzedaży | C11: =C5-C8 -> 26900000 | D11: =D5-D8 -> 22343000
A12: Koszty sprzedaży | C12: 5555000 | D12: 5159000
A13: Koszty ogólnego zarządu | C13: 9288000 | D13: 7400000
A14: Pozostałe przychody operacyjne | C14: 489000 | D14: 20000
A15: Pozostałe koszty operacyjne | C15: 638000 | D15: 397000
A16: Zysk (strata) na działalności operacyjnej | C16: =C11-C12-C13+C14-C15 -> 11908000 | D16: =D11-D12-D13+D14-D15 -> 9407000
A17: Przychody finansowe | C17: 1861000 | D17: 417000
A18: Koszty finansowe | C18: 2363000 | D18: 3646000
A19: Zysk (strata) przed opodatkowaniem | C19: =C16+C17-C18 -> 11406000 | D19: =D16+D17-D18 -> 6178000
A21: Podatek dochodowy | B21: 9 | C21: =SUM(C22:C23) -> 3303000 | D21: 2209000
A22: Część bieżąca | C22: 2108000
A23: Część odroczona | C23: 1195000
A24: Zysk (strata) netto z działalności kontynuowanej | C24: =C19-C21 -> 8103000 | D24: =D19-D21 -> 3969000
A25: Działalność zaniechana
A26: Przychody ze sprzedaży | C26: 0 | D26: 0
A27: Koszty operacyjne ogółem | C27: 0 | D27: 0
A28: Zysk (strata) z działalności operacyjnej | C28: =C26-C27 -> 0 | D28: =D26-D27 -> 0
A29: Podatek dochodowy | C29: =C28*0.19 -> 0 | D29: =D28*0.19 -> 0
A30: Zysk (strata) netto z działalności zaniechanej | C30: =C28-C29 -> 0 | D30: =D28-D29 -> 0
A31: ZYSK (STRATA) NETTO | C31: =C24+C30 -> 8103000 | D31: =D24+D30 -> 3969000
A33: SKONSOLIDOWANY RACHUNEK ZYSKÓW I STRAT ZA OKRES 01.01.2022 - 31.03.2022 - [C.D.]
A34: SKONSOLIDOWANY RACHUNEK ZYSKÓW I STRAT (Wariant kalkulacyjny) | B34: nota | C34: tys.PLN
C35: =C3 -> 3 miesiące zakończone 31/03/2023 | D35: =D3 -> 3 miesiące zakończone 31/03/2022
A36: Zysk (strata) netto, z tego przypadający: | C36: =C31 -> 8103000 | D36: =D31 -> 3969000
A37: Akcjonariuszom jednostki dominującej | C37: 2820000 | D37: -666000
A38: Udziałom niedającym kontroli | C38: =C36-C37 -> 5283000 | D38: 4635000
A39: Zysk (strata) netto na jedną akcję zwykłą
A40: (w zł/gr na jedną akcję):
A41: z działalności kontynuowanej:
A42: - podstawowy | C42: =$C$37/12355504 -> 0.22823836 | D42: =D37/12355504 -> -0.053903103
...

Sheet SSCD_s
A1: 2.1 SKONSOLIDOWANE SPRAWOZDANIE Z CAŁKOWITYCH DOCHODÓW ZA OKRES 01.01.2023 - 31.03.2023
A2: SKONSOLIDOWANE SPRAWOZDANIE Z CAŁKOWITYCH DOCHODÓW | C2: tys.PLN
C3: =RZIS_s!C3 -> 3 miesiące zakończone 31/03/2023 | D3: =RZIS_s!D3 -> 3 miesiące zakończone 31/03/2022
A4: ZYSK (STRATA) NETTO | C4: =RZIS_s!C31 -> 8103000 | D4: =RZIS_s!D31 -> 3969000
A5: Pozostałe dochody całkowite | C5: 0 | D5: 0
A6: Różnice kursowe z przeliczenia jednostek zagranicznych | C6: -1155000 | D6: 1518000
A7: POZOSTAŁE CAŁKOWITE DOCHODY NETTO | C7: =C6 -> -1155000 | D7: =D6 -> 1518000
A8: SUMA CAŁKOWITYCH DOCHODÓW | C8: =C4+C7 -> 6948000 | D8: =D4+D7 -> 5487000
A9: przypadających akcjonariuszom jednostki dominującej | C9: =RZIS_s!C37-892000 -> 1928000 | D9: 90000
A10: przypadających udziałom niedającym kontroli | C10: =RZIS_s!C38-263000 -> 5020000 | D10: 5397000

Sheet CF_s
A1: 3. SKONSOLIDOWANE SPRAWOZDANIE Z PRZEPŁYWÓW PIENIĘŻNYCH ZA OKRES OD 01.01.2023 DO 31.03.2023 [METODA POŚREDNIA]
B2: tys.PLN
B3: 3 miesiące zakończone 31/03/2023 | C3: 3 miesiące zakończone 31/03/2022
A4: Przepływy pieniężne z działalności operacyjnej
A5: Zysk za rok obrotowy | B5: =RZIS_s!C31 -> 8103000 | C5: =RZIS_s!D31 -> 3969000
A6: Korekty: | B6: =SUM(B7:B29) -> 9746000 | C6: =SUM(C7:C29) -> 1591000
A7: Koszt podatku dochodowego ujęty w wyniku | B7: =RZIS_s!C21 -> 3303000 | C7: =RZIS_s!D21 -> 2209000
A8: Koszty finansowe ujęte w wyniku | B8: =1229000+164000 -> 1393000 | C8: 100000
A9: Przychody z inwestycji ujęte w wyniku
A10: Zysk/Strata ze zbycia/zmiany przeznaczenia składników rzeczowych aktywów trwałych | B10: -36000 | C10: -21000
A11: Zysk/strata z tytułu zwrotu wartości inwestycji długoterminowych
A12: (Zysk) / strata netto z wyceny aktywów finansowych przeznaczonych do obrotu
A13: Zysk/strata z tytułu zmiany przeznaczenia środków trwałych
A14: Zysk/strata ze zbycia jednostki zależnej
A15: (Zysk) / strata netto z wyceny aktywów/zobowiązań finansowych wycenianych w skorygowanej cenie nabycia | B15: =-63000-1232000 -> -1295000 | C15: 106000
A16: Zysk/Strata z tytułu odwrócenia odpisu/utraty wartości należności z tytułu dostaw i usług | B16: =204000-199000 -> 5000 | C16: =84000-97000 -> -13000
A17: Amortyzacja i umorzenie aktywów trwałych | B17: 3687000 | C17: 2759000
A18: (Dodatnie) / ujemne różnice kursowe netto | B18: -1939000 | C18: 494000
A19: Pozostałe zmiany | B19: =Bilans_s!C33+Bilans_s!C35-Bilans_s!D33-Bilans_s!D35 -> -530000 | C19: 0
A20: Zmiany w kapitale obrotowym:
A21: (Zwiększenie) / zmniejszenie salda należności z tytułu dostaw i usług oraz pozostałych należności | B21: =Bilans_s!D16-Bilans_s!C16+Bilans_s!D17-Bilans_s!C17 -> 9098000 | C21: -1805000
A22: (Zwiększenie) / zmniejszenie aktywów kontraktowych
A23: (Zwiększenie) / zmniejszenie stanu zapasów | B23: =Bilans_s!D15-Bilans_s!C15 -> -534000 | C23: -203000
A24: (Zwiększenie) / zmniejszenie pozostałych aktywów | B24: =Bilans_s!D13-Bilans_s!C13+Bilans_s!D18-Bilans_s!C18+Bilans_s!D22-Bilans_s!C22 -> 594000 | C24: -4349000
A25: Zmniejszenie salda zobowiązań z tytułu dostaw i usług oraz pozostałych zobowiązań podatkowych | B25: =Bilans_s!C44-Bilans_s!D44+Bilans_s!C47-Bilans_s!D47+Bilans_s!C48-Bilans_s!D48 -> -1378000 | C25: -1751000
A26: Zmniejszenie salda zobowiązań kontraktowych
A27: Zwiększenie / (zmniejszenie) rezerw | B27: =Bilans_s!C41-Bilans_s!D41+Bilans_s!C42-Bilans_s!D42+Bilans_s!C49-Bilans_s!D49+Bilans_s!C50-Bilans_s!D50 -> -2004000 | C27: 360000
A28: Zwiększenie / (zmniejszenie) przychodów przyszłych okresów | B28: =Bilans_s!C51-Bilans_s!D51 -> 1180000 | C28: 1849000
A29: Zwiększenie / (zmniejszenie) pozostałych zobowiązań | B29: =Bilans_s!C52-Bilans_s!D52-1081000 -> -1798000 | C29: 1856000
A30: Środki pieniężne wygenerowane na działalności operacyjnej | B30: =SUM(B5:B6) -> 17849000 | C30: =SUM(C5:C6) -> 5560000
A31: Zapłacone odsetki i różnice kursowe | B31: =B8+B18 -> -546000 | C31: -364000
A32: Zapłacony podatek dochodowy | B32: -1712000 | C32: -1382000
A33: ŚRODKI PIENIĘŻNE NETTO Z DZIAŁALNOŚCI OPERACYJNEJ | B33: =SUM(B30:B32) -> 15591000 | C33: =SUM(C30:C32) -> 3814000
A34: SKONSOLIDOWANE SPRAWOZDANIE Z PRZEPŁYWÓW PIENIĘŻNYCH ZA OKRES OD 01.01.2023 DO 31.03.2023 [METODA POŚREDNIA] - [C.D.]
B35: tys.PLN
B36: =B3 -> 3 miesiące zakończone 31/03/2023 | C36: =C3 -> 3 miesiące zakończone 31/03/2022
A37: Przepływy pieniężne z działalności inwestycyjnej
A38: Płatności z tytułu nabycia aktywów finansowych
A39: Otrzymane odsetki od jedn. powiązanych
A40: Pożyczki otrzymane od jednostek powiązanych
...

Sheet ZZKW_s
A1: 4. SKONSOLIDOWANE SPRAWOZDANIE ZE ZMIAN W KAPITALE WŁASNYM ZA OKRES SPRAWOZDAWCZY KOŃCZĄCY SIĘ 31 MARCA 2023 ROKU
B2: tys.PLN
B3: Kapitał podstawowy | C3: Nadwyżka ze sprzedaży akcji | D3: Kapitał rezerwowy | E3: Zyski zatrzymane | F3: Różnice kursowe z przeliczenia jednostek zależnych | G3: Przypadające akcjonariuszom jednostki dominującej | H3: Udziały niekontrolujące | I3: Razem
A4: Stan na 1 stycznia 2022 roku | B4: 3707 | C4: 38412 | D4: 257 | E4: 90691 | F4: -67 | G4: =B4+D4+C4+E4+F4 -> 133000 | H4: 82456 | I4: =G4+H4 -> 215456
A5: Zysk netto za rok obrotowy | B5: 0 | C5: 0 | D5: 0 | E5: =RZIS_s!D37/1000 -> -666 | F5: =SSCD_s!D7/1000 -> 1518 | G5: =B5+D5+C5+E5+F5 -> 852 | H5: =RZIS_s!D38/1000 -> 4635 | I5: =G5+H5 -> 5487
A6: Pozostałe całkowite dochody za rok obrotowy (netto) | B6: 0 | C6: 0 | D6: 0 | E6: 0 | F6: 0 | G6: =B6+D6+C6+E6+F6 -> 0 | H6: 0 | I6: =G6+H6 -> 0
A7: Suma całkowitych dochodów | B7: =B5+B6 -> 0 | C7: =C5+C6 -> 0 | D7: =D5+D6 -> 0 | E7: =E5+E6 -> -666 | F7: =F5+F6 -> 1518 | G7: =G5+G6 -> 852 | H7: =H5+H6 -> 4635 | I7: =G7+H7 -> 5487
A8: Transakcja z udziałowcami mniejszościowymi | B8: 0 | C8: 0 | D8: 0 | E8: 0 | F8: 0 | G8: 0 | H8: 783 | I8: =G8+H8 -> 783
A9: Nabycie jednostki zależnej | B9: 0 | C9: 0 | D9: 0 | E9: 0 | F9: 0 | G9: 0 | H9: 2227 | I9: =G9+H9 -> 2227
A10: Kapitał rezerwowy na program opcyjny | B10: 0 | C10: 0 | D10: 0 | E10: 0 | F10: 0 | G10: =B10+D10+C10+E10+F10 -> 0 | H10: 0 | I10: =G10+H10 -> 0
A11: Wypłata dywidendy | B11: 0 | C11: 0 | D11: 0 | E11: 0 | F11: 0 | G11: 0 | H11: 0 | I11: =G11+H11 -> 0
A12: Zmiana kapitałów własnych | B12: =B7+B8 -> 0 | C12: =C7+C8 -> 0 | D12: =D7+D8+D10 -> 0 | E12: =E7+E8+E11 -> -666 | F12: =F7+F8 -> 1518 | G12: =G7+G8+G10+G11 -> 852 | H12: =H7+H8+H9 -> 7645 | I12: =G12+H12 -> 8497
A13: Stan na 31 marca 2022 roku | B13: =B4+B12 -> 3707 | C13: =C4+C12 -> 38412 | D13: =D4+D12 -> 257 | E13: =E4+E12 -> 90025 | F13: =F4+F12 -> 1451 | G13: =G4+G12 -> 133852 | H13: =H4+H12 -> 90101 | I13: =I4+I12 -> 223953
A15: Stan na 1 stycznia 2023 roku | B15: 3707 | C15: 38412 | D15: 737 | E15: 98490 | F15: 537 | G15: =B15+D15+C15+E15+F15 -> 141883 | H15: 115794 | I15: =G15+H15 -> 257677
A16: Zysk netto za rok obrotowy | B16: 0 | C16: 0 | D16: 0 | E16: =RZIS_s!C37/1000 -> 2820 | F16: 0 | G16: =B16+D16+C16+E16+F16 -> 2820 | H16: =RZIS_s!C38/1000 -> 5283 | I16: =G16+H16 -> 8103
A17: Dywidenda | B17: 0 | C17: 0 | D17: 0 | E17: 0 | F17: 0 | G17: =E17 -> 0 | H17: 0 | I17: =G17+H17 -> 0
A18: Pozostałe całkowite dochody za rok obrotowy (netto) | B18: 0 | C18: 0 | D18: 0 | E18: 0 | F18: -892 | G18: =B18+D18+C18+E18+F18 -> -892 | H18: -263 | I18: =G18+H18 -> -1155
A19: Suma całkowitych dochodów | B19: =B16+B18 -> 0 | C19: =C16+C18 -> 0 | D19: =D16+D18 -> 0 | E19: =E16+E18+E17 -> 2820 | F19: =F16+F18 -> -892 | G19: =G16+G18+G17 -> 1928 | H19: =H16+H18 -> 5020 | I19: =G19+H19 -> 6948
A20: Transakcja z udziałowcami mniejszościowymi | B20: 0 | C20: 0 | D20: 0 | E20: -488 | F20: 0 | G20: =B20+D20+C20+E20+F20 -> -488 | H20: =-G20 -> 488 | I20: =G20+H20 -> 0
A21: Nabycie jednostki zależnej | B21: 0 | C21: 0 | D21: 0 | E21: 0 | F21: 0 | G21: =B21+D21+C21+E21+F21 -> 0 | H21: 0 | I21: =G21+H21 -> 0
A22: Kapitał rezerwowy na program opcyjny | B22: 0 | C22: 0 | D22: 362 | E22: 0 | F22: 0 | G22: =B22+D22+C22+E22+F22 -> 362 | H22: 0 | I22: =G22+H22 -> 362
A23: Wypłata dywidendy | B23: 0 | C23: 0 | D23: 0 | E23: 0 | F23: 0 | G23: =B23+D23+C23+E23+F23 -> 0 | H23: 0 | I23: =G23+H23 -> 0
A24: Zmiana kapitałów własnych | B24: =B19+B20+B21+B22+B23 -> 0 | C24: =C19+C20+C21+C22+C23 -> 0 | D24: =D19+D20+D21+D22+D23 -> 362 | E24: =E19+E20+E21+E22+E23 -> 2332 | F24: =F19+F20+F21+F22+F23 -> -892 | G24: =G19+G20+G21+G22+G23 -> 1802 | H24: =H19+H20+H21+H22+H23 -> 5508 | I24: =I19+I20+I21+I22+I23 -> 7310
A25: Stan na 31 marca 2023 roku | B25: =B15+B24 -> 3707 | C25: =C15+C24 -> 38412 | D25: =D15+D24 -> 1099 | E25: =E15+E24 -> 100822 | F25: =F15+F24 -> -355 | G25: =G15+G24 -> 143685 | H25: =H15+H24 -> 121302 | I25: =I15+I24 -> 264987

Sheet Bilans_j
A1: IV. SKRÓCONE JEDNOSTKOWE SPRAWOZDANIE FINANSOWE AILLERON SA ZA I KWARTAŁ 2023 ROKU ZAKOŃCZONY 31/03/2023
A2: SPORZĄDZONE WEDŁUG MIĘDZYNARODOWYCH STANDARDÓW SPRAWOZDAWCZOŚCI FINANSOWEJ
A3: (wszystkie kwoty wyrażone są w tysiącach złotych polskich o ile nie wskazano inaczej)
A4: JEDNOSTKOWE SPRAWOZDANIE Z SYTUACJI FINANSOWEJ
A5: AKTYWA | B5: nota | C5: tys. PLN
C6: Stan na 31/03/2023 | D6: Stan na 31/12/2022
A8: AKTYWA TRWAŁE | C8: =SUM(C9:C14) -> 77059 | D8: =SUM(D9:D14) -> 76126
A9: Rzeczowe aktywa trwałe | C9: 11106 | D9: 11748
A10: Pozostałe aktywa niematerialne | C10: 27576 | D10: 25236
A11: Inwestycje w jednostkach zależnych | C11: 31205 | D11: 31205
A12: Aktywa z tytułu podatku odroczonego
A13: Należności z tytułu leasingu finansowego | C13: 6895 | D13: 7660
A14: Pozostałe aktywa | C14: 277 | D14: 277
A15: AKTYWA OBROTOWE | C15: =SUM(C16:C24) -> 34877 | D15: =SUM(D16:D24) -> 39892
A16: Zapasy | C16: 57 | D16: 59
A17: Należności z tytułu dostaw i usług | C17: 13533 | D17: 11633
A18: Należności krótkoterminowe pozostałe | C18: 1765 | D18: 1526
A19: Należności z tytułu leasingu finansowego | C19: 2922 | D19: 2908
A20: Aktywa kontraktowe | C20: 3854 | D20: 4227
A21: Pozostałe aktywa finansowe | C21: 1550 | D21: 1705
A22: Należności z tytułu bieżącego podatku dochodowego
A23: Należności z tytułu innych podatków niż podatek dochodowy | C23: 840 | D23: 943
A24: Środki pieniężne i ich ekwiwalenty | C24: 10356 | D24: 16891
A25: AKTYWA RAZEM | C25: =C8+C15 -> 111936 | D25: =D8+D15 -> 116018
A28: JEDNOSTKOWE SPRAWOZDANIE Z SYTUACJI FINANSOWEJ -C.D.
A29: PASYWA | B29: nota | C29: tys. PLN
C30: =C6 -> Stan na 31/03/2023 | D30: =D6 -> Stan na 31/12/2022
A31: KAPITAŁ WŁASNY | C31: =SUM(C32:C35) -> 73744 | D31: =SUM(D32:D35) -> 75163
A32: Kapitał akcyjny | C32: 3707 | D32: 3707
A33: Kapitał rezerwowy | C33: 1099 | D33: 737
A34: Nadwyżka ze sprzedaży akcji | C34: 38412 | D34: 38412
A35: Zyski zatrzymane | C35: 30526 | D35: 32307
A36: ZOBOWIĄZANIA | C36: =C37+C42 -> 38192 | D36: =D37+D42 -> 40855
A37: Zobowiązania długoterminowe | C37: =SUM(C38:C41) -> 15464 | D37: =SUM(D38:D41) -> 16625
A38: Długoterminowe zobowiązania leasingowe | C38: 14384 | D38: 16013
A39: Rezerwa na świadczenia emerytalne i podobne | C39: 124 | D39: 124
A40: Inne rezerwy długoterminowe
A41: Rezerwa z tytułu odroczonego podatku dochodowego | C41: 956 | D41: 488
A42: Zobowiązania krótkoterminowe | C42: =SUM(C43:C50) -> 22728 | D42: =SUM(D43:D50) -> 24230
A43: Zobowiązania z tytułu dostaw i usług | C43: 9306 | D43: 10557
...

Sheet RZIS_j
A1: JEDNOSTKOWY RACHUNEK ZYSKÓW I STRAT ZA OKRES 01.01.2023 - 31.03.2023
A2: JEDNOSTKOWY RACHUNEK ZYSKÓW I STRAT (Wariant kalkulacyjny) | B2: nota | C2: tys.PLN
C3: 3 miesięce zakończone 31/03/2023 | D3: 3 miesiące zakończone 31/03/2022
A4: Działalność kontynuowana
A5: PRZYCHODY ZE SPRZEDAŻY | C5: =SUM(C6:C7) -> 18534 | D5: 13760
A6: Przychody ze sprzedaży usług | C6: 18532
A7: Przychody ze sprzedaży towarów i materiałów | C7: 2
A8: Koszt własny sprzedaży (koszt sprzedanych produktów, usług, towarów i materiałów) | C8: =SUM(C9:C10) -> 12824 | D8: 11810
A9: Koszt sprzedanych usług | C9: 12824
A10: Koszt sprzedanych towarów i materiałów | C10: 0
A11: ZYSK (STRATA) BRUTTO ZE SPRZEDAŻY | C11: =C5-C8 -> 5710 | D11: =D5-D8 -> 1950
A12: Koszty sprzedaży | C12: 2724 | D12: 2726
A13: Koszty ogólnego zarządu | C13: 3944 | D13: 2885
A14: Pozostałe przychody operacyjne | C14: 293 | D14: 69
A15: Pozostałe koszty operacyjne | C15: 108 | D15: 55
A16: ZYSK (STRATA) NA DZIAŁALNOŚCI OPERACYJNEJ | C16: =C11-C12-C13+C14-C15 -> -773 | D16: =D11-D12-D13+D14-D15 -> -3647
A17: Przychody finansowe | C17: 58 | D17: 118
A18: Koszty finansowe | C18: 563 | D18: 397
A19: Zysk (strata) przed opodatkowaniem | C19: =C16+C17-C18 -> -1278 | D19: =D16+D17-D18 -> -3926
A21: Podatek dochodowy | C21: =SUM(C22:C23) -> 503 | D21: 371
A22: Część bieżąca | C22: 36 | D22: 0
A23: Część odroczona | C23: 467 | D23: 0
A24: Zysk (strata) netto z działalności kontynuowanej | C24: =C19-C21 -> -1781 | D24: =D19-D21 -> -4297
A25: Działalność zaniechana
A26: Przychody ze sprzedaży | C26: 0
A27: Koszty operacyjne ogółem | C27: 0
A28: Zysk (strata) z działalności zaniechanej | C28: =C26-C27 -> 0 | D28: =D26-D27 -> 0
A29: Podatek dochodowy | C29: 0
A30: Zysk (strata) netto z działalności zaniechanej | C30: =C28-C29 -> 0 | D30: =D28-D29 -> 0
A31: ZYSK (STRATA) NETTO RAZEM | C31: =C24+C30 -> -1781 | D31: =D24+D30 -> -4297
A32: Zysk (strata) netto: | C32: =C31 -> -1781 | D32: =D31 -> -4297
A33: Akcjonariuszom podmiotu dominującego | C33: =C31 -> -1781 | D33: =D31 -> -4297
A34: Zysk (strata) netto na jedną akcję zwykłą
A35: (w zł/gr na jedną akcję):
A36: z działalności kontynuowanej:
A37: - podstawowy | C37: =C24/12355504*1000 -> -0.14414628 | D37: =D24/12355504*1000 -> -0.34778023
A38: - rozwodniony | C38: =C37 -> -0.14414628 | D38: =D37 -> -0.34778023
A39: z działalności kontynuowanej i zaniechanej:
A40: - podstawowy | C40: =C32/12355504*1000 -> -0.14414628 | D40: =D32/12355504*1000 -> -0.34778023
A41: - rozwodniony | C41: =C40 -> -0.14414628 | D41: =D40 -> -0.34778023

Sheet SSCD_j
A1: JEDNOSTKOWE SPRAWOZDANIE Z CAŁKOWITYCH DOCHODÓW ZA OKRES 01.01.2023 - 31.03.2023
A2: JEDNOSTKOWE SPRAWOZDANIE Z CAŁKOWITYCH DOCHODÓW | C2: tys.PLN
C3: =RZIS_j!C3 -> 3 miesięce zakończone 31/03/2023 | D3: =RZIS_j!D3 -> 3 miesiące zakończone 31/03/2022
A4: ZYSK (STRATA) NETTO | C4: =RZIS_j!C32*1000 -> -1781000 | D4: =RZIS_j!D32*1000 -> -4297000
A5: Pozostałe dochody całkowite | C5: 0 | D5: 0
A6: POZOSTAŁE CAŁKOWITE DOCHODY NETTO | C6: =C5 -> 0 | D6: =D5 -> 0
A7: SUMA CAŁKOWITYCH DOCHODÓW | C7: =C4+C5 -> -1781000 | D7: =D4+D5 -> -4297000

Sheet CF_j
A1: JEDNOSTKOWY RACHUNEK PRZEPŁYWÓW PIENIĘŻNYCH ZA OKRES 01.03.2023 - 31.03.2023
B2: tys.PLN
B3: =SSCD_j!C3 -> 3 miesięce zakończone 31/03/2023 | C3: =SSCD_j!D3 -> 3 miesiące zakończone 31/03/2022
A4: Przepływy pieniężne z działalności operacyjnej
A5: Zysk za rok obrotowy | B5: =RZIS_j!C31 -> -1781 | C5: =RZIS_j!D31 -> -4297
A6: Korekty: | B6: =SUM(B7:B24) -> 87 | C6: =SUM(C7:C24) -> 1543
A7: Koszt podatku dochodowego ujęty w wyniku | B7: =RZIS_j!C21 -> 503 | C7: =RZIS_j!D21 -> 371
A8: Koszty finansowe ujęte w wyniku | B8: 164 | C8: 15
A9: Przychody z inwestycji ujęte w wyniku
A10: Zysk/Strata ze zbycia/zmiany przeznaczenia składników rzeczowych aktywów trwałych | B10: -36 | C10: =-8 -> -8
A11: (Zysk) / strata netto z wyceny aktywów/zobowiązań finansowych wycenianych w skorygowanej cenie nabycia | B11: -63 | C11: =106 -> 106
A12: (Zysk)/strata ze zbycia jednostki zależnej
A13: Zysk/Strata z tytułu odwrócenia odpisu/utraty wartości należności z tytułu dostaw i usług | B13: =204-199 -> 5 | C13: =84-97 -> -13
A14: Amortyzacja i umorzenie aktywów trwałych | B14: 2296 | C14: 2006
A15: (Dodatnie) / ujemne różnice kursowe netto | B15: 0 | C15: 382
A16: Zmiany w kapitale obrotowym:
A17: (Zwiększenie) / zmniejszenie salda należności z tytułu dostaw i usług oraz pozostałych należności | B17: -2041 | C17: 885
A18: (Zwiększenie) / zmniejszenie aktywów kontraktowych
A19: (Zwiększenie) / zmniejszenie stanu zapasów | B19: 2 | C19: 42
A20: (Zwiększenie) / zmniejszenie pozostałych aktywów | B20: 373 | C20: -847
A21: Zmniejszenie salda zobowiązań z tytułu dostaw i usług oraz pozostałych zobowiązań podatkowych | B21: -2134 | C21: -1428
A22: Zwiększenie / (zmniejszenie) rezerw | B22: 748 | C22: 41
A23: Zwiększenie / (zmniejszenie) przychodów przyszłych okresów | B23: 405 | C23: 309
A24: Zwiększenie / (zmniejszenie) pozostałych zobowiązań | B24: -135 | C24: -318
A25: Korekta z tyt. programu motywacyjnego
A26: Środki pieniężne wygenerowane na działalności operacyjnej | B26: =B5+B6 -> -1694 | C26: =C5+C6 -> -2754
A27: Zapłacone odsetki | B27: -164 | C27: -397
A28: Zapłacony podatek dochodowy | B28: -3 | C28: 0
A29: ŚRODKI PIENIĘŻNE NETTO Z DZIAŁALNOŚCI OPERACYJNEJ | B29: =SUM(B26:B28) -> -1861 | C29: =SUM(C26:C28) -> -3151
A30: JEDNOSTKOWY RACHUNEK PRZEPŁYWÓW PIENIĘŻNYCH ZA OKRES 01.03.2023 - 31.03.2023 - C.D.
B31: tys.PLN
B32: =B3 -> 3 miesięce zakończone 31/03/2023 | C32: =C3 -> 3 miesiące zakończone 31/03/2022
A34: Przepływy pieniężne z działalności inwestycyjnej
A35: Wpływy ze sprzedaży aktywów finansowych
A36: Spłata należności leasingowych
A37: Odsetki otrzymane od subleasingu
A38: Pożyczki udzielone jednostkom powiązanym | B38: 218 | C38: -48
A39: Spłata pożyczek wraz z odsetkami od jednostek pozostałych | B39: 0 | C39: 5
A40: Pożyczki udzielone pozostałym podmiotom
A41: Płatności za rzeczowe aktywa trwałe | B41: -89 | C41: -244
...

Sheet ZZKW_j
A1: JEDNOSTKOWE SPRAWOZDANIE ZE ZMIAN W KAPITALE WŁASNYM ZA OKRES SPRAWOZDAWCZY KOŃCZĄCY SIĘ 31 MARCA 2023 ROKU
B2: tys.PLN
B3: Kapitał podstawowy | C3: Kapitał rezerwowy | D3: Nadwyżka ze sprzedaży akcji | E3: Zyski zatrzymane | F3: Razem
A4: Stan na 1 stycznia 2022 roku | B4: 3707 | C4: 257 | D4: 38412 | E4: 43182 | F4: =SUM(B4:E4) -> 85558
A5: Zysk netto za rok obrotowy | B5: 0 | C5: 0 | D5: 0 | E5: =RZIS_j!D31 -> -4297 | F5: =SUM(B5:E5) -> -4297
A6: Pozostałe całkowite dochody za rok obrotowy (netto) | B6: 0 | C6: 0 | D6: 0 | E6: - | F6: =SUM(B6:E6) -> 0
A7: Suma całkowitych dochodów | B7: =SUM(B5:B6) -> 0 | C7: =SUM(C5:C6) -> 0 | D7: =SUM(D5:D6) -> 0 | E7: =SUM(E5:E6) -> -4297 | F7: =SUM(B7:E7) -> -4297
A8: Kapitał rezerwowy na program opcyjny | B8: 0 | C8: 0 | D8: 0 | E8: 0 | F8: =SUM(B8:E8) -> 0
A9: Wypłata dywidendy | B9: 0 | C9: 0 | D9: 0 | E9: 0 | F9: =SUM(B9:E9) -> 0
A10: Zmiana kapitałów własnych | B10: =SUM(B7:B9) -> 0 | C10: =SUM(C7:C9) -> 0 | D10: =SUM(D7:D9) -> 0 | E10: =SUM(E7:E9) -> -4297 | F10: =SUM(B10:E10) -> -4297
A11: Stan na 31 marca 2022 roku | B11: =B4+B10 -> 3707 | C11: =C4+C10 -> 257 | D11: =D4+D10 -> 38412 | E11: =E4+E10 -> 38885 | F11: =F4+F10 -> 81261
A13: Stan na 1 stycznia 2023 roku | B13: =B11 -> 3707 | C13: 737 | D13: =D11 -> 38412 | E13: 32307 | F13: =SUM(B13:E13) -> 75163
A14: Zysk netto za rok obrotowy | B14: 0 | C14: 0 | D14: 0 | E14: =RZIS_j!C31 -> -1781 | F14: =SUM(B14:E14) -> -1781
A15: Pozostałe całkowite dochody za rok obrotowy (netto) | B15: 0 | C15: 0 | D15: 0 | E15: 0 | F15: =SUM(B15:E15) -> 0
A16: Suma całkowitych dochodów | B16: =SUM(B14:B15) -> 0 | C16: =SUM(C14:C15) -> 0 | D16: =SUM(D14:D15) -> 0 | E16: =SUM(E14:E15) -> -1781 | F16: =SUM(B16:E16) -> -1781
A17: Kapitał rezerwowy na program opcyjny | B17: 0 | C17: 362 | D17: 0 | F17: =SUM(B17:E17) -> 362
A18: Wypłata dywidendy | B18: 0 | C18: 0 | D18: 0 | E18: 0 | F18: =SUM(B18:E18) -> 0
A19: Zmiana kapitałów własnych | B19: =SUM(B16:B18) -> 0 | C19: =SUM(C16:C18) -> 362 | D19: =SUM(D16:D18) -> 0 | E19: =SUM(E16:E18) -> -1781 | F19: =SUM(B19:E19) -> -1419
A20: Stan na 31 marca 2023 roku | B20: =B13+B19 -> 3707 | C20: =C13+C19 -> 1099 | D20: =D13+D19 -> 38412 | E20: =E13+E19 -> 30526 | F20: =F13+F19 -> 73744
A23: Członkowie Zarządu Ailleron SA:
A24: Rafał Styczeń - Prezes Zarządu
A25: Grzegorz Młynarczyk - Wiceprezes Zarządu
A26: Tomasz Król - Członek Zarządu
A27: Sporządzający :
A28: Daria Ślęzak - Główny Księgowy
A31: Kraków, 29.05.2023 r.
