Workbook
Name _R1_Nieodlaczne: #REF!
Name _R1_Nieodlaczne: #REF!
Name _R1_Nieodlaczne: #REF!
Name _R1_Nieodlaczne: #REF!
Name _R1_Nieodlaczne: #REF!
Name _R1_Nieodlaczne: #REF!
Name _R1_Nieodlaczne: #REF!
Name _R1_Nieodlaczne: #REF!
Name _R2_Kontrolwewn: #REF!
Name _R2_Kontrolwewn: #REF!
Name _R2_Kontrolwewn: #REF!
Name _R2_Kontrolwewn: #REF!
Name _R2_Kontrolwewn: #REF!
Name _R2_Kontrolwewn: #REF!
Name _R2_Kontrolwewn: #REF!
Name _R2_Kontrolwewn: #REF!
Name _R3_Analityczne: #REF!
Name _R3_Analityczne: #REF!
Name _R3_Analityczne: #REF!
Name _R3_Analityczne: #REF!
Name _R3_Analityczne: #REF!
Name _R3_Analityczne: #REF!
Name _R3_Analityczne: #REF!
Name _R3_Analityczne: #REF!
Name aa: [2]SF!$C$201:$D$203,[2]SF!$C$205:$D$207,[2]SF!$C$209:$D$210,[2]SF!$C$213:$D$215,[2]SF!$C$217:$D$219,[2]SF!$C$222:$D$228,[2]SF!$C$230:$D$234,[2]SF!$C$237:$D$238,[2]SF!$C$240:$D$241
Name aaa: #REF!
Name aaa: #REF!
Name aaa: #REF!
Name aaa: #REF!
Name aaa: #REF!
Name aaa: #REF!
Name aaa: #REF!
Name aaa: #REF!
Name adres: [3]WSTĘP!$IU$5
Name ala: [4]WSTĘP!$IU$9
Name ala: [4]WSTĘP!$IU$9
Name ala: [4]WSTĘP!$IU$9
Name ala: [4]WSTĘP!$IU$9
Name ala: [4]WSTĘP!$IU$9
Name ala: [4]WSTĘP!$IU$9
Name ala: [4]WSTĘP!$IU$9
Name B.O.: [3]WSTĘP!$IU$13
Name B.Z.: [3]WSTĘP!$IU$9
Name bbb: #REF!
Name bbb: #REF!
Name bbb: #REF!
Name bbb: #REF!
Name bbb: #REF!
Name bbb: #REF!
Name bbb: #REF!
Name bbb: #REF!
Name cfff: #REF!
Name cfff: #REF!
Name cfff: #REF!
Name cfff: #REF!
Name cfff: #REF!
Name cfff: #REF!
Name COP: #REF!
Name COP: #REF!
Name COP: #REF!

Sheet Bilans_s
A1: II. SKRÓCONE SKONSOLIDOWANE SPRAWOZDANIE FINANSOWE GRUPY KAPITAŁOWEJ AILLERON SA ZA I KWARTAŁ 2022 ROKU ZAKOŃCZONY 31/03/2022
A2: SPORZĄDZONE WEDŁUG MIĘDZYNARODOWYCH STANDARDÓW SPRAWOZDAWCZOŚCI FINANSOWEJ (wszystkie kwoty wyrażone są w tysiącach złotych polskich o ile nie wskazano inaczej)
A3: 1. SKONSOLIDOWANE SPRAWOZDANIE Z SYTUACJI FINANSOWEJ
A4: AKTYWA | B4: nota | C4: tys. PLN
C5: Stan na 31/03/2022 | D5: Stan na 31/12/2021
A7: AKTYWA TRWAŁE | C7: =SUM(C8:C14) -> 184544000 | D7: =SUM(D8:D14) -> 94490000
A8: Rzeczowe aktywa trwałe | B8: 10 | C8: 29158000 | D8: 22785000
A9: Wartość firmy | B9: 11 | C9: 130591000 | D9: 51349000
A10: Pozostałe aktywa niematerialne | C10: 21317000 | D10: 17965000
A11: Inwestycje w jednostkach zależnych | B11: 23 | C11: 50000 | D11: 1428000
A12: Aktywa z tytułu podatku odroczonego | B12: 9 | C12: 763000 | D12: 693000
A13: Pozostałe aktywa finansowe | C13: 2442000 | D13: 0
A14: Pozostałe aktywa | C14: 223000 | D14: 270000
A15: AKTYWA OBROTOWE | C15: =SUM(C16:C23) -> 171348000 | D15: =SUM(D16:D23) -> 180626000
A16: Zapasy | B16: 12 | C16: 1245000 | D16: 1041000
A17: Należności z tytułu dostaw i usług | B17: 13 | C17: 75059000 | D17: 58440000
A18: Należności krótkoterminowe pozostałe | B18: 13 | C18: 2752000 | D18: 910000
A19: Aktywa kontraktowe | B19: 14 | C19: 5341000 | D19: 4494000
A20: Pozostałe aktywa finansowe | B20: 17 | C20: 543000 | D20: 40000
A21: Należności z tytułu bieżącego podatku dochodowego | B21: 9 | C21: 742000 | D21: 736000
A22: Należności z tytułu innych podatków niż podatek dochodowy | B22: 9 | C22: 7575000 | D22: 3626000
A23: Środki pieniężne i ich ekwiwalenty | C23: 78091000 | D23: 111339000
A24: AKTYWA RAZEM | C24: =C7+C15 -> 355892000 | D24: =D7+D15 -> 275116000
A26: SKONSOLIDOWANE SPRAWOZDANIE Z SYTUACJI FINANSOWEJ [C.D.]
A27: PASYWA | B27: nota | C27: tys. PLN
C28: =C5 -> Stan na 31/03/2022 | D28: =D5 -> Stan na 31/12/2021
A29: KAPITAŁ WŁASNY | C29: =C30+C36 -> 223953000 | D29: =D30+D36 -> 215456000
A30: Kapitał własny przypadający na akcjonariuszy jednostki dominującej | C30: =SUM(C31:C35) -> 133852000 | D30: =SUM(D31:D35) -> 133000000
A31: Kapitał akcyjny | B31: 15 | C31: 3707000 | D31: 3707000
A32: Nadwyżka ze sprzedaży akcji | C32: 38412000 | D32: 38412000
A33: Kapitał rezerwowy | C33: 257000 | D33: 257000
A34: Zyski zatrzymane | B34: 16 | C34: 90025000 | D34: 90691000
A35: Różnice kursowe z przeliczenia jednostek zagranicznych | C35: 1451000 | D35: -67000
A36: Udziały niekontrolujące | C36: 90101000 | D36: 82456000
A37: ZOBOWIĄZANIA | C37: =C38+C44 -> 131939000 | D37: =D38+D44 -> 59660000
A38: Zobowiązania długoterminowe | C38: =SUM(C39:C43) -> 82367000 | D38: =SUM(D39:D43) -> 18519000
A39: Długoterminowe zobowiązania leasingowe | B39: 18 | C39: 22006000 | D39: 17565000
A40: Długoterminowe zobowiązania z tyt. Kredytów i pożyczek | C40: 59016000 | D40: 0
A41: Rezerwa na świadczenia emerytalne i podobne | C41: 144000 | D41: 144000
A42: Inne rezerwy długoterminowe | C42: 21000 | D42: 21000
...

Sheet RZIS_s
A1: 2. SKONSOLIDOWANY RACHUNEK ZYSKÓW I STRAT ZA OKRES OD 01.01.2022 DO 31.03.2022
A2: (Wariant kalkulacyjny) | B2: nota | C2: tys.PLN
C3: 3 miesiące zakończone 31/03/2022 | D3: 3 miesiące zakończone 31/03/2021
A4: Działalność kontynuowana
A5: Przychody ze sprzedaży | B5: 6.7 | C5: =SUM(C6:C7) -> 76709000 | D5: =SUM(D6:D7) -> 38965000
A6: Przychody ze sprzedaży usług | C6: 74013000 | D6: 36848000 | E6: do ukrycia
A7: Przychody ze sprzedaży towarów i materiałów | C7: 2696000 | D7: 2117000
A8: Koszt własny sprzedaży (koszt sprzedanych produktów, usług, towarów i materiałów) | C8: =SUM(C9:C10) -> 54366000 | D8: =SUM(D9:D10) -> 27299000
A9: Koszt sprzedanych usług | C9: 51777000 | D9: 25354000 | E9: do ukrycia
A10: Koszt sprzedanych towarów i materiałów | C10: 2589000 | D10: 1945000
A11: Zysk (strata) brutto ze sprzedaży | C11: =C5-C8 -> 22343000 | D11: =D5-D8 -> 11666000
A12: Koszty sprzedaży | C12: 5159000 | D12: 3815000
A13: Koszty ogólnego zarządu | C13: 7400000 | D13: 3680000
A14: Pozostałe przychody operacyjne | C14: 20000 | D14: 71000
A15: Pozostałe koszty operacyjne | C15: 397000 | D15: 95000
A16: Zysk (strata) na działalności operacyjnej | C16: =C11-C12-C13+C14-C15 -> 9407000 | D16: =D11-D12-D13+D14-D15 -> 4147000
A17: Przychody finansowe | C17: 417000 | D17: 8000
A18: Koszty finansowe | C18: 3646000 | D18: 1441000
A19: Udział w zyskach jednostek stowarzyszonych | C19: 0 | D19: 0
A20: Zysk ze sprzedaży udziałów w jednostce stowarzyszonej | C20: 0 | D20: 0
A21: Zysk (strata) przed opodatkowaniem | C21: =C16+C17-C18 -> 6178000 | D21: =D16+D17-D18 -> 2714000
A23: Podatek dochodowy | B23: 9 | C23: =SUM(C24:C25) -> 2209000 | D23: =SUM(D24:D25) -> 934000
A24: Część bieżąca | C24: 1941000 | D24: 1611000 | E24: do ukrycia
A25: Część odroczona | C25: 268000 | D25: -677000
A26: Zysk (strata) netto z działalności kontynuowanej | C26: =C21-C23 -> 3969000 | D26: =D21-D23 -> 1780000
A27: Działalność zaniechana
A28: Zysk (strata) netto z działalności zaniechanej | C28: 0 | D28: 0
A29: Różnice kursowe z przeliczenia jednostek zagranicznych | C29: 0 | D29: 0
A30: Całkowite dochody ogółem | C30: =C26-C29 -> 3969000 | D30: =D26-D29 -> 1780000
A31: ZYSK (STRATA) NETTO | C31: =C26 -> 3969000 | D31: =D26 -> 1780000
A33: SKONSOLIDOWANY RACHUNEK ZYSKÓW I STRAT ZA OKRES 01.01.2022 - 31.03.2022 - [C.D.]
A34: SKONSOLIDOWANY RACHUNEK ZYSKÓW I STRAT (Wariant kalkulacyjny) | B34: nota | C34: tys.PLN
C35: =C3 -> 3 miesiące zakończone 31/03/2022 | D35: =D3 -> 3 miesiące zakończone 31/03/2021
A36: Zysk (strata) netto, z tego przypadający: | C36: =C31 -> 3969000 | D36: =D31 -> 1780000
A37: Akcjonariuszom jednostki dominującej | C37: -666000 | D37: =D31 -> 1780000
A38: Udziałom niedającym kontroli | C38: =C36-C37 -> 4635000 | D38: 0
A39: Zysk (strata) netto na jedną akcję zwykłą
A40: (w zł/gr na jedną akcję):
A41: z działalności kontynuowanej:
A42: - podstawowy | C42: =C36/12355504 -> 0.32123335 | D42: =D37/12355504 -> 0.14406535
...

Sheet SSCD_s
A1: 2.1 SKONSOLIDOWANE SPRAWOZDANIE Z CAŁKOWITYCH DOCHODÓW ZA OKRES 01.01.2022 - 31.03.2022
A2: SKONSOLIDOWANE SPRAWOZDANIE Z CAŁKOWITYCH DOCHODÓW | C2: tys.PLN
C3: Okres zakończony 31/03/2022 | D3: Okres zakończony 31/03/2021
A4: ZYSK (STRATA) NETTO | C4: =RZIS_s!C31 -> 3969000 | D4: =RZIS_s!D31 -> 1780000
A5: Pozostałe dochody całkowite | D5: 0
A6: Różnice kursowe z przeliczenia jednostek zagranicznych | C6: 1518000 | D6: 0
A7: POZOSTAŁE CAŁKOWITE DOCHODY NETTO | C7: =C6 -> 1518000 | D7: =D6 -> 0
A8: SUMA CAŁKOWITYCH DOCHODÓW | C8: =C4+C7 -> 5487000 | D8: =D4+D7 -> 1780000
A9: przypadających akcjonariuszom jednostki dominującej | C9: =RZIS_s!C37+C7*0.498 -> 89964 | D9: =D8 -> 1780000
A10: przypadających udziałom niedającym kontroli | C10: =RZIS_s!C38+C7*0.502 -> 5397036 | D10: 0

Sheet CF_s
A1: 3. SKONSOLIDOWANE SPRAWOZDANIE Z PRZEPŁYWÓW PIENIĘŻNYCH ZA OKRES OD 01.01.2022 DO 31.03.2022 [METODA POŚREDNIA]
B2: tys.PLN
B3: 3 miesiące zakończone 31/03/2022 | C3: 3 miesiące zakończone 31/03/2021
A4: Przepływy pieniężne z działalności operacyjnej
A5: Zysk za rok obrotowy | B5: =RZIS_s!C31 -> 3969000 | C5: =RZIS_s!D37 -> 1780000
A6: Korekty: | B6: =SUM(B7:B34) -> 1591000 | C6: =SUM(C7:C34) -> 12277000
A7: Koszt podatku dochodowego ujęty w wyniku | B7: =RZIS_s!C23 -> 2209000 | C7: =RZIS_s!D23 -> 934000
A8: Udział w zysku jednostek stowarzyszonych
A9: Koszty finansowe ujęte w wyniku | B9: 100000 | C9: 367000
A10: Przychody z inwestycji ujęte w wyniku
A11: Zysk/Strata ze zbycia/zmiany przeznaczenia składników rzeczowych aktywów trwałych | B11: -21000 | C11: -92000
A12: Przychody z inwestycji ujęte w wyniku
A13: (Zysk) / strata netto z wyceny aktywów finansowych przeznaczonych do obrotu
A14: Zysk/strata z tytułu zmiany przeznaczenia środków trwałych
A15: Zysk/strata ze zbycia jednostki zależnej
A16: (Zysk) / strata netto z wyceny aktywów/zobowiązań finansowych wycenianych w skorygowanej cenie nabycia | B16: 106000 | C16: 0
A17: (Zysk) / strata netto z wyceny aktywów finansowych wycenianych w skorygowanej cenie nabycia
A18: Zysk/strata z tytułu zwrotu wartości inwestycji długoterminowych
A19: Zysk/Strata z tytułu odwrócenia odpisu/utraty wartości należności z tytułu dostaw i usług | B19: 84000 | C19: 0
A20: Odwrócenie odpisu z tytułu utraty wartości należności z tytułu dostaw i usług | B20: -97000 | C20: -22000
A21: Amortyzacja i umorzenie aktywów trwałych | B21: 2759000 | C21: 2069000
A22: Utrata wartości aktywów trwałych
A23: (Dodatnie) / ujemne różnice kursowe netto | B23: 494000 | C23: 1045000
A24: Pozostałe zmiany | B24: 0 | C24: -186000
A25: Zmiany w kapitale obrotowym:
A26: (Zwiększenie) / zmniejszenie salda należności z tytułu dostaw i usług oraz pozostałych należności | B26: -1805000 | C26: =8411000+2794000 -> 11205000
A27: (Zwiększenie) / zmniejszenie aktywów kontraktowych
A28: (Zwiększenie) / zmniejszenie stanu zapasów | B28: -203000 | C28: -485000
A29: (Zwiększenie) / zmniejszenie pozostałych aktywów | B29: -4349000 | C29: -13000
A30: Zmniejszenie salda zobowiązań z tytułu dostaw i usług oraz pozostałych zobowiązań pod | B30: -1751000 | C30: =-1006000-907000 -> -1913000
A31: Zmniejszenie salda zobowiązań kontraktowych
A32: Zwiększenie / (zmniejszenie) rezerw | B32: 360000 | C32: -659000
A33: Zwiększenie / (zmniejszenie) przychodów przyszłych okresów | B33: 1849000 | C33: 103000
A34: Zwiększenie / (zmniejszenie) pozostałych zobowiązań | B34: 1856000 | C34: -76000
A35: Środki pieniężne wygenerowane na działalności operacyjnej | B35: =SUM(B5:B6) -> 5560000 | C35: =SUM(C5:C6) -> 14057000
A36: Zapłacone odsetki i różnice kursowe | B36: -364000 | C36: -1380000
A37: Zapłacony podatek dochodowy | B37: -1382000 | C37: -1494000
A38: ŚRODKI PIENIĘŻNE NETTO Z DZIAŁALNOŚCI OPERACYJNEJ | B38: =SUM(B35:B37) -> 3814000 | C38: =SUM(C35:C37) -> 11183000
A39: SKONSOLIDOWANE SPRAWOZDANIE Z PRZEPŁYWÓW PIENIĘŻNYCH ZA OKRES OD 01.01.2022 DO 31.03.2022 [METODA POŚREDNIA] - [C.D.]
B40: tys.PLN
...

Sheet ZZKW_s
A1: 4. SKONSOLIDOWANE SPRAWOZDANIE ZE ZMIAN W KAPITALE WŁASNYM ZA OKRES SPRAWOZDAWCZY KOŃCZĄCY SIĘ 31 MARCA 2022 ROKU
B2: tys.PLN
B3: Kapitał podstawowy | C3: Nadwyżka ze sprzedaży akcji | D3: Kapitał rezerwowy | E3: Zyski zatrzymane | F3: Różnice kuroswe z przeliczenia jednostek zależnych | G3: Przypadające akcjonariuszom jednostki dominującej | H3: Udziały niekontrolujące | I3: Razem
A4: Stan na 1 stycznia 2021 roku | B4: 3707 | C4: 38412 | D4: 0 | E4: 52937 | F4: 50 | G4: =B4+D4+C4+E4+F4 -> 95106 | H4: 0 | I4: =G4+H4 -> 95106
A5: Zysk netto za rok obrotowy | B5: 0 | C5: 0 | D5: 0 | E5: =RZIS_s!D31/1000 -> 1780 | F5: 0 | G5: =B5+D5+C5+E5+F5 -> 1780 | H5: 0 | I5: =G5+H5 -> 1780
A6: Pozostałe całkowite dochody za rok obrotowy (netto) | B6: 0 | C6: 0 | D6: 0 | E6: 0 | F6: 72 | G6: =B6+D6+C6+E6+F6 -> 72 | H6: 0 | I6: =G6+H6 -> 72
A7: Suma całkowitych dochodów | B7: =B5+B6 -> 0 | C7: =C5+C6 -> 0 | D7: =D5+D6 -> 0 | E7: =E5+E6 -> 1780 | F7: =F5+F6 -> 72 | G7: =G5+G6 -> 1852 | H7: =H5+H6 -> 0 | I7: =G7+H7 -> 1852
A8: Transakcja z udziałowcami mniejszościowymi | B8: 0 | C8: 0 | D8: 0 | E8: 0 | F8: 0 | G8: =B8+D8+C8+E8+F8 -> 0 | H8: 0 | I8: =G8+H8 -> 0
A9: Nabycie jednostki zależnej | B9: 0 | C9: 0 | D9: 0 | E9: 0 | F9: 0 | G9: =B9+D9+C9+E9+F9 -> 0 | H9: 0 | I9: =G9+H9 -> 0
A10: Kapitał rezerwowy na program opcyjny | B10: 0 | C10: 0 | D10: 0 | E10: 0 | F10: 0 | G10: =B10+D10+C10+E10+F10 -> 0 | H10: 0 | I10: =G10+H10 -> 0
A11: Wypłata dywidendy | B11: 0 | C11: 0 | D11: 0 | E11: 0 | F11: 0 | G11: =B11+D11+C11+E11+F11 -> 0 | H11: 0 | I11: =G11+H11 -> 0
A12: Zmiana kapitałów własnych | B12: =B7+B8 -> 0 | C12: =C7+C8 -> 0 | D12: =D7+D8+D10 -> 0 | E12: =E7+E8+E11 -> 1780 | F12: =F7+F8 -> 72 | G12: =G7+G8+G10+G11 -> 1852 | H12: =H7+H8+H9 -> 0 | I12: =G12+H12 -> 1852
A13: Stan na 31 marca 2021 roku | B13: =B4+B12 -> 3707 | C13: =C4+C12 -> 38412 | D13: =D4+D12 -> 0 | E13: =E4+E12 -> 54717 | F13: =F4+F12 -> 122 | G13: =G4+G12 -> 96958 | H13: =H4+H12 -> 0 | I13: =I4+I12 -> 96958
A15: Stan na 1 stycznia 2022 roku | B15: 3707 | C15: 38412 | D15: 257 | E15: 90691 | F15: -67 | G15: =B15+D15+C15+E15+F15 -> 133000 | H15: 82456 | I15: =G15+H15 -> 215456
A16: Zysk netto za rok obrotowy | B16: 0 | C16: 0 | D16: 0 | E16: =RZIS_s!C37/1000 -> -666 | F16: 1518 | G16: =B16+D16+C16+E16+F16 -> 852 | H16: =RZIS_s!C38/1000 -> 4635 | I16: =G16+H16 -> 5487
A17: Pozostałe całkowite dochody za rok obrotowy (netto) | B17: 0 | C17: 0 | D17: 0 | E17: 0 | F17: 0 | G17: =B17+D17+C17+E17+F17 -> 0 | H17: 0 | I17: =G17+H17 -> 0
A18: Suma całkowitych dochodów | B18: =B16+B17 -> 0 | C18: =C16+C17 -> 0 | D18: =D16+D17 -> 0 | E18: =E16+E17 -> -666 | F18: =F16+F17 -> 1518 | G18: =G16+G17 -> 852 | H18: =H16+H17 -> 4635 | I18: =G18+H18 -> 5487
A19: Transakcja z udziałowcami mniejszościowymi | B19: 0 | C19: 0 | D19: 0 | E19: 0 | F19: 0 | G19: =B19+D19+C19+E19+F19 -> 0 | H19: 783 | I19: =G19+H19 -> 783
A20: Nabycie jednostki zależnej | B20: 0 | C20: 0 | D20: 0 | E20: 0 | F20: 0 | G20: =B20+D20+C20+E20+F20 -> 0 | H20: 2227 | I20: =G20+H20 -> 2227
A21: Kapitał rezerwowy na program opcyjny | B21: 0 | C21: 0 | D21: 0 | E21: 0 | F21: 0 | G21: =B21+D21+C21+E21+F21 -> 0 | H21: 0 | I21: =G21+H21 -> 0
A22: Wypłata dywidendy | B22: 0 | C22: 0 | D22: 0 | E22: 0 | F22: 0 | G22: =B22+D22+C22+E22+F22 -> 0 | H22: 0 | I22: =G22+H22 -> 0
A23: Zmiana kapitałów własnych | B23: =B18+B19+B20+B21+B22 -> 0 | C23: =C18+C19+C20+C21+C22 -> 0 | D23: =D18+D19+D20+D21+D22 -> 0 | E23: =E18+E19+E20+E21+E22 -> -666 | F23: =F18+F19+F20+F21+F22 -> 1518 | G23: =G18+G19+G20+G21+G22 -> 852 | H23: =H18+H19+H20+H21+H22 -> 7645 | I23: =I18+I19+I20+I21+I22 -> 8497
A24: Stan na 31 marca 2022 roku | B24: =B15+B23 -> 3707 | C24: =C15+C23 -> 38412 | D24: =D15+D23 -> 257 | E24: =E15+E23 -> 90025 | F24: =F15+F23 -> 1451 | G24: =G15+G23 -> 133852 | H24: =H15+H23 -> 90101 | I24: =I15+I23 -> 223953

Sheet Bilans_j
A1: IV. SKRÓCONE JEDNOSTKOWE SPRAWOZDANIE FINANSOWE AILLERON SA ZA I KWARTAŁ 2022 ROKU ZAKOŃCZONY 31/03/2022
A2: SPORZĄDZONE WEDŁUG MIĘDZYNARODOWYCH STANDARDÓW SPRAWOZDAWCZOŚCI FINANSOWEJ
A3: (wszystkie kwoty wyrażone są w tysiącach złotych polskich o ile nie wskazano inaczej)
A4: JEDNOSTKOWE SPRAWOZDANIE Z SYTUACJI FINANSOWEJ
A5: AKTYWA | B5: nota | C5: tys. PLN
C6: Stan na 31/03/2022 | D6: Stan na 31/12/2021
A8: AKTYWA TRWAŁE | C8: =SUM(C9:C14) -> 72843 | D8: =SUM(D9:D14) -> 65559
A9: Rzeczowe aktywa trwałe | C9: 17379 | D9: 13232
A10: Pozostałe aktywa niematerialne | C10: 17435 | D10: 13851
A11: Inwestycje w jednostkach zależnych | C11: 31205 | D11: 31205
A12: Aktywa z tytułu podatku odroczonego | C12: 0 | D12: 0
A13: Należności z tytułu leasingu finansowego | C13: 6601 | D13: 7001
A14: Pozostałe aktywa | C14: 223 | D14: 270
A15: AKTYWA OBROTOWE | C15: =SUM(C16:C24) -> 49763 | D15: =SUM(D16:D24) -> 58124
A16: Zapasy | C16: 187 | D16: 229
A17: Należności z tytułu dostaw i usług | C17: 12723 | D17: 13936
A18: Należności krótkoterminowe pozostałe | C18: 1217 | D18: 887
A19: Należności z tytułu leasingu finansowego | C19: 1901 | D19: 1865
A20: Aktywa kontraktowe | C20: 4670 | D20: 3822
A21: Pozostałe aktywa finansowe | C21: 1334 | D21: 1396
A22: Należności z tytułu bieżącego podatku dochodowego | C22: 731 | D22: 731
A23: Należności z tytułu innych podatków niż podatek dochodowy | C23: 759 | D23: 703
A24: Środki pieniężne i ich ekwiwalenty | C24: 26241 | D24: 34555
A25: Grupa aktywów przeznaczonych do zbycia | B25: 12 | C25: 0
A26: AKTYWA RAZEM | C26: =C8+C15 -> 122606 | D26: =D8+D15+D25 -> 123683
A29: JEDNOSTKOWE SPRAWOZDANIE Z SYTUACJI FINANSOWEJ
A31: PASYWA | B31: nota | C31: tys. PLN
C32: =C6 -> Stan na 31/03/2022 | D32: =D6 -> Stan na 31/12/2021
A33: KAPITAŁ WŁASNY | C33: =SUM(C34:C37) -> 81261 | D33: =SUM(D34:D37) -> 85558
A34: Kapitał akcyjny | C34: 3707 | D34: 3707
A35: Kapitał rezerwowy | C35: 257 | D35: 257
A36: Nadwyżka ze sprzedaży akcji | C36: 38412 | D36: 38412
A37: Zyski zatrzymane | C37: 38885 | D37: 43182
A38: ZOBOWIĄZANIA | C38: =C39+C44 -> 41345 | D38: =D39+D44+D53 -> 38125
A39: Zobowiązania długoterminowe | C39: =SUM(C40:C43) -> 21765 | D39: =SUM(D40:D43) -> 18155
A40: Długoterminowe zobowiązania leasingowe | C40: 20224 | D40: 16973
A41: Rezerwa na świadczenia emerytalne i podobne | C41: 90 | D41: 90
A42: Inne rezerwy długoterminowe | C42: 21 | D42: 21
A43: Rezerwa z tytułu odroczonego podatku dochodowego | C43: 1430 | D43: 1071
A44: Zobowiązania krótkoterminowe | C44: =SUM(C45:C52) -> 19580 | D44: =SUM(D45:D52) -> 19970
...

Sheet RZIS_j
A1: JEDNOSTKOWY RACHUNEK ZYSKÓW I STRAT ZA OKRES 01.01.2022 - 31.03.2022
A3: JEDNOSTKOWY RACHUNEK ZYSKÓW I STRAT (Wariant kalkulacyjny) | B3: nota | C3: tys.PLN
C4: 3 miesiące zakończone 31/03/2022 | D4: 3 miesiące zakończone 31/03/2021
A5: Działalność kontynuowana
A6: PRZYCHODY ZE SPRZEDAŻY | C6: =SUM(C7:C8) -> 13760 | D6: =SUM(D7:D8) -> 12567
A7: Przychody ze sprzedaży usług | C7: 13382 | D7: 12206
A8: Przychody ze sprzedaży towarów i materiałów | C8: 378 | D8: 361
A9: Koszt własny sprzedaży (koszt sprzedanych produktów, usług, towarów i materiałów) | C9: =SUM(C10:C11) -> 11810 | D9: =SUM(D10:D11) -> 9900
A10: Koszt sprzedanych usług | C10: 11464 | D10: 9612
A11: Koszt sprzedanych towarów i materiałów | C11: 346 | D11: 288
A12: ZYSK (STRATA) BRUTTO ZE SPRZEDAŻY | C12: =C6-C9 -> 1950 | D12: =D6-D9 -> 2667
A13: Koszty sprzedaży | C13: 2726 | D13: 2983
A14: Koszty ogólnego zarządu | C14: 2885 | D14: 2950
A15: Pozostałe przychody operacyjne | C15: 69 | D15: 119
A16: Pozostałe koszty operacyjne | C16: 55 | D16: 54
A17: ZYSK (STRATA) NA DZIAŁALNOŚCI OPERACYJNEJ | C17: =C12-C13-C14+C15-C16 -> -3647 | D17: =D12-D13-D14+D15-D16 -> -3201
A18: Przychody finansowe | C18: 118 | D18: 1988
A19: Koszty finansowe | C19: 397 | D19: 1296
A20: Zysk (strata) przed opodatkowaniem | C20: =C17+C18-C19 -> -3926 | D20: =D17+D18-D19 -> -2509
A22: Podatek dochodowy | C22: =SUM(C23:C24) -> 371 | D22: =SUM(D23:D24) -> -500
A23: Część bieżąca | C23: 12 | D23: 84
A24: Część odroczona | C24: 359 | D24: -584
A25: Zysk (strata) netto z działalności kontynuowanej | C25: =C20-C22 -> -4297 | D25: =D20-D22 -> -2009
A26: Działalność zaniechana | D26: 0
A27: Przychody ze sprzedaży | D27: 12095
A28: Koszty operacyjne ogółem | D28: 10651
A29: Zysk (strata) z działalności operacyjnej | C29: =C27-C28 -> 0 | D29: =D27-D28 -> 1444
A30: Podatek dochodowy | D30: 274
A31: Zysk (strata) netto z działalności zaniechanej | C31: =C29-C30 -> 0 | D31: =D29-D30 -> 1170
A32: ZYSK (STRATA) NETTO RAZEM | C32: =C25+C31 -> -4297 | D32: =D25+D31 -> -839
A35: JEDNOSTKOWY RACHUNEK ZYSKÓW I STRAT ZA OKRES 01.01.2022 - 31.03.2022 - C.D.
A37: JEDNOSTKOWY RACHUNEK ZYSKÓW I STRAT (Wariant kalkulacyjny) | B37: nota | C37: tys.PLN
C38: =C4 -> 3 miesiące zakończone 31/03/2022 | D38: =D4 -> 3 miesiące zakończone 31/03/2021
A39: Zysk (strata) netto: | C39: =C32 -> -4297 | D39: =D32 -> -839
A40: Akcjonariuszom podmiotu dominującego | C40: =C32 -> -4297 | D40: =D32 -> -839
A41: Zysk (strata) netto na jedną akcję zwykłą
A42: (w zł/gr na jedną akcję):
A43: z działalności kontynuowanej:
A44: - podstawowy | C44: =C25/12355504*1000 -> -0.34778023 | D44: =D25/12355504*1000 -> -0.1625996
A45: - rozwodniony | C45: =C44 -> -0.34778023 | D45: =D44 -> -0.1625996
...

Sheet SSCD_j
A1: JEDNOSTKOWE SPRAWOZDANIE Z CAŁKOWITYCH DOCHODÓW ZA OKRES 01.01.2022 - 31.03.2022
A2: JEDNOSTKOWE SPRAWOZDANIE Z CAŁKOWITYCH DOCHODÓW | C2: tys.PLN
C3: =RZIS_j!C4 -> 3 miesiące zakończone 31/03/2022 | D3: =RZIS_j!D4 -> 3 miesiące zakończone 31/03/2021
A4: ZYSK (STRATA) NETTO | C4: =RZIS_j!C39*1000 -> -4297000 | D4: =RZIS_j!D39*1000 -> -839000
A5: Pozostałe dochody całkowite | C5: 0 | D5: 0
A6: Różnice kursowe z przeliczenia jednostek zagranicznych | C6: 0 | D6: 0
A7: POZOSTAŁE CAŁKOWITE DOCHODY NETTO | C7: =C6 -> 0 | D7: =D6 -> 0
A8: SUMA CAŁKOWITYCH DOCHODÓW | C8: =C4+C7 -> -4297000 | D8: =D4+D7 -> -839000

Sheet CF_j
A1: JEDNOSTKOWY RACHUNEK PRZEPŁYWÓW PIENIĘŻNYCH ZA OKRES 01.01.2022 - 31.03.2022
B2: tys.PLN
B3: =SSCD_j!C3 -> 3 miesiące zakończone 31/03/2022 | C3: =SSCD_j!D3 -> 3 miesiące zakończone 31/03/2021
A4: Przepływy pieniężne z działalności operacyjnej
A5: Zysk za rok obrotowy | B5: =RZIS_j!C32 -> -4297 | C5: =RZIS_j!D32 -> -839
A6: Korekty: | B6: =SUM(B7:B29) -> 1543 | C6: =SUM(C7:C29) -> 10737
A7: Koszt podatku dochodowego ujęty w wyniku | B7: =RZIS_j!C22+RZIS_j!C30 -> 371 | C7: -500
A8: Koszty finansowe ujęte w wyniku | B8: 15 | C8: 352
A9: Przychody z inwestycji ujęte w wyniku
A10: Zysk/Strata ze zbycia składników rzeczowych aktywów trwałych | B10: -8 | C10: -111
A11: (Zysk) / strata netto z wyceny zobowiązań finansowych wycenianych w skorygowanej cenie nabycia
A12: (Zysk) / strata netto z wyceny aktywów finansowych wycenianych w skorygowanej cenie nabycia | B12: 106 | C12: 0
A13: Zysk/strata z tytułu zmiany przeznaczenia środków trwałych
A14: (Zysk)/strata ze zbycia jednostki zależnej
A15: Strata z tytułu utraty wartości należności z tytułu dostaw i usług | B15: 84 | C15: 0
A16: Odwrócenie odpisu z tytułu utraty wartości należności z tytułu dostaw i usług | B16: -97 | C16: -22
A17: Amortyzacja i umorzenie aktywów trwałych | B17: 2006 | C17: 1989
A18: (Dodatnie) / ujemne różnice kursowe netto | B18: 382 | C18: 943
A20: Zmiany w kapitale obrotowym:
A21: (Zwiększenie) / zmniejszenie salda należności z tytułu dostaw i usług oraz pozostałych należności | B21: 885 | C21: =10475+2794 -> 13269
A22: (Zwiększenie) / zmniejszenie aktywów kontraktowych
A23: (Zwiększenie) / zmniejszenie stanu zapasów | B23: 42 | C23: -480
A24: (Zwiększenie) / zmniejszenie pozostałych aktywów | B24: -847 | C24: 54
A25: Zmniejszenie salda zobowiązań z tytułu dostaw i usług oraz pozostałych zobowiązań | B25: -1428 | C25: =-2872-907 -> -3779
A26: Zmniejszenie salda zobowiązań kontraktowych
A27: Zwiększenie / (zmniejszenie) rezerw | B27: 41 | C27: -639
A28: Zwiększenie / (zmniejszenie) przychodów przyszłych okresów | B28: 309 | C28: 121
A29: Zwiększenie / (zmniejszenie) pozostałych zobowiązań | B29: -318 | C29: -460
A30: Środki pieniężne wygenerowane na działalności operacyjnej | B30: =B5+B6 -> -2754 | C30: =C5+C6+2 -> 9900
A31: Zapłacone odsetki | B31: -397 | C31: -1295
A32: Zapłacony podatek dochodowy | B32: 0 | C32: -358
A33: ŚRODKI PIENIĘŻNE NETTO Z DZIAŁALNOŚCI OPERACYJNEJ | B33: =SUM(B30:B32) -> -3151 | C33: =SUM(C30:C32)-1 -> 8246
A34: JEDNOSTKOWY RACHUNEK PRZEPŁYWÓW PIENIĘŻNYCH ZA OKRES 01.01.2022 - 31.03.2022 [C.D.]
B35: tys.PLN
B36: =B3 -> 3 miesiące zakończone 31/03/2022 | C36: =C3 -> 3 miesiące zakończone 31/03/2021
A38: Przepływy pieniężne z działalności inwestycyjnej
A39: Wpływy ze sprzedaży aktywów finansowych
A40: Pożyczki udzielone jednostkom powiązanym | B40: -48 | C40: -42
A41: Spłata pożyczek wraz z odsetkami od jednostek pozostałych | B41: 5 | C41: 5
A42: Pożyczki udzielone pozostałym podmiotom
...

Sheet ZZKW_j
A1: JEDNOSTKOWE SPRAWOZDANIE ZE ZMIAN W KAPITALE WŁASNYM ZA OKRES SPRAWOZDAWCZY KOŃCZĄCY SIĘ 31 MARCA 2022 ROKU
B2: tys.PLN
B3: Kapitał podstawowy | C3: Kapitał rezerwowy | D3: Nadwyżka ze sprzedaży akcji | E3: Zyski zatrzymane | F3: Razem
A4: Stan na 1 stycznia 2021 roku | B4: 3707 | C4: 0 | D4: 38412 | E4: 22828 | F4: =SUM(B4:E4) -> 64947
A5: Zysk netto za rok obrotowy | B5: 0 | C5: 0 | D5: 0 | E5: =RZIS_j!D32 -> -839 | F5: =SUM(B5:E5) -> -839
A6: Pozostałe całkowite dochody za rok obrotowy (netto) | B6: 0 | C6: 0 | D6: 0 | E6: - | F6: =SUM(B6:E6) -> 0
A7: Suma całkowitych dochodów | B7: =SUM(B5:B6) -> 0 | C7: =SUM(C5:C6) -> 0 | D7: =SUM(D5:D6) -> 0 | E7: =SUM(E5:E6) -> -839 | F7: =SUM(B7:E7) -> -839
A8: Stan na 31 marca 2021 roku | B8: =B4+B7 -> 3707 | C8: =C4+C7 -> 0 | D8: =D4+D7 -> 38412 | E8: =E4+E7 -> 21989 | F8: =F4+F7 -> 64108
A10: Stan na 1 stycznia 2021 roku | B10: =B8 -> 3707 | C10: 257 | D10: =D8 -> 38412 | E10: 43182 | F10: =SUM(B10:E10) -> 85558
A11: Zysk netto za rok obrotowy | B11: 0 | C11: 0 | D11: 0 | E11: =RZIS_j!C32 -> -4297 | F11: =SUM(B11:E11) -> -4297
A12: Pozostałe całkowite dochody za rok obrotowy (netto) | B12: 0 | C12: 0 | D12: 0 | E12: 0 | F12: =SUM(B12:E12) -> 0
A13: Suma całkowitych dochodów | B13: =SUM(B11:B12) -> 0 | C13: =SUM(C11:C12) -> 0 | D13: =SUM(D11:D12) -> 0 | E13: =SUM(E11:E12) -> -4297 | F13: =SUM(B13:E13) -> -4297
A14: Kapitał rezerwowy na program opcyjny | B14: 0 | C14: 0 | D14: 0 | E14: 0 | F14: =SUM(B14:E14) -> 0
A15: Wypłata dywidendy | B15: 0 | C15: 0 | D15: 0 | E15: 0 | F15: =SUM(B15:E15) -> 0
A16: Zmiana kapitałów własnych | B16: =SUM(B13:B15) -> 0 | C16: =SUM(C13:C15) -> 0 | D16: =SUM(D13:D15) -> 0 | E16: =SUM(E13:E15) -> -4297 | F16: =SUM(B16:E16) -> -4297
A17: Stan na 31 marca 2022 roku | B17: =B10+B16 -> 3707 | C17: =C10+C16 -> 257 | D17: =D10+D16 -> 38412 | E17: =E10+E16 -> 38885 | F17: =F10+F16 -> 81261
A26: Kraków, 23 maja 2022 r.
