Workbook
Name _a: #REF!
Name _B: #REF!
Name _cop: #REF!
Name _N: #REF!
Name _r1: #REF!
Name _R1_Nieodlaczne: #REF!
Name _R1_Nieodlaczne: #REF!
Name _R1_Nieodlaczne: #REF!
Name _R1_Nieodlaczne: #REF!
Name _R1_Nieodlaczne: #REF!
Name _R1_Nieodlaczne: #REF!
Name _R1_Nieodlaczne: #REF!
Name _R1_Nieodlaczne: #REF!
Name _R2: #REF!
Name _R2_Kontrolwewn: #REF!
Name _R2_Kontrolwewn: #REF!
Name _R2_Kontrolwewn: #REF!
Name _R2_Kontrolwewn: #REF!
Name _R2_Kontrolwewn: #REF!
Name _R2_Kontrolwewn: #REF!
Name _R2_Kontrolwewn: #REF!
Name _R2_Kontrolwewn: #REF!
Name _r3: #REF!
Name _R3_Analityczne: #REF!
Name _R3_Analityczne: #REF!
Name _R3_Analityczne: #REF!
Name _R3_Analityczne: #REF!
Name _R3_Analityczne: #REF!
Name _R3_Analityczne: #REF!
Name _R3_Analityczne: #REF!
Name _R3_Analityczne: #REF!
Name aa: [2]SF!$C$201:$D$203,[2]SF!$C$205:$D$207,[2]SF!$C$209:$D$210,[2]SF!$C$213:$D$215,[2]SF!$C$217:$D$219,[2]SF!$C$222:$D$228,[2]SF!$C$230:$D$234,[2]SF!$C$237:$D$238,[2]SF!$C$240:$D$241
Name aaa: #REF!
Name aaa: #REF!
Name adres: [10]WSTĘP!$IU$5
Name adres: [3]WSTĘP!$IU$5
Name ala: [11]WSTĘP!$IU$9
Name ala: [4]WSTĘP!$IU$9
Name B.O.: [10]WSTĘP!$IU$13
Name B.O.: [3]WSTĘP!$IU$13
Name B.Z.: [10]WSTĘP!$IU$9
Name B.Z.: [3]WSTĘP!$IU$9
Name bbb: #REF!
Name bbb: #REF!
Name COP: #REF!
Name COP_: #REF!
Name Dane_kalkulacyjny: [5]SF!$C$201:$D$203,[5]SF!$C$205:$D$207,[5]SF!$C$209:$D$210,[5]SF!$C$213:$D$215,[5]SF!$C$217:$D$219,[5]SF!$C$222:$D$228,[5]SF!$C$230:$D$234,[5]SF!$C$237:$D$238,[5]SF!$C$240:$D$241
Name Dane_porównawczy: [5]SF!$C$147:$D$151,[5]SF!$C$153:$D$161,[5]SF!$C$164:$D$166,[5]SF!$C$168:$D$170,[5]SF!$C$173:$D$179,[5]SF!$C$181:$D$185,[5]SF!$C$188:$D$189,[5]SF!$C$191:$D$192
Name Dane_RZiS_1.Rodz.: [6]SF!$C$105:$D$108,[6]SF!$C$110:$D$117,[6]SF!$C$120:$D$122,[6]SF!$C$124:$D$125,[6]SF!$C$128:$D$131,[6]SF!$C$133:$D$136,[6]SF!$C$138:$D$139,[6]SF!$C$142:$D$143
Name Dane_RZiS_2.Kalk.: [6]SF!$C$151,[6]SF!$C$151:$D$152,[6]SF!$C$154:$D$155,[6]SF!$C$157:$D$158,[6]SF!$C$161:$D$163,[6]SF!$C$165:$D$166,[6]SF!$C$169:$D$172,[6]SF!$C$174:$D$177,[6]SF!$C$179:$D$180,[6]SF!$C$183:$D$184
Name DataZatw: [7]Wstęp!$CI$88
Name DataZatw: [7]Wstęp!$CI$88
Name DataZatw: [7]Wstęp!$CI$88
Name DataZatw: [7]Wstęp!$CI$88
Name DataZatw: [8]Wstęp!$CI$88
Name DB: [9]P1!$AX$126
Name FromaPrawna: [10]WSTĘP!$IU$3
Name FromaPrawna: [3]WSTĘP!$IU$3
Name kodmiejscowość: [10]WSTĘP!$IU$6
Name kodmiejscowość: [3]WSTĘP!$IU$6

Sheet S Bilans
A1: SKRÓCONE SKONSOLIDOWANE SPRAWOZDANIE FINANSOWE GRUPY KAPITAŁOWEJ AILLERON SA ZA I KWARTAŁ 2019 ROKU ZAKOŃCZONY 31/03/2019
A2: SPORZĄDZONE WEDŁUG MIĘDZYNARODOWYCH STANDARDÓW SPRAWOZDAWCZOŚCI FINANSOWEJ
A3: SKONSOLIDOWANE SPRAWOZDANIE Z SYTUACJI FINANSOWEJ
A4: Aktywa | B4: Nota | C4: tys. PLN
C5: Stan na 31/03/2019 | D5: Stan na 31/12/2018 | E5: Stan na 31/03/2018
A6: AKTYWA TRWAŁE | C6: =SUM(C7:C14) -> 56742000 | D6: 57119000 | E6: =SUM(E7:E14) -> 59246000
A7: Rzeczowe aktywa trwałe | B7: 10 | C7: 11941000 | D7: 11668000 | E7: 13025000
A8: Nieruchomości inwestycyjne | C8: 0 | D8: 0 | E8: 0
A9: Wartość firmy | B9: 11 | C9: 38379000 | D9: 38379000 | E9: 38379000
A10: Pozostałe aktywa niematerialne | C10: 5162000 | D10: 5636000 | E10: 5853000
A11: Inwestycje w jednostkach stowarzyszonych /podporządkowanych | C11: 130000 | D11: 129000 | E11: 55000
A12: Aktywa z tytułu podatku odroczonego | B12: 9 | C12: 1130000 | D12: 1307000 | E12: 1934000
A13: Pozostałe aktywa finansowe | C13: 0 | D13: 0 | E13: 0
A14: Pozostałe aktywa | C14: 0 | D14: 0 | E14: 0
A15: AKTYWA OBROTOWE | C15: =SUM(C16:C23) -> 65682000 | D15: =SUM(D16:D23) -> 79851000 | E15: =SUM(E16:E23) -> 60127000
A16: Zapasy | B16: 12 | C16: 9285000 | D16: 8580000 | E16: 7680000
A17: Należności z tytułu dostaw i usług oraz pozostałe należności | B17: 13 | C17: 28696000 | D17: 50713000 | E17: 16551000
A18: Należności z tytułu kontraktów budowlanych i podobne | B18: 14 | C18: 15069000 | D18: 11401000 | E18: 15039000
A19: Pozostałe aktywa finansowe | C19: 1408000 | D19: 962000 | E19: 686000
A20: Bieżące aktywa podatkowe | B20: 9 | C20: 2430000 | D20: 2672000 | E20: 2008000
A21: Pozostałe aktywa | C21: 0 | D21: 0 | E21: 0
A22: Środki pieniężne i ich ekwiwalenty | C22: 8794000 | D22: 5523000 | E22: 18163000
A23: Aktywa klasyfikowane jako przeznaczone do zbycia | C23: 0
A24: AKTYWA RAZEM | C24: =SUM(C6,C15) -> 122424000 | D24: =SUM(D6,D15) -> 136970000 | E24: =SUM(E6,E15) -> 119373000
A27: SKONSOLIDOWANE SPRAWOZDANIE Z SYTUACJI FINANSOWEJ - C.D.
A28: SKONSOLIDOWANE SPRAWOZDANIE Z SYTUACJI FINANSOWEJ - [C.D.]
A29: PASYWA | B29: Nota | C29: tys. PLN
C30: =C5 -> Stan na 31/03/2019 | D30: =D5 -> Stan na 31/12/2018 | E30: =E5 -> Stan na 31/03/2018
A31: KAPITAŁ WŁASNY | C31: =SUM(C32:C37) -> 87213000 | D31: =SUM(D32:D37) -> 86731000 | E31: =SUM(E32:E37) -> 81730000
A32: Kapitał akcyjny | B32: 15 | C32: 3707000 | D32: 3707000 | E32: 3707000
A33: Nadwyżka ze sprzedaży akcji | C33: 38412000 | D33: 38412000 | E33: 38412000
A34: Zyski zatrzymane | B34: 16 | C34: 45094000 | D34: 44612000 | E34: 39611000
A35: Wynik wycen odnoszonych bezpośrednio poprzez kapitał własny | C35: 0 | D35: 0 | E35: 0
A36: Kwoty ujęte bezpośrednio w kapitale, związane z aktywami klasyfikowanymi jako przeznaczone do zbycia | C36: 0 | D36: 0 | E36: 0
A37: Kapitały przypadajace na jednostki zalezne dające współkontrolę nad spółką | C37: 0 | D37: 0 | E37: 0
A38: ZOBOWIĄZANIA | C38: =SUM(C39,C49) -> 35211000 | D38: =SUM(D39,D49) -> 50239000 | E38: =SUM(E39,E49) -> 37643000
A39: Zobowiązania długoterminowe | C39: =SUM(C40:C48) -> 11908000 | D39: =SUM(D40:D48) -> 12954000 | E39: =SUM(E40:E48) -> 18299000
A40: Długoterminowe zobowiązania z tyt. obligacji i umowy leasingu | B40: 18 | C40: 764000 | D40: 794000 | E40: 1036000
A41: Długoterminowe zobowiązania finansowe z tyt kredytów | B41: 19 | C41: 3868000 | D41: 4657000 | E41: 6735000
A42: Pozostałe zobowiązania długoterminowe | B42: 21 | C42: 4540000 | D42: 4699000 | E42: 6635000
...

Sheet S RZiS
A1: SKONSOLIDOWANY RACHUNEK ZYSKÓW I STRAT ORAZ SPRAWOZDANIE Z POZOSTAŁYCH CAŁKOWITYCH DOCHODÓW ZA OKRES 01.01.2019 - 31.03.2019
A2: Wariant kalkulacyjny | B2: Nota | C2: tys.PLN
C3: 3 miesięce zakończone 31/03/2019 | D3: 3 miesięce zakończone 31/03/2018
A4: Działalność kontynuowana
A5: Przychody ze sprzedaży | B5: 6.7 | C5: =SUM(C6:C8) -> 30587000 | D5: =SUM(D6:D8) -> 21065000
A6: Przychody ze sprzedaży wyrobów | C6: 0 | D6: 0
A7: Przychody ze sprzedaży usług | C7: 28424000 | D7: 20907000
A8: Przychody ze sprzedaży towarów i materiałów | C8: 2163000 | D8: 158000
A9: Koszt własny sprzedaży (koszt sprzedanych produktów, usług, towarów i materiałów) | C9: =SUM(C10:C12) -> 23169000 | D9: =SUM(D10:D12) -> 15694000
A10: Koszt wytworzenia sprzedanych wyrobów | C10: 0 | D10: 0
A11: Koszt sprzedanych usług | C11: 21184000 | D11: 15625000
A12: Koszt sprzedanych towarów i materiałów | C12: 1985000 | D12: 69000
A13: Zysk (strata) brutto ze sprzedaży | C13: =SUM(C5,-C9) -> 7418000 | D13: =SUM(D5,-D9) -> 5371000
A14: Koszty sprzedaży | C14: 3614000 | D14: 2982000
A15: Koszty ogólnego zarządu | C15: 2464000 | D15: 2010000
A16: Pozostałe przychody operacyjne | C16: -1000 | D16: 86000
A17: Pozostałe koszty operacyjne | C17: 48000 | D17: 12000
A18: Zysk (strata) na działalności operacyjnej | C18: =C13-C14-C15+C16-C17 -> 1291000 | D18: =D13-D14-D15+D16-D17 -> 453000
A19: Przychody finansowe | C19: 10000 | D19: 25000
A20: Koszty finansowe | C20: 217000 | D20: 103000
A21: Udział w zyskach jednostek stowarzyszonych | C21: 0 | D21: 0
A22: Zysk ze sprzedaży udziałów w jednostce stowarzyszonej | C22: 0 | D22: 0
A23: Inne (opisać)
A24: Zysk (strata) przed opodatkowaniem | C24: =C18+C19-C20+C21+C22+C23 -> 1084000 | D24: =D18+D19-D20+D21+D22+D23 -> 375000
A26: Podatek dochodowy | B26: 9 | C26: =C27+C28 -> 602000 | D26: 84000
A27: część bieżąca | C27: 490000 | D27: 87000
A28: część odroczona | C28: 112000 | D28: -3000
A29: Zysk (strata) netto z działalności kontynuowanej | C29: =C24-C26 -> 482000 | D29: =D24-D26 -> 291000
A30: Działalność zaniechana
A31: Zysk (strata) netto z działalności zaniechanej | C31: 0 | D31: 0
A32: Zysk (strata) netto | C32: =SUM(C29,C31) -> 482000 | D32: =SUM(D29,D31) -> 291000
A34: SKONSOLIDOWANY RACHUNEK ZYSKÓW I STRAT ORAZ SPRAWOZDANIE Z POZOSTAŁYCH CAŁKOWITYCH DOCHODÓW -C.D.
A36: Zysk (strata) netto, z tego przypadający: | C36: =C32 -> 482000 | D36: =D32 -> 291000
A37: - akcjonariuszom podmiotu dominującego | C37: 482000 | D37: 298000
A38: - akcjonariuszom mniejszościowym | C38: 0 | D38: -7000
A39: Zysk (strata) netto na jedną akcję zwykłą
A40: (w zł/gr na jedną akcję):
A41: z działalności kontynuowanej
A42: - podstawowy | C42: =C37/12355504 -> 0.039010954 | D42: 0.02
A43: - rozwodniony | C43: =C42 -> 0.039010954 | D43: 0.02
...

Sheet S CF
A1: SKONSOLIDOWANE SPRAWOZDANIE Z PRZEPŁYWÓW PIENIĘŻNYCH ZA OKRES 01.01.2019 - 31.03.2019 [METODA POŚREDNIA]
B2: tys.PLN
B3: 3 miesięce zakończonych 31/03/2019 | C3: 3 miesięce zakończonych 31/03/2018
A4: Przepływy pieniężne z działalności operacyjnej
A5: Zysk za rok obrotowy | B5: ='S RZiS'!C36 -> 482000 | C5: ='S RZiS'!D37 -> 298000
A6: Korekty: Koszt podatku dochodowego ujęty w wyniku | B6: ='S RZiS'!C26 -> 602000 | C6: 84000
A7: Udział w zysku akcjonariuszy mniejszościowych | B7: 0 | C7: -7000
A8: Udział w zysku jednostek stowarzyszonych | B8: 0 | C8: 0
A9: Koszty finansowe ujęte w wyniku | B9: 34000 | C9: 26000
A10: Przychody z inwestycji ujęte w wyniku | B10: 0 | C10: 0
A11: Zysk ze zbycia składników rzeczowych aktywów trwałych | B11: 5000 | C11: -11000
A12: Zysk/strata z tytułu likwidacji środków trwałych | B12: 0 | C12: 2000
A13: (Zysk) / strata netto z wyceny zobowiązań finansowych wycenianych w skorygowanej cenie nabycia | B13: 0 | C13: 0
A14: Zysk/strata z tytułu zmiany przeznaczenia środków trwałych | B14: 0 | C14: 0
A15: Zysk ze zbycia jednostki zależnej | B15: 0 | C15: 0
A16: Korekta konsolidacyjna wartości aktywów finansowych | B16: 0 | C16: 0
A17: (Zysk) / strata netto z wyceny zobowiązań finansowych wycenianych w wartości godziwej przez wynik | B17: 0 | C17: 0
A18: (Zysk) / strata netto z wyceny aktywów finansowych przeznaczonych do obrotu | B18: 0 | C18: 0
... A29: (Dodatnie) / ujemne różnice kursowe netto | B29: 182000 | C29: 68000
A30: Koszty z tytułu płatności na bazie akcji rozliczanych instrumentami kapitałowymi
A31: Koszty wynikające z emisji akcji na pokrycie otrzymanych usług konsultacyjnych
A32: Amortyzacja kontraktów gwarancji finansowych
A33: Korekta związana z konsolidacją spółki zależnej Hoteliga International Sp. z o.o. | B33: 0 | C33: 1762000
B34: =SUM(B5:B33) -> 3431000 | C34: =SUM(C5:C33) -> 4186000
A35: Zmiany w kapitale obrotowym:
A36: (Zwiększenie) / zmniejszenie salda należności z tytułu dostaw i usług oraz pozostałych należności | B36: 22258000 | C36: 21583000
A37: (Zwiększenie) / zmniejszenie należności z tytułu kontraktów budowlanych | B37: -3668000 | C37: -4382000
A38: (Zwiększenie) / zmniejszenie stanu zapasów | B38: -705000 | C38: -822000
A39: (Zwiększenie) / zmniejszenie pozostałych aktywów | B39: 178000 | C39: 156000
A40: Zmniejszenie salda zobowiązań z tytułu dostaw i usług oraz pozostałych zobowiązań | B40: -12634000 | C40: -6527000
A41: Zwiększenie / (zmniejszenie) zobowiązań z tytułu kontraktów budowlanych | B41: -139000 | C41: -295000
A42: Zwiększenie / (zmniejszenie) rezerw | B42: -64000 | C42: -158000
A43: Zwiększenie / (zmniejszenie) przychodów przyszłych okresów | B43: -856000 | C43: 97000
A44: Zwiększenie / (zmniejszenie) pozostałych zobowiązań | B44: -449000 | C44: 125000
A45: Środki pieniężne wygenerowane na działalności operacyjnej | B45: =SUM(B34:B44) -> 7352000 | C45: =SUM(C34:C44) -> 13963000
A46: Zapłacone odsetki i różnice kursowe | B46: -216000 | C46: -93000
A47: Zapłacony podatek dochodowy | B47: -1046000 | C47: -434000
A48: ŚRODKI PIENIĘŻNE NETTO Z DZIAŁALNOŚCI OPERACYJNEJ | B48: =B45+B46+B47 -> 6090000 | C48: =C45+C46+C47 -> 13436000
A49: SKONSOLIDOWANE SPRAWOZDANIE Z PRZEPŁYWÓW PIENIĘŻNYCH ZA OKRES 01.01.2019 - 31.03.2019 [METODA POŚREDNIA] - [C.D.]
B50: tys.PLN
...

Sheet ZZKW_s
A1: SKONSOLIDOWANE SPRAWOZDANIE ZE ZMIAN W KAPITALE WŁASNYM ZA OKRES SPRAWOZDAWCZY KOŃCZĄCY SIĘ 31 MARCA 2019 ROKU
B2: tys.PLN
B3: Kapitał podstawowy | C3: Nadwyżka ze sprzedaży akcji | D3: Kapitał rezerwowy ogółem | E3: Kapitał rezerwowy z przeszac. Rzeczowych aktywów trwałych | F3: Kapitał rezerwowy z przeszac. Inwestycji | G3: Kapitał rezerwowy na świadczenia pracownicze rozliczane instrumentami kapitałowymi | H3: Kapitał rezerwowy na zabezpieczenia | I3: Kapitał rezerwowy z przewalutowania | J3: Nadwyżka ze sprzedaży opcji na obligacje zamienne | K3: Zyski zatrzymane | L3: Przypadające akcjonariuszom jednostki dominującej | M3: Przypadające udziałom niedającym kontroli | N3: Razem
A4: Stan na 1 stycznia 2018 roku (z poprzedniego sprawozdania) | B4: 3707 | C4: 38412 | D4: - | E4: - | F4: - | G4: - | H4: - | I4: - | J4: - | K4: 39313 | L4: 39313 | M4: - | N4: =B4+C4+K4 -> 81432
A5: Przekształcenia | B5: - | C5: - | D5: - | E5: - | F5: - | G5: - | H5: - | I5: - | J5: - | K5: - | L5: - | M5: - | N5: -
A6: Stan na 1 stycznia 2018 roku (po przekształceniach) | B6: 3707 | C6: 38412 | D6: - | E6: - | F6: - | G6: - | H6: - | I6: - | J6: - | K6: 39313 | L6: 39313 | M6: - | N6: =B6+C6+K6 -> 81432
A7: Zysk netto za rok obrotowy | B7: - | C7: - | D7: - | E7: - | F7: - | G7: - | H7: - | I7: - | J7: - | K7: 298 | L7: 298 | M7: - | N7: =K7 -> 298
A8: Pozostałe całkowite dochody za rok obrotowy (netto) | B8: - | C8: - | D8: - | E8: - | F8: - | G8: - | H8: - | I8: - | J8: - | K8: - | L8: - | M8: - | N8: -
A9: Suma całkowitych dochodów | B9: - | C9: - | D9: - | E9: - | F9: - | G9: - | H9: - | I9: - | J9: - | K9: 298 | L9: 298 | M9: - | N9: =K9 -> 298
A10: Wykorzystanie rezerwy w ramach planu pracowniczych opcji na akcję | B10: - | C10: - | D10: - | E10: - | F10: - | G10: - | H10: - | I10: - | J10: - | K10: - | L10: - | M10: - | N10: -
A11: Ujęcie płatności dokonywanych na bazie akcji | B11: - | C11: - | D11: - | E11: - | F11: - | G11: - | H11: - | I11: - | J11: - | K11: - | L11: - | M11: - | N11: -
A12: Wypłata dywidendy | B12: - | C12: - | D12: - | E12: - | F12: - | G12: - | H12: - | I12: - | J12: - | K12: - | L12: - | M12: -
A13: Stan na 31 marca 2018 roku | B13: 3707 | C13: 38412 | D13: - | E13: - | F13: - | G13: - | H13: - | I13: - | J13: - | K13: =K6+K9 -> 39611 | L13: =L6+L9 -> 39611 | M13: - | N13: =N6+N9+N12 -> 81730
A14: Zysk netto za rok obrotowy | B14: - | C14: - | D14: - | E14: - | F14: - | G14: - | H14: - | I14: - | J14: - | K14: - | L14: - | M14: - | N14: -
A15: Pozostałe całkowite dochody za rok obrotowy (netto) | B15: - | C15: - | D15: - | E15: - | F15: - | G15: - | H15: - | I15: - | J15: - | K15: - | L15: - | M15: - | N15: -
A16: Suma całkowitych dochodów | B16: - | C16: - | D16: - | E16: - | F16: - | G16: - | H16: - | I16: - | J16: - | K16: - | L16: - | M16: - | N16: -
A17: Pozostałe całkowite dochody za rok obrotowy (netto) | B17: - | C17: - | D17: - | E17: - | F17: - | G17: - | H17: - | I17: - | J17: - | K17: - | L17: - | M17: - | N17: -
A18: Ujęcie płatności dokonywanych na bazie akcji | B18: - | C18: - | D18: - | E18: - | F18: - | G18: - | H18: - | I18: - | J18: - | K18: - | L18: - | M18: - | N18: -
A19: Emisja akcji zwykłych | B19: - | C19: - | D19: - | E19: - | F19: - | G19: - | H19: - | I19: - | J19: - | K19: - | L19: - | M19: - | N19: -
A20: Emisja akcji zwykłych w ramach planu pracowniczych opcji na akcje | B20: - | C20: - | D20: - | E20: - | F20: - | G20: - | H20: - | I20: - | J20: - | K20: - | L20: - | M20: - | N20: -
A21: Emisja akcji zwykłych z tytułu świadczonych usług doradczych | B21: - | C21: - | D21: - | E21: - | F21: - | G21: - | H21: - | I21: - | J21: - | K21: - | L21: - | M21: - | N21: -
A22: Emisja zamiennych akcji preferencyjnych bez prawa do głosu | B22: - | C22: - | D22: - | E22: - | F22: - | G22: - | H22: - | I22: - | J22: - | K22: - | L22: - | M22: - | N22: -
A23: Emisja obligacji zamiennych | B23: - | C23: - | D23: - | E23: - | F23: - | G23: - | H23: - | I23: - | J23: - | K23: - | L23: - | M23: - | N23: -
A24: Koszty emisji akcji | B24: - | C24: - | D24: - | E24: - | F24: - | G24: - | H24: - | I24: - | J24: - | K24: - | L24: - | M24: - | N24: -
A25: Odkup akcji zwykłych | B25: - | C25: - | D25: - | E25: - | F25: - | G25: - | H25: - | I25: - | J25: - | K25: - | L25: - | M25: - | N25: -
... A28: Przeniesienie do zysków zatrzymanych | B28: - | C28: - | D28: - | E28: - | F28: - | G28: - | H28: - | I28: - | J28: - | K28: - | L28: - | M28: - | N28: -
A29: Z podziału zysku | B29: - | C29: - | D29: - | E29: - | F29: - | G29: - | H29: - | I29: - | J29: - | K29: - | L29: - | M29: - | N29: =K29 -> -
A30: Przeniesienie na kapitał zapasowy | B30: - | C30: - | D30: - | E30: - | F30: - | G30: - | H30: - | I30: - | J30: - | K30: - | L30: - | M30: - | N30: =K30 -> -
A31: Pokrycie strat z lat poprzednich | B31: 0 | C31: 0 | D31: 0 | E31: 0 | F31: 0 | G31: 0 | H31: 0 | I31: 0 | J31: - | K31: - | L31: - | N31: =K31 -> -
A32: Wypłata dywidendy | B32: - | C32: - | D32: - | E32: - | F32: - | G32: - | H32: - | I32: - | J32: - | K32: - | L32: - | N32: =K32 -> -
A33: Zysk dot. lat poprzednich jako skutek przejścia na MSSF | B33: - | C33: - | D33: - | E33: - | F33: - | G33: - | H33: - | I33: - | J33: - | K33: - | L33: - | N33: =K33 -> -
A34: Przeniesienie na kapitał zapasowy | B34: - | C34: - | D34: - | E34: - | F34: - | G34: - | H34: - | I34: - | J34: - | K34: - | L34: - | N34: =K34 -> -
A35: Podatek dochodowy związany z transakcjami z właścicielami | B35: - | C35: - | D35: - | E35: - | F35: - | G35: - | H35: - | I35: - | J35: - | K35: - | L35: - | M35: - | N35: =K35 -> -
A36: Stan na 31 marca 2018 roku | B36: =B13 -> 3707 | C36: =C13 -> 38412 | D36: =D13 -> - | E36: =E13 -> - | F36: =F13 -> - | G36: =G13 -> - | H36: =H13 -> - | I36: =I13 -> - | ... L36: =L13 -> 39611 | M36: - | N36: =B36+C36+K36 -> 81730
A38: SKONSOLIDOWANE SPRAWOZDANIE ZE ZMIAN W KAPITALE WŁASNYM ZA OKRES SPRAWOZDAWCZY KOŃCZĄCY SIĘ 31 MARCA 2019 ROKU - [C.D.]
B39: tys.PLN
B40: Kapitał podstawowy | C40: Nadwyżka ze sprzedaży akcji | D40: Kapitał rezerwowy ogółem | E40: Kapitał rezerwowy z przeszac. Rzeczowych aktywów trwałych | F40: Kapitał rezerwowy z przeszac. Inwestycji | G40: Kapitał rezerwowy na świadczenia pracownicze rozliczane instrumentami kapitałowymi | H40: Kapitał rezerwowy na zabezpieczenia | I40: Kapitał rezerwowy z przewalutowania | J40: Nadwyżka ze sprzedaży opcji na obligacje zamienne | K40: Zyski zatrzymane | L40: Przypadające akcjonariuszom jednostki dominującej | M40: Przypadające udziałom niedającym kontroli | N40: Razem
A42: Stan na 1 stycznia 2019 roku (z poprzedniego sprawozdania) | B42: 3707 | C42: 38412 | D42: - | E42: - | F42: - | G42: - | H42: - | I42: - | J42: - | K42: ='S Bilans'!D34/1000 -> 44612 | L42: =K42 -> 44612 | M42: - | N42: =SUM(B42:K42) -> 86731
A43: Przekształcenia | B43: - | C43: - | D43: - | E43: - | F43: - | G43: - | H43: - | I43: - | J43: - | K43: - | L43: - | M43: - | N43: -
A44: Stan na 1 stycznia 2019 roku (po przekształceniach) | B44: 3707 | C44: 38412 | D44: - | E44: - | F44: - | G44: - | H44: - | I44: - | J44: - | K44: ='S Bilans'!D34/1000 -> 44612 | L44: =L42 -> 44612 | M44: - | N44: =B44+C44+K44 -> 86731
...

Sheet J Bilans 
A1: SKRÓCONE JEDNOSTKOWE SPRAWOZDANIE FINANSOWE AILLERON SA ZA I KWARTAŁ 2019 ROKU ZAKOŃCZONY 31/03/2019
A2: SPORZĄDZONE WEDŁUG MIĘDZYNARODOWYCH STANDARDÓW SPRAWOZDAWCZOŚCI FINANSOWEJ
A4: JEDNOSTKOWE SPRAWOZDANIE Z SYTUACJI FINANSOWEJ NA DZIEŃ 31.03.2019 ROKU
A5: Aktywa | B5: Nota | C5: tys. PLN
C6: Stan na 31/03/2019 | D6: Stan na 31/12/2018 | E6: Stan na 31/03/2018
A7: AKTYWA TRWAŁE | C7: =SUM(C8:C16) -> 48963000 | D7: =SUM(D8:D16) -> 49302000 | E7: =SUM(E8:E16) -> 51595000
A8: Rzeczowe aktywa trwałe | C8: 11752000 | D8: 11486000 | E8: 13013000
A9: Nieruchomości inwestycyjne | C9: 0
A10: Wartość firmy | C10: 27433000 | D10: 27433000 | E10: 27433000
A11: Pozostałe aktywa niematerialne | C11: 5106000 | D11: 5564000 | E11: 5768000
A12: Inwestycje w jednostkach zależnych | C12: 3551000 | D12: 3551000 | E12: 3476000
A13: Aktywa z tytułu podatku odroczonego | C13: 1121000 | D13: 1268000 | E13: 1905000
A14: Należności z tytułu leasingu finansowego
A15: Pozostałe aktywa finansowe | C15: 0 | D15: 0 | E15: 0
A16: Pozostałe aktywa | C16: 0 | D16: 0 | E16: 0
A17: AKTYWA OBROTOWE | C17: =SUM(C18:C27) -> 57075000 | D17: =SUM(D18:D27) -> 73458000 | E17: =SUM(E18:E27) -> 55849000
A18: Zapasy | C18: 9285000 | D18: 8580000 | E18: 7680000
A19: Należności z tytułu dostaw i usług oraz pozostałe należności | C19: 25582000 | D19: 47469000 | E19: 16103000
A20: Należności z tytułu leasingu finansowego
A21: Należności z tytułu kontraktów budowlanych
A22: Należności z tytułu kontraktów budowlanych i podobne | C22: 15069000 | D22: 11401000 | E22: 15039000
A23: Pozostałe aktywa finansowe | C23: 1273000 | D23: 888000 | E23: 686000
A24: Bieżące aktywa podatkowe | C24: 911000 | D24: 1212000 | E24: 708000
A25: Pozostałe aktywa | C25: 0 | D25: 0 | E25: 0
A26: Środki pieniężne i ich ekwiwalenty | C26: 4955000 | D26: 3908000 | E26: 15633000
A27: Aktywa klasyfikowane jako przeznaczone do zbycia | C27: 0 | D27: 0 | E27: 0
A28: AKTYWA RAZEM | C28: =SUM(C7,C17) -> 106038000 | D28: =SUM(D7,D17) -> 122760000 | E28: =SUM(E7,E17) -> 107444000
A30: JEDNOSTKOWE SPRAWOZDANIE Z SYTUACJI FINANSOWEJ NA DZIEŃ 30.06.2018 ROKU -C.D.
A31: PASYWA | B31: Nota | C31: tys. PLN
C32: =C6 -> Stan na 31/03/2019 | D32: =D6 -> Stan na 31/12/2018 | E32: =E6 -> Stan na 31/03/2018
A33: KAPITAŁ WŁASNY | C33: =SUM(C34:C38) -> 72939000 | D33: =SUM(D34:D38) -> 74020000 | E33: =SUM(E34:E38) -> 71117000
A34: Kapitał akcyjny | C34: 3707000 | D34: 3707000 | E34: 3707000
A35: Nadwyżka ze sprzedaży akcji | C35: 38412000 | D35: 38412000 | E35: 38412000
A36: Zyski zatrzymane | C36: 30820000 | D36: 31901000 | E36: 28998000
A37: Wynik wycen odnoszonych bezpośrednio poprzez kapitał własny | C37: 0 | D37: 0 | E37: 0
A38: Kwoty ujęte bezpośrednio w kapitale, związane z aktywami klasyfikowanymi jako przeznaczone do zbycia | C38: 0 | D38: 0 | E38: 0
A39: ZOBOWIĄZANIA | C39: =SUM(C40,C50) -> 33099000 | D39: =SUM(D40,D50) -> 48740000 | E39: =SUM(E40,E50) -> 36327000
A40: Zobowiązania długoterminowe | C40: =SUM(C41:C49) -> 11858000 | D40: =SUM(D41:D49) -> 12900000 | E40: =SUM(E41:E49) -> 18300000
A41: Długoterminowe zobowiązania z tyt. obligacji i umowy leasingu | C41: 764000 | D41: 794000 | E41: 1036000
A42: Długoterminowe zobowiązania finansowe z tyt kredytów | C42: 3868000 | D42: 4657000 | E42: 6735000
...

Sheet J RZiS 
A1: JEDNOSTKOWY RACHUNEK ZYSKÓW I STRAT ORAZ SPRAWOZDANIE Z POZOSTAŁYCH CAŁKOWITYCH DOCHODÓW ZA OKRES 01.01.2019 - 31.03.2019
A2: Wariant kalkulacyjny | C2: tys.PLN
C3: 3 miesięce zakończone 31/03/2019 | D3: 3 miesięce zakończone 31/03/2018
A4: Działalność kontynuowana
A5: Przychody ze sprzedaży | C5: =SUM(C6:C8) -> 26084000 | D5: =SUM(D6:D8) -> 19998000
A6: Przychody ze sprzedaży wyrobów | C6: 0
A7: Przychody ze sprzedaży usług | C7: 23922000 | D7: 19840000
A8: Przychody ze sprzedaży towarów i materiałów | C8: 2162000 | D8: 158000
A9: Koszt własny sprzedaży (koszt sprzedanych produktów, usług, towarów i materiałów) | C9: =SUM(C10:C12) -> 21013000 | D9: =SUM(D10:D12) -> 15033000
A10: Koszt wytworzenia sprzedanych wyrobów | C10: 0 | D10: 0
A11: Koszt sprzedanych usług | C11: 19028000 | D11: 14964000
A12: Koszt sprzedanych towarów i materiałów | C12: 1985000 | D12: 69000
A13: Zysk (strata) brutto ze sprzedaży | C13: =SUM(C5,-C9) -> 5071000 | D13: =SUM(D5,-D9) -> 4965000
A14: Koszty sprzedaży | C14: 3565000 | D14: 2934000
A15: Koszty ogólnego zarządu | C15: 2268000 | D15: 1832000
A16: Pozostałe przychody operacyjne | C16: 19000 | D16: 86000
A17: Pozostałe koszty operacyjne | C17: 0 | D17: 12000
A18: Zysk (strata) na działalności operacyjnej | C18: =C13-C14-C15+C16-C17 -> -743000 | D18: =D13-D14-D15+D16-D17 -> 273000
A19: Przychody finansowe | C19: 9000 | D19: 16000
A20: Koszty finansowe | C20: 208000 | D20: 98000
A21: Udział w zyskach jednostek stowarzyszonych | C21: 0 | D21: 0
A22: Zysk ze sprzedaży udziałów w jednostce stowarzyszonej | C22: 0 | D22: 0
A23: Inne (opisać)
A24: Zysk (strata) przed opodatkowaniem | C24: =C18+C19-C20+C21+C22+C23 -> -942000 | D24: =D18+D19-D20+D21+D22+D23 -> 191000
A25: Podatek dochodowy | C25: 139000 | D25: 19000
A26: część bieżąca | C26: 55000 | D26: 22000
A27: część odroczona | C27: 84000 | D27: -3000
A28: Zysk (strata) netto z działalności kontynuowanej | C28: =C24-C25 -> -1081000 | D28: =D24-D25 -> 172000
A29: Działalność zaniechana
A30: Zysk (strata) netto z działalności zaniechanej
A31: ZYSK (STRATA) NETTO | C31: =SUM(C28,C30) -> -1081000 | D31: =SUM(D28,D30) -> 172000
A33: JEDNOSTKOWY RACHUNEK ZYSKÓW I STRAT ORAZ SPRAWOZDANIE Z POZOSTAŁYCH CAŁKOWITYCH DOCHODÓW ZA OKRES 01.01.2018 - 30.06.2018 - [C.D.]
C34: tys.PLN
C35: 6 miesięcy zakończonych 30/06/2018 | D35: 6 miesięcy zakończonych 30/06/2017
A36: Zysk (strata) netto, z tego przypadający: | C36: =C31 -> -1081000 | D36: =D31 -> 172000
A37: - akcjonariuszom podmiotu dominującego | C37: =C36 -> -1081000 | D37: =D36 -> 172000
A38: - akcjonariuszom mniejszościowym | C38: -3 | D38: -2
A39: Zysk (strata) netto na jedną akcję zwykłą
A40: (w zł/gr na jedną akcję):
A41: z działalności kontynuowanej
...

Sheet J CF 
A1: JEDNOSTKOWY RACHUNEK PRZEPŁYWÓW PIENIĘŻNYCH ZA OKRES 01.01.2019 - 31.03.2019
B2: tys.PLN
B3: 3 miesięce zakończone 31/03/2019 | C3: 3 miesięce zakończone 31/03/2018
A4: Przepływy pieniężne z działalności operacyjnej
A5: Zysk za rok obrotowy | B5: ='J RZiS '!C36 -> -1081000 | C5: ='J RZiS '!D36 -> 172000
A6: Korekty: Koszt podatku dochodowego ujęty w wyniku | B6: ='J RZiS '!C25 -> 139000 | C6: ='J RZiS '!D25 -> 19000
A7: Udział w zysku jednostek stowarzyszonych | B7: 0 | C7: 0
A8: Koszty finansowe ujęte w wyniku | B8: 34000 | C8: 26000
A9: Przychody z inwestycji ujęte w wyniku | B9: 0 | C9: 0
A10: Zysk ze zbycia składników rzeczowych aktywów trwałych | B10: 0 | C10: -11000
A11: Zysk/strata z tytułu likwidacji środków trwałych | B11: 0 | C11: 2000
A12: Zysk/strata z tytułu zmiany przeznaczenia środków trwałych | B12: 0 | C12: 0
A13: (Zysk) / strata netto z wyceny zobowiązań finansowych wycenianych w skorygowanej cenie nabycia | B13: 0 | C13: 0
A14: (Zysk)/strata ze zbycia jednostki zależnej | B14: 0 | C14: 0
A15: (Zysk) / strata netto z wyceny zobowiązań finansowych wycenianych w wartości godziwej przez wynik | B15: 0 | C15: 0
A16: (Zysk) / strata netto z wyceny aktywów finansowych przeznaczonych do obrotu | B16: 0 | C16: 0
A17: (Zysk) / strata netto z wyceny zobowiązań finansowych przeznaczonych do obrotu | B17: 0 | C17: 0
A18: Nieefektywna część zabezpieczenia przepływów pieniężnych | B18: 0 | C18: 0
... A31: Zysk z efektywnego rozliczenia roszczeń wobec spółki | B31: 0 | C31: 0
B32: =SUM(B5:B31) -> 1346000 | C32: =SUM(C5:C31) -> 2230000
A33: Zmiany w kapitale obrotowym: | B33: 0 | C33: 0
A34: (Zwiększenie) / zmniejszenie salda należności z tytułu dostaw i usług oraz pozostałych należności | B34: 22187000 | C34: 21378000
A35: (Zwiększenie) / zmniejszenie należności z tytułu kontraktów budowlanych | B35: -3668000 | C35: -4382000
A36: (Zwiększenie) / zmniejszenie stanu zapasów | B36: -705000 | C36: -822000
A37: (Zwiększenie) / zmniejszenie pozostałych aktywów | B37: 147000 | C37: 156000
A38: Zmniejszenie salda zobowiązań z tytułu dostaw i usług oraz pozostałych zobowiązań podatkowych | B38: -13130000 | C38: -6594000
A39: Zwiększenie / (zmniejszenie) zobowiązań z tytułu kontraktów budowlanych | B39: -139000 | C39: -295000
A40: Zwiększenie / (zmniejszenie) rezerw | B40: -64000 | C40: -158000
A41: Zwiększenie / (zmniejszenie) przychodów przyszłych okresów | B41: -891000 | C41: 0
A42: Zwiększenie / (zmniejszenie) pozostałych zobowiązań | B42: -449000 | C42: 125000
A43: Środki pieniężne wygenerowane na działalności operacyjnej | B43: =SUM(B32:B42) -> 4634000 | C43: =SUM(C32:C42) -> 11638000
A44: Zapłacone odsetki | B44: -208000 | C44: -98000
A45: Zapłacony podatek dochodowy | B45: -672000 | C45: -316000
A46: ŚRODKI PIENIĘŻNE NETTO Z DZIAŁALNOŚCI OPERACYJNEJ | B46: =B43+B44+B45 -> 3754000 | C46: =C43+C44+C45 -> 11224000
A48: JEDNOSTKOWY RACHUNEK PRZEPŁYWÓW PIENIĘŻNYCH - [C.D.]
B49: tys.PLN
B50: 6 miesięcy zakończonych 30/06/2018 | C50: 6 miesięcy zakończonych 30/06/2017
A51: JEDNOSTKOWY RACHUNEK PRZEPŁYWÓW PIENIĘŻNYCH - [C.D.]
B52: tys.PLN
B53: 3 miesięce zakończone 31/03/2019 | C53: 3 miesięce zakończone 31/03/2018
...

Sheet J ZZK
A1: JEDNOSTKOWE SPRAWOZDANIE ZE ZMIAN W KAPITALE WŁASNYM ZA OKRES SPRAWOZDAWCZY KOŃCZĄCY SIĘ 31 MARCA 2019 ROKU
B2: tys.PLN
B3: Kapitał podstawowy | C3: Nadwyżka ze sprzedaży akcji | D3: Kapitał rezerwowy ogółem | E3: Kapitał rezerwowy z przeszac. Rzeczowych aktywów trwałych | F3: Kapitał rezerwowy z przeszac. Inwestycji | G3: Kapitał rezerwowy na świadczenia pracownicze rozliczane instrumentami kapitałowymi | H3: Kapitał rezerwowy na zabezpieczenia | I3: Kapitał rezerwowy z przewalutowania | J3: Nadwyżka ze sprzedaży opcji na obligacje zamienne | K3: Zyski zatrzymane | L3: Przypadające akcjonariuszom jednostki dominującej | M3: Przypadające udziałom niedającym kontroli | N3: Razem
A4: Stan na 1 stycznia 2018 roku (z poprzedniego sprawozdania) | B4: 3707000 | C4: 38412000 | D4: 0 | E4: 0 | F4: 0 | G4: 0 | H4: 0 | I4: 0 | J4: 0 | K4: 28826000 | L4: 28826000 | M4: 0 | N4: =SUM(B4:K4) -> 70945000
A5: Przekształcenia | B5: 0 | C5: 0 | D5: 0 | E5: 0 | F5: 0 | G5: 0 | H5: 0 | I5: 0 | J5: 0 | L5: 0 | M5: 0 | N5: 0
A6: Stan na 1 stycznia 2018 roku (po przekształceniach) | B6: =B4 -> 3707000 | C6: =C4 -> 38412000 | D6: 0 | E6: 0 | F6: 0 | G6: 0 | H6: 0 | I6: 0 | J6: 0 | K6: =K4 -> 28826000 | L6: =L4 -> 28826000 | M6: 0 | N6: =N4 -> 70945000
A7: Zysk netto za rok obrotowy | B7: 0 | C7: 0 | D7: 0 | E7: 0 | F7: 0 | G7: 0 | H7: 0 | I7: 0 | J7: 0 | K7: 172000 | L7: 172000 | M7: 0 | N7: =SUM(B7:K7) -> 172000
A8: Pozostałe całkowite dochody za rok obrotowy (netto) | B8: 0 | C8: 0 | D8: 0 | E8: 0 | F8: 0 | G8: 0 | H8: 0 | I8: 0 | J8: 0 | K8: 0 | L8: 0 | M8: 0 | N8: 0
A9: Suma całkowitych dochodów | D9: =D7+D8 -> 0 | E9: =E7+E8 -> 0 | F9: =F7+F8 -> 0 | G9: =G7+G8 -> 0 | H9: =H7+H8 -> 0 | I9: =I7+I8 -> 0 | J9: =J7+J8 -> 0 | K9: =K7+K8 -> 172000 | ... M9: =M7+M8 -> 0 | N9: =SUM(B9:K9) -> 172000
A10: Wykorzystanie rezerwy w ramach planu pracowniczych opcji na akcję | B10: 0 | C10: 0 | D10: 0 | E10: 0 | F10: 0 | G10: 0 | H10: 0 | I10: 0 | J10: 0 | K10: 0 | L10: 0 | M10: 0 | N10: =SUM(B10:K10) -> 0
A11: Ujęcie płatności dokonywanych na bazie akcji | B11: 0 | C11: 0 | D11: 0 | E11: 0 | F11: 0 | G11: 0 | H11: 0 | I11: 0 | J11: 0 | K11: 0 | L11: 0 | M11: 0 | N11: 0
A12: Wypłata dywidendy | B12: 0 | C12: 0 | D12: 0 | E12: 0 | F12: 0 | G12: 0 | H12: 0 | I12: 0 | J12: 0 | K12: 0 | L12: 0 | M12: 0 | N12: =L12 -> 0
A13: =[1]ZZKW_s!A13 -> Stan na 31 marca 2018 roku | B13: =B6 -> 3707000 | C13: =C6 -> 38412000 | D13: =D6+D9 -> 0 | E13: =E6+E9 -> 0 | F13: =F6+F9 -> 0 | G13: =G6+G9 -> 0 | H13: =H6+H9 -> 0 | I13: =I6+I9 -> 0 | J13: =J6+J9 -> 0 | K13: =K9+K6-K12 -> 28998000 | L13: =L9+L6-L12 -> 28998000 | M13: =M6+M9 -> 0 | N13: =SUM(B13:K13) -> 71117000
A14: Zysk netto za rok obrotowy | B14: 0 | C14: 0 | D14: 0 | E14: 0 | F14: 0 | G14: 0 | H14: 0 | J14: 0 | K14: 0 | L14: 0 | M14: 0
A15: Pozostałe całkowite dochody za rok obrotowy (netto) | B15: 0 | C15: 0 | D15: 0 | E15: 0 | F15: 0 | G15: 0 | H15: 0 | I15: 0 | J15: 0 | K15: 0 | L15: 0 | M15: 0 | N15: 0
A16: Suma całkowitych dochodów | B16: =B14+B15 -> 0 | C16: =C14+C15 -> 0 | D16: =D14+D15 -> 0 | E16: =E14+E15 -> 0 | F16: =F14+F15 -> 0 | G16: =G14+G15 -> 0 | H16: =H14+H15 -> 0 | I16: =I14+I15 -> 0 | ... N16: =N14+N15 -> 0
A17: Pozostałe całkowite dochody za rok obrotowy (netto) | B17: 0 | C17: 0 | D17: 0 | E17: 0 | F17: 0 | G17: 0 | H17: 0 | I17: 0 | J17: 0 | K17: 0 | L17: 0 | M17: 0 | N17: 0
A18: Ujęcie płatności dokonywanych na bazie akcji | B18: 0 | C18: 0 | D18: 0 | E18: 0 | F18: 0 | G18: 0 | H18: 0 | I18: 0 | J18: 0 | K18: 0 | L18: 0 | M18: 0 | N18: 0
A19: Emisja akcji zwykłych | B19: 0 | C19: 0 | D19: 0 | E19: 0 | F19: 0 | G19: 0 | H19: 0 | I19: 0 | J19: 0 | K19: 0 | L19: 0 | M19: 0 | N19: 0
A20: Emisja akcji zwykłych w ramach planu pracowniczych opcji na akcje | B20: 0 | C20: 0 | D20: 0 | E20: 0 | F20: 0 | G20: 0 | H20: 0 | I20: =G20-K20 -> 0 | J20: 0 | K20: 0 | L20: 0 | M20: 0 | N20: 0
A21: Emisja akcji zwykłych z tytułu świadczonych usług doradczych | B21: 0 | C21: 0 | D21: 0 | E21: 0 | F21: 0 | G21: 0 | H21: 0 | I21: 0 | J21: 0 | K21: 0 | L21: 0 | M21: 0 | N21: 0
A22: Emisja zamiennych akcji preferencyjnych bez prawa do głosu | B22: 0 | C22: 0 | D22: 0 | E22: 0 | F22: 0 | G22: 0 | H22: 0 | I22: =G22-K22 -> 0 | J22: 0 | K22: 0 | L22: 0 | M22: 0 | N22: 0
A23: Emisja obligacji zamiennych | B23: 0 | C23: 0 | D23: 0 | E23: 0 | F23: 0 | G23: 0 | H23: 0 | I23: =G23-K23 -> 0 | J23: 0 | K23: 0 | L23: 0 | M23: 0 | N23: 0
A24: Koszty emisji akcji | B24: 0 | C24: 0 | D24: 0 | E24: 0 | F24: 0 | G24: 0 | H24: 0 | I24: =G24-K24 -> 0 | J24: 0 | K24: 0 | L24: 0 | M24: 0 | N24: =SUM(B24:K24) -> 0
A25: Odkup akcji zwykłych | B25: 0 | C25: 0 | D25: 0 | E25: 0 | F25: 0 | G25: 0 | H25: 0 | I25: 0 | J25: 0 | K25: 0 | L25: 0 | M25: 0 | N25: 0
A26: Koszty odkupu akcji zwykłych | B26: 0 | C26: 0 | D26: 0 | E26: 0 | F26: 0 | G26: 0 | H26: 0 | I26: =G26-K26 -> 0 | J26: 0 | K26: 0 | L26: 0 | M26: 0 | N26: 0
A27: Emisja akcji powyżej ceny nominalnej | B27: 0 | C27: 0 | D27: 0 | E27: 0 | F27: 0 | G27: 0 | H27: 0 | I27: 0 | J27: 0 | K27: 0 | L27: =K27 -> 0 | N27: =SUM(B27:K27) -> 0
A28: Przeniesienie do zysków zatrzymanych | B28: 0 | C28: 0 | D28: 0 | E28: 0 | F28: 0 | G28: 0 | H28: 0 | I28: 0 | J28: 0 | K28: 0 | L28: 0 | M28: 0 | N28: 0
A29: Z podziału zysku | B29: 0 | C29: 0 | D29: 0 | E29: 0 | F29: 0 | G29: 0 | H29: 0 | I29: 0 | J29: 0 | K29: 0 | L29: 0 | M29: 0 | N29: =L29 -> 0
A30: Przeniesienie na kapitał zapasowy | B30: 0 | C30: 0 | D30: 0 | E30: 0 | F30: 0 | G30: 0 | H30: 0 | I30: 0 | J30: 0 | K30: 0 | L30: 0 | N30: =L30 -> 0
A31: Przeniesienie na rozrachunki z tyt. Dywidendy | B31: 0 | C31: 0 | D31: 0 | E31: 0 | F31: 0 | G31: 0 | H31: 0 | I31: 0 | J31: 0 | K31: 0 | L31: 0 | M31: 0 | N31: =L31 -> 0
A32: Zysk dot. lat poprzednich jako skutek przejścia na MSSF | B32: 0 | C32: 0 | D32: 0 | E32: 0 | F32: 0 | G32: 0 | H32: 0 | I32: 0 | J32: 0 | K32: 0 | L32: 0 | M32: 0 | N32: =L32 -> 0
A33: Przeniesienie na kapitał zapasowy | B33: 0 | C33: 0 | D33: 0 | E33: 0 | F33: 0 | G33: 0 | H33: 0 | I33: 0 | J33: 0 | K33: 0 | L33: 0 | M33: 0 | N33: =L33 -> 0
A34: Podatek dochodowy związany z transakcjami z właścicielami | B34: 0 | C34: 0 | D34: 0 | E34: 0 | F34: 0 | G34: 0 | H34: 0 | I34: 0 | J34: 0 | K34: 0 | L34: 0 | M34: 0 | N34: 0
A35: =A13 -> Stan na 31 marca 2018 roku | B35: =SUM(B13,B19,B16,B17,B18,B55,B21,B22,B23,B24,B25,B26,B28,B34,B20) -> 3707000 | C35: =SUM(C13,C19,C16,C17,C18,C55,C21,C22,C23,C24,C25,C26,C28,C34,C20) -> 38412000 | D35: =SUM(D13,D19,D16,D17,D18,D55,D21,D22,D23,D24,D25,D26,D28,D34,D20) -> 0 | E35: =SUM(E13,E19,E16,E17,E18,E55,E21,E22,E23,E24,E25,E26,E28,E34,E20) -> 0 | F35: =SUM(F13,F19,F16,F17,F18,F55,F21,F22,F23,F24,F25,F26,F28,F34,F20) -> 0 | G35: =SUM(G13,G19,G16,G17,G18,G55,G21,G22,G23,G24,G25,G26,G28,G34,G20) -> 0 | H35: =SUM(H13,H19,H16,H17,H18,H55,H21,H22,H23,H24,H25,H26,H28,H34,H20) -> 0 | I35: =SUM(I13,I19,I16,I17,I18,I55,I21,I22,I23,I24,I25,I26,I28,I34,I20) -> 0 | J35: =SUM(J13,J19,J16,J17,J18,J55,J21,J22,J23,J24,J25,J26,J28,J34,J20) -> 0 | K35: =SUM(K13:K34) -> 28998000 | L35: =SUM(L13:L34) -> 28998000 | M35: =SUM(M13:M34) -> 0 | N35: =SUM(N13:N34) -> 71117000
A37: JEDNOSTKOWE SPRAWOZDANIE ZE ZMIAN W KAPITALE WŁASNYM ZA OKRES SPRAWOZDAWCZY KOŃCZĄCY SIĘ 31 MARCA 2019 ROKU - C.D.
B38: tys.PLN
B39: Kapitał podstawowy | C39: Nadwyżka ze sprzedaży akcji | D39: Kapitał rezerwowy ogółem | E39: Kapitał rezerwowy z przeszac. Rzeczowych aktywów trwałych | F39: Kapitał rezerwowy z przeszac. Inwestycji | G39: Kapitał rezerwowy na świadczenia pracownicze rozliczane instrumentami kapitałowymi | H39: Kapitał rezerwowy na zabezpieczenia | I39: Kapitał rezerwowy z przewalutowania | J39: Nadwyżka ze sprzedaży opcji na obligacje zamienne | K39: Zyski zatrzymane | L39: Przypadające akcjonariuszom jednostki dominującej | M39: Przypadające udziałom niedającym kontroli | N39: Razem
A40: Stan na 1 stycznia 2019 roku (z poprzedniego sprawozdania) | B40: 3707000 | C40: 38412000 | D40: 0 | E40: 0 | F40: 0 | G40: 0 | H40: 0 | I40: 0 | J40: 0 | K40: 31901000 | L40: 31901000 | M40: 0 | N40: =SUM(B40:K40) -> 74020000
A41: Przekształcenia | B41: 0 | C41: 0 | D41: 0 | E41: 0 | F41: 0 | G41: 0 | H41: 0 | I41: 0 | J41: 0 | K41: 0 | L41: 0 | M41: 0 | N41: 0
...
