Workbook
Name _a: #REF!
Name _B: #REF!
Name _cop: #REF!
Name _N: #REF!
Name _r1: #REF!
Name _R1_Nieodlaczne: #REF!
Name _R1_Nieodlaczne: #REF!
Name _R1_Nieodlaczne: #REF!
Name _R1_Nieodlaczne: #REF!
Name _R1_Nieodlaczne: #REF!
Name _R1_Nieodlaczne: #REF!
Name _R1_Nieodlaczne: #REF!
Name _R1_Nieodlaczne: #REF!
Name _R2: #REF!
Name _R2_Kontrolwewn: #REF!
Name _R2_Kontrolwewn: #REF!
Name _R2_Kontrolwewn: #REF!
Name _R2_Kontrolwewn: #REF!
Name _R2_Kontrolwewn: #REF!
Name _R2_Kontrolwewn: #REF!
Name _R2_Kontrolwewn: #REF!
Name _R2_Kontrolwewn: #REF!
Name _r3: #REF!
Name _R3_Analityczne: #REF!
Name _R3_Analityczne: #REF!
Name _R3_Analityczne: #REF!
Name _R3_Analityczne: #REF!
Name _R3_Analityczne: #REF!
Name _R3_Analityczne: #REF!
Name _R3_Analityczne: #REF!
Name _R3_Analityczne: #REF!
Name aa: [2]SF!$C$201:$D$203,[2]SF!$C$205:$D$207,[2]SF!$C$209:$D$210,[2]SF!$C$213:$D$215,[2]SF!$C$217:$D$219,[2]SF!$C$222:$D$228,[2]SF!$C$230:$D$234,[2]SF!$C$237:$D$238,[2]SF!$C$240:$D$241
Name aaa: #REF!
Name aaa: #REF!
Name adres: [10]WSTĘP!$IU$5
Name adres: [3]WSTĘP!$IU$5
Name ala: [11]WSTĘP!$IU$9
Name ala: [4]WSTĘP!$IU$9
Name B.O.: [10]WSTĘP!$IU$13
Name B.O.: [3]WSTĘP!$IU$13
Name B.Z.: [10]WSTĘP!$IU$9
Name B.Z.: [3]WSTĘP!$IU$9
Name bbb: #REF!
Name bbb: #REF!
Name COP: #REF!
Name COP_: #REF!
Name Dane_kalkulacyjny: [5]SF!$C$201:$D$203,[5]SF!$C$205:$D$207,[5]SF!$C$209:$D$210,[5]SF!$C$213:$D$215,[5]SF!$C$217:$D$219,[5]SF!$C$222:$D$228,[5]SF!$C$230:$D$234,[5]SF!$C$237:$D$238,[5]SF!$C$240:$D$241
Name Dane_porównawczy: [5]SF!$C$147:$D$151,[5]SF!$C$153:$D$161,[5]SF!$C$164:$D$166,[5]SF!$C$168:$D$170,[5]SF!$C$173:$D$179,[5]SF!$C$181:$D$185,[5]SF!$C$188:$D$189,[5]SF!$C$191:$D$192
Name Dane_RZiS_1.Rodz.: [6]SF!$C$105:$D$108,[6]SF!$C$110:$D$117,[6]SF!$C$120:$D$122,[6]SF!$C$124:$D$125,[6]SF!$C$128:$D$131,[6]SF!$C$133:$D$136,[6]SF!$C$138:$D$139,[6]SF!$C$142:$D$143
Name Dane_RZiS_2.Kalk.: [6]SF!$C$151,[6]SF!$C$151:$D$152,[6]SF!$C$154:$D$155,[6]SF!$C$157:$D$158,[6]SF!$C$161:$D$163,[6]SF!$C$165:$D$166,[6]SF!$C$169:$D$172,[6]SF!$C$174:$D$177,[6]SF!$C$179:$D$180,[6]SF!$C$183:$D$184
Name DataZatw: [7]Wstęp!$CI$88
Name DataZatw: [7]Wstęp!$CI$88
Name DataZatw: [7]Wstęp!$CI$88
Name DataZatw: [7]Wstęp!$CI$88
Name DataZatw: [8]Wstęp!$CI$88
Name DB: [9]P1!$AX$126
Name FromaPrawna: [10]WSTĘP!$IU$3
Name FromaPrawna: [3]WSTĘP!$IU$3
Name kodmiejscowość: [10]WSTĘP!$IU$6
Name kodmiejscowość: [3]WSTĘP!$IU$6

Sheet S Bilans
A1: SKRÓCONE SKONSOLIDOWANE SPRAWOZDANIE FINANSOWE GRUPY KAPITAŁOWEJ AILLERON SA ZA I KWARTAŁ 2019 ROKU ZAKOŃCZONY 31/03/2019
A2: SPORZĄDZONE WEDŁUG MIĘDZYNARODOWYCH STANDARDÓW SPRAWOZDAWCZOŚCI FINANSOWEJ
A3: SKONSOLIDOWANE SPRAWOZDANIE Z SYTUACJI FINANSOWEJ
A4: Aktywa | B4: Nota | C4: tys. PLN
C5: Stan na 31/03/2019 | D5: Stan na 31/12/2018 | E5: Stan na 31/03/2018
A6: AKTYWA TRWAŁE | C6: =SUM(C7:C14) -> 56742000 | D6: 57119000 | E6: =SUM(E7:E14) -> 59246000
A7: Rzeczowe aktywa trwałe | B7: 10 | C7: 11941000 | D7: 11668000 | E7: 13025000
A8: Nieruchomości inwestycyjne | C8: 0 | D8: 0 | E8: 0
A9: Wartość firmy | B9: 11 | C9: 38379000 | D9: 38379000 | E9: 38379000
A10: Pozostałe aktywa niematerialne | C10: 5162000 | D10: 5636000 | E10: 5853000
A11: Inwestycje w jednostkach stowarzyszonych /podporządkowanych | C11: 130000 | D11: 129000 | E11: 55000
A12: Aktywa z tytułu podatku odroczonego | B12: 9 | C12: 1130000 | D12: 1307000 | E12: 1934000
A13: Pozostałe aktywa finansowe | C13: 0 | D13: 0 | E13: 0
A14: Pozostałe aktywa | C14: 0 | D14: 0 | E14: 0
A15: AKTYWA OBROTOWE | C15: =SUM(C16:C23) -> 65682000 | D15: =SUM(D16:D23) -> 79851000 | E15: =SUM(E16:E23) -> 60127000
A16: Zapasy | B16: 12 | C16: 9285000 | D16: 8580000 | E16: 7680000
A17: Należności z tytułu dostaw i usług oraz pozostałe należności | B17: 13 | C17: 28696000 | D17: 50713000 | E17: 16551000
A18: Należności z tytułu kontraktów budowlanych i podobne | B18: 14 | C18: 15069000 | D18: 11401000 | E18: 15039000
A19: Pozostałe aktywa finansowe | C19: 1408000 | D19: 962000 | E19: 686000
A20: Bieżące aktywa podatkowe | B20: 9 | C20: 2430000 | D20: 2672000 | E20: 2008000
A21: Pozostałe aktywa | C21: 0 | D21: 0 | E21: 0
A22: Środki pieniężne i ich ekwiwalenty | C22: 8794000 | D22: 5523000 | E22: 18163000
A23: Aktywa klasyfikowane jako przeznaczone do zbycia | C23: 0
A24: AKTYWA RAZEM | C24: =SUM(C6,C15) -> 122424000 | D24: =SUM(D6,D15) -> 136970000 | E24: =SUM(E6,E15) -> 119373000
A27: SKONSOLIDOWANE SPRAWOZDANIE Z SYTUACJI FINANSOWEJ - C.D.
A28: SKONSOLIDOWANE SPRAWOZDANIE Z SYTUACJI FINANSOWEJ - [C.D.]
A29: PASYWA | B29: Nota | C29: tys. PLN
C30: =C5 -> Stan na 31/03/2019 | D30: =D5 -> Stan na 31/12/2018 | E30: =E5 -> Stan na 31/03/2018
A31: KAPITAŁ WŁASNY | C31: =SUM(C32:C37) -> 87213000 | D31: =SUM(D32:D37) -> 86731000 | E31: =SUM(E32:E37) -> 81730000
A32: Kapitał akcyjny | B32: 15 | C32: 3707000 | D32: 3707000 | E32: 3707000
A33: Nadwyżka ze sprzedaży akcji | C33: 38412000 | D33: 38412000 | E33: 38412000
A34: Zyski zatrzymane | B34: 16 | C34: 45094000 | D34: 44612000 | E34: 39611000
A35: Wynik wycen odnoszonych bezpośrednio poprzez kapitał własny | C35: 0 | D35: 0 | E35: 0
A36: Kwoty ujęte bezpośrednio w kapitale, związane z aktywami klasyfikowanymi jako przeznaczone do zbycia | C36: 0 | D36: 0 | E36: 0
A37: Kapitały przypadajace na jednostki zalezne dające współkontrolę nad spółką | C37: 0 | D37: 0 | E37: 0
A38: ZOBOWIĄZANIA | C38: =SUM(C39,C49) -> 35211000 | D38: =SUM(D39,D49) -> 50239000 | E38: =SUM(E39,E49) -> 37643000
A39: Zobowiązania długoterminowe | C39: =SUM(C40:C48) -> 11908000 | D39: =SUM(D40:D48) -> 12954000 | E39: =SUM(E40:E48) -> 18299000
A40: Długoterminowe zobowiązania z tyt. obligacji i umowy leasingu | B40: 18 | C40: 764000 | D40: 794000 | E40: 1036000
A41: Długoterminowe zobowiązania finansowe z tyt kredytów | B41: 19 | C41: 3868000 | D41: 4657000 | E41: 6735000
A42: Pozostałe zobowiązania długoterminowe | B42: 21 | C42: 4540000 | D42: 4699000 | E42: 6635000
A43: Rezerwa na świadczenia emerytalne i podobne | C43: 1300000 | D43: 1300000 | E43: 1116000
A44: Rezerwy z tyt. napraw gwarancyjnych | C44: 21000 | D44: 20000 | E44: 21000
A45: Rezerwa z tytułu opcji na akcje | C45: 0 | D45: 0 | E45: 0
A46: Rezerwa z tytułu odroczonego podatku dochodowego | B46: 9 | C46: 1415000 | D46: 1484000 | E46: 2756000
A47: Pozostałe rezerwy długoterminowe | C47: 0 | D47: 0 | E47: 0
A48: Przychody przyszłych okresów | C48: 0 | D48: 0 | E48: 0
A49: Zobowiązania krótkoterminowe | C49: =SUM(C50:C61) -> 23303000 | D49: =SUM(D50:D61) -> 37285000 | E49: =SUM(E50:E61) -> 19344000
A50: Zobowiązania z tytułu dostaw i usług oraz pozostałe zobowiązania | B50: 20 | C50: 8888000 | D50: 17972000 | E50: 6729000
A51: Zobowiązania z tytułu kontraktów budowlanych i podobnych | B51: 14 | C51: 858000 | D51: 997000 | E51: 1230000
A52: Krótkoterminowe zobowiązania z tyt. otrzymanych kredytów | B52: 19 | C52: 3143000 | D52: 3182000 | E52: 3420000
A53: Krótkoterminowe zobowiązania z tyt. obligacji i umowy leasingu | B53: 18 | C53: 1092000 | D53: 948000 | E53: 862000
A54: Krótkoterminowe zobowiązania z tyt. dywidendy | C54: 0 | D54: 0 | E54: 0
A55: Pozostałe krótkoterminowe zobowiązania finansowe | B55: 17 | C55: 0 | D55: 200000 | E55: 1200000
A56: Bieżące zobowiązania podatkowe | C56: 1773000 | D56: 5578000 | E56: 927000
A57: Rezerwy na świadczenia emerytalne i podobne | C57: 0 | D57: 184000 | E57: 0
A58: Rezerwy krótkoterminowe | C58: 0 | D58: 0 | E58: 0
A59: Przychody przyszłych okresów | C59: 677000 | D59: 1531000 | E59: 241000
A60: Pozostałe zobowiązania | C60: 6872000 | D60: 6693000 | E60: 4735000
A61: Zobowiązania związane z aktywami trwałymi zaklasyfikowanymi jako przeznaczone do sprzedaży | C61: 0 | D61: 0 | E61: 0
A62: PASYWA RAZEM | C62: =SUM(C31,C38) -> 122424000 | D62: =SUM(D31,D38) -> 136970000 | E62: =SUM(E31,E38) -> 119373000

Sheet S RZiS
A1: SKONSOLIDOWANY RACHUNEK ZYSKÓW I STRAT ORAZ SPRAWOZDANIE Z POZOSTAŁYCH CAŁKOWITYCH DOCHODÓW ZA OKRES 01.01.2019 - 31.03.2019
A2: Wariant kalkulacyjny | B2: Nota | C2: tys.PLN
C3: 3 miesięce zakończone 31/03/2019 | D3: 3 miesięce zakończone 31/03/2018
A4: Działalność kontynuowana
A5: Przychody ze sprzedaży | B5: 6.7 | C5: =SUM(C6:C8) -> 30587000 | D5: =SUM(D6:D8) -> 21065000
A6: Przychody ze sprzedaży wyrobów | C6: 0 | D6: 0
A7: Przychody ze sprzedaży usług | C7: 28424000 | D7: 20907000
A8: Przychody ze sprzedaży towarów i materiałów | C8: 2163000 | D8: 158000
A9: Koszt własny sprzedaży (koszt sprzedanych produktów, usług, towarów i materiałów) | C9: =SUM(C10:C12) -> 23169000 | D9: =SUM(D10:D12) -> 15694000
A10: Koszt wytworzenia sprzedanych wyrobów | C10: 0 | D10: 0
A11: Koszt sprzedanych usług | C11: 21184000 | D11: 15625000
A12: Koszt sprzedanych towarów i materiałów | C12: 1985000 | D12: 69000
A13: Zysk (strata) brutto ze sprzedaży | C13: =SUM(C5,-C9) -> 7418000 | D13: =SUM(D5,-D9) -> 5371000
A14: Koszty sprzedaży | C14: 3614000 | D14: 2982000
A15: Koszty ogólnego zarządu | C15: 2464000 | D15: 2010000
A16: Pozostałe przychody operacyjne | C16: -1000 | D16: 86000
A17: Pozostałe koszty operacyjne | C17: 48000 | D17: 12000
A18: Zysk (strata) na działalności operacyjnej | C18: =C13-C14-C15+C16-C17 -> 1291000 | D18: =D13-D14-D15+D16-D17 -> 453000
A19: Przychody finansowe | C19: 10000 | D19: 25000
A20: Koszty finansowe | C20: 217000 | D20: 103000
A21: Udział w zyskach jednostek stowarzyszonych | C21: 0 | D21: 0
A22: Zysk ze sprzedaży udziałów w jednostce stowarzyszonej | C22: 0 | D22: 0
A23: Inne (opisać)
A24: Zysk (strata) przed opodatkowaniem | C24: =C18+C19-C20+C21+C22+C23 -> 1084000 | D24: =D18+D19-D20+D21+D22+D23 -> 375000
A26: Podatek dochodowy | B26: 9 | C26: =C27+C28 -> 602000 | D26: 84000
A27: część bieżąca | C27: 490000 | D27: 87000
A28: część odroczona | C28: 112000 | D28: -3000
A29: Zysk (strata) netto z działalności kontynuowanej | C29: =C24-C26 -> 482000 | D29: =D24-D26 -> 291000
A30: Działalność zaniechana
A31: Zysk (strata) netto z działalności zaniechanej | C31: 0 | D31: 0
A32: Zysk (strata) netto | C32: =SUM(C29,C31) -> 482000 | D32: =SUM(D29,D31) -> 291000
A34: SKONSOLIDOWANY RACHUNEK ZYSKÓW I STRAT ORAZ SPRAWOZDANIE Z POZOSTAŁYCH CAŁKOWITYCH DOCHODÓW -C.D.
A36: Zysk (strata) netto, z tego przypadający: | C36: =C32 -> 482000 | D36: =D32 -> 291000
A37: - akcjonariuszom podmiotu dominującego | C37: 482000 | D37: 298000
A38: - akcjonariuszom mniejszościowym | C38: 0 | D38: -7000
A39: Zysk (strata) netto na jedną akcję zwykłą
A40: (w zł/gr na jedną akcję):
A41: z działalności kontynuowanej
A42: - podstawowy | C42: =C37/12355504 -> 0.039010954 | D42: 0.02
A43: - rozwodniony | C43: =C42 -> 0.039010954 | D43: 0.02
A44: z działalności kontynuowanej i zaniechanej
A45: - podstawowy | C45: =C42 -> 0.039010954 | D45: =D42 -> 0.02
A46: - rozwodniony | C46: =C43 -> 0.039010954 | D46: =D43 -> 0.02
A47: SKONSOLIDOWANY RACHUNEK ZYSKÓW I STRAT ORAZ SPRAWOZDANIE Z POZOSTAŁYCH CAŁKOWITYCH DOCHODÓW ZA OKRES 01.01.2019 - 31.03.2019- [C.D.]
A48: Wariant kalkulacyjny | B48: Nota | C48: tys.PLN
C49: 3 miesięce zakończone 31/03/2019 | D49: 3 miesięce zakończone 31/03/2018
A50: POZOSTAŁE CAŁKOWITE DOCHODY NETTO
A51: Składniki, które nie zostaną przeniesione w późniejszych okresach do rachunku zysków i strat:
A52: Skutki przeszacowania aktywów trwałych | C52: 0 | D52: 0
A53: Udział w skutkach przeszacowania aktywów trwałych jednostek stowarzyszonych | C53: 0 | D53: 0
A54: Przeszacowanie zobowiązań z tytułu świadczeń pracowniczych | C54: 0 | D54: 0
A55: Inne | C55: 0 | D55: 0
C56: =SUM(C52:C55) -> 0 | D56: =SUM(D52:D55) -> 0
A57: Składniki, które mogą zostać przeniesione w późniejszych okresach do rachunku zysków i strat:
A58: Różnice kursowe z przeliczenia jednostek zagranicznych | C58: 0 | D58: 0
A59: Skutki przeszacowania aktywów finansowych dostępnych do sprzedaży | C59: 0 | D59: 0
A60: Efektywną część zysków i strat związanych z instrumentem zabezpieczającym w ramach zabezpieczenia przepływów pieniężnych | C60: 0 | D60: 0
A61: Inne | C61: 0 | D61: 0
C62: =SUM(C58:C61) -> 0 | D62: =SUM(D58:D61) -> 0
A63: Pozostałe całkowite dochody netto razem | C63: =SUM(C59:C62) -> 0 | D63: =SUM(D59:D62) -> 0
A64: SUMA CAŁKOWITYCH DOCHODÓW | C64: =C32+C63 -> 482000 | D64: =D32+D63 -> 291000

Sheet S CF
A1: SKONSOLIDOWANE SPRAWOZDANIE Z PRZEPŁYWÓW PIENIĘŻNYCH ZA OKRES 01.01.2019 - 31.03.2019 [METODA POŚREDNIA]
B2: tys.PLN
B3: 3 miesięce zakończonych 31/03/2019 | C3: 3 miesięce zakończonych 31/03/2018
A4: Przepływy pieniężne z działalności operacyjnej
A5: Zysk za rok obrotowy | B5: ='S RZiS'!C36 -> 482000 | C5: ='S RZiS'!D37 -> 298000
A6: Korekty: Koszt podatku dochodowego ujęty w wyniku | B6: ='S RZiS'!C26 -> 602000 | C6: 84000
A7: Udział w zysku akcjonariuszy mniejszościowych | B7: 0 | C7: -7000
A8: Udział w zysku jednostek stowarzyszonych | B8: 0 | C8: 0
A9: Koszty finansowe ujęte w wyniku | B9: 34000 | C9: 26000
A10: Przychody z inwestycji ujęte w wyniku | B10: 0 | C10: 0
A11: Zysk ze zbycia składników rzeczowych aktywów trwałych | B11: 5000 | C11: -11000
A12: Zysk/strata z tytułu likwidacji środków trwałych | B12: 0 | C12: 2000
A13: (Zysk) / strata netto z wyceny zobowiązań finansowych wycenianych w skorygowanej cenie nabycia | B13: 0 | C13: 0
A14: Zysk/strata z tytułu zmiany przeznaczenia środków trwałych | B14: 0 | C14: 0
A15: Zysk ze zbycia jednostki zależnej | B15: 0 | C15: 0
A16: Korekta konsolidacyjna wartości aktywów finansowych | B16: 0 | C16: 0
A17: (Zysk) / strata netto z wyceny zobowiązań finansowych wycenianych w wartości godziwej przez wynik | B17: 0 | C17: 0
A18: (Zysk) / strata netto z wyceny aktywów finansowych przeznaczonych do obrotu | B18: 0 | C18: 0
... A29: (Dodatnie) / ujemne różnice kursowe netto | B29: 182000 | C29: 68000
A30: Koszty z tytułu płatności na bazie akcji rozliczanych instrumentami kapitałowymi
A31: Koszty wynikające z emisji akcji na pokrycie otrzymanych usług konsultacyjnych
A32: Amortyzacja kontraktów gwarancji finansowych
A33: Korekta związana z konsolidacją spółki zależnej Hoteliga International Sp. z o.o. | B33: 0 | C33: 1762000
B34: =SUM(B5:B33) -> 3431000 | C34: =SUM(C5:C33) -> 4186000
A35: Zmiany w kapitale obrotowym:
A36: (Zwiększenie) / zmniejszenie salda należności z tytułu dostaw i usług oraz pozostałych należności | B36: 22258000 | C36: 21583000
A37: (Zwiększenie) / zmniejszenie należności z tytułu kontraktów budowlanych | B37: -3668000 | C37: -4382000
A38: (Zwiększenie) / zmniejszenie stanu zapasów | B38: -705000 | C38: -822000
A39: (Zwiększenie) / zmniejszenie pozostałych aktywów | B39: 178000 | C39: 156000
A40: Zmniejszenie salda zobowiązań z tytułu dostaw i usług oraz pozostałych zobowiązań | B40: -12634000 | C40: -6527000
A41: Zwiększenie / (zmniejszenie) zobowiązań z tytułu kontraktów budowlanych | B41: -139000 | C41: -295000
A42: Zwiększenie / (zmniejszenie) rezerw | B42: -64000 | C42: -158000
A43: Zwiększenie / (zmniejszenie) przychodów przyszłych okresów | B43: -856000 | C43: 97000
A44: Zwiększenie / (zmniejszenie) pozostałych zobowiązań | B44: -449000 | C44: 125000
A45: Środki pieniężne wygenerowane na działalności operacyjnej | B45: =SUM(B34:B44) -> 7352000 | C45: =SUM(C34:C44) -> 13963000
A46: Zapłacone odsetki i różnice kursowe | B46: -216000 | C46: -93000
A47: Zapłacony podatek dochodowy | B47: -1046000 | C47: -434000
A48: ŚRODKI PIENIĘŻNE NETTO Z DZIAŁALNOŚCI OPERACYJNEJ | B48: =B45+B46+B47 -> 6090000 | C48: =C45+C46+C47 -> 13436000
A49: SKONSOLIDOWANE SPRAWOZDANIE Z PRZEPŁYWÓW PIENIĘŻNYCH ZA OKRES 01.01.2019 - 31.03.2019 [METODA POŚREDNIA] - [C.D.]
B50: tys.PLN
B51: 3 miesięce zakończonych 31/03/2019 | C51: 3 miesięce zakończonych 31/03/2018
B53: tys.PLN
B54: 6 miesięcy zakończonych 30/06/2018 | C54: 6 miesięcy zakończonych 30/06/2017
A55: Przepływy pieniężne z działalności inwestycyjnej
A56: Płatności z tytułu nabycia aktywów finansowych
A57: Wpływy ze sprzedaży aktywów finansowych
A58: Płatności z tytułu nabycia aktywów finansowych | B58: 0 | C58: 0
A59: Otrzymane odsetki od jedn. powiązanych | B59: 0 | C59: 0
A60: Tantiemy i inne dochody z działalności inwestycyjnej | B60: 0 | C60: 0
A61: Dywidenda otrzymana od jednostek stowarzyszonych | B61: 0 | C61: 0
A62: Inne otrzymane dywidendy | B62: 0 | C62: 0
A63: Pożyczki otrzymane od jednostek powiązanych | B63: 0 | C63: 0
A64: Pożyczki spłacone od jednostek powiązanych | B64: 107000 | C64: 0
A65: Pożyczki udzielone jednostkom powiązanym | B65: -546000 | C65: -266000
A66: Pożyczki zwrócone jednostkom powiązanym | B66: 0 | C66: 0
A67: Płatności za rzeczowe aktywa trwałe | B67: -393000 | C67: -354000
A68: Wpływy z tytułu zbycia składników rzeczowych aktywów trwałych | B68: 0 | C68: 11000
A69: Płatności za nieruchomości inwestycyjne
A70: Wpływy ze sprzedaży nieruchomości inwestycyjnych
A71: Płatności za aktywa niematerialne | B71: 0 | C71: -5000
A72: Wydatki netto z tytułu przejęcia jednostek zależnych | B72: 0 | C72: 0
A73: Wpływy netto na poczet przejęcia jednostek zależnych | B73: 0 | C73: 0
A74: Wpływy netto z tytułu sprzedaży jednostek zależnych | B74: 0 | C74: 0
A75: Wpływy netto z tytułu sprzedaży jednostek stowarzyszonych | B75: 0 | C75: 0
A76: inne wpływy/wydatki inwestycyjne | B76: 0 | C76: 0
A77: Wpływy netto z tytułu przejęcia jednostki zależnej | B77: 0 | C77: 0
A78: ŚRODKI PIENIĘŻNE NETTO (WYDANE) / WYGENEROWANE W ZWIĄZKU Z DZIAŁALNOŚCIĄ INWESTYCYJNĄ | B78: =SUM(B56:B77) -> -832000 | C78: =SUM(C56:C77) -> -614000
A79: SKONSOLIDOWANE SPRAWOZDANIE Z PRZEPŁYWÓW PIENIĘŻNYCH ZA OKRES OD 1 STYCZNIA 2018 DO 30 CZERWCA 2018 [METODA POŚREDNIA] - C.D.
A81: Przepływy pieniężne z działalności finansowej
A82: Wpływy z tytułu emisji własnych akcji | B82: 0 | C82: 0
A83: Wpływy z tytułu emisji obligacji | B83: 0 | C83: 0
A84: Płatności z tytułu kosztów emisji akcji | B84: 0 | C84: 0
A85: Płatności z tytułu odkupu akcji | B85: 0 | C85: 0
A86: Płatności z tytułu kosztów odkupu akcji | B86: 0 | C86: 0
A87: Wpływy z emisji umarzalnych kumulacyjnych akcji preferencyjnych | B87: 0 | C87: 0
A88: Wpływy z emisji weksli długoterminowych | B88: 0 | C88: 0
A89: Spłata odsetek od obligacji | B89: 0 | C89: 0
A90: Spłata rat kredytowych | B90: -750000 | C90: -750000
A91: Spłata odsetek od kredytu | B91: -66000 | C91: -97000
A92: Rachunki kart kredytowych | B92: -11000 | C92: 29000
A93: Płatności z tytułu wykupu obligacji | B93: 0 | C93: 0
... A104: Spłata zadłużenia z tyt. umów leasingu (leasing, odsetki, pozostałe) | B104: -1161000 | C104: -920000
A105: ŚRODKI PIENIĘŻNE NETTO WYKORZYSTANE W DZIAŁALNOŚCI FINANSOWEJ | B105: =SUM(B82:B104) -> -1988000 | C105: =SUM(C82:C104) -> -1738000
A106: Zwiększenie netto środków pieniężnych i ich ekwiwalentów | B106: 3271000 | C106: =C48+C78+C105-C108-C109 -> 11084000
A107: Środki pieniężne i ich ekwiwalenty na początek okresu sprawozdawczego | B107: 5523000 | C107: 7079000
A108: Wpływ zmian kursów walut na saldo środków pieniężnych w walutach obcych | B108: 0 | C108: 0
A109: Wpływ odsetek z tyt. środków pieniężnych naliczonych do dnia bilansowego | B109: 0 | C109: 0
A110: Zmiana stanu innych środków pieniężnych | B110: 0 | C110: 0
A111: ŚRODKI PIENIĘŻNE I ICH EKWIWALENTY NA KONIEC OKRESU SPRAWOZDAWCZEGO | B111: =B106+B107 -> 8794000 | C111: =C106+C107 -> 18163000

Sheet ZZKW_s
A1: SKONSOLIDOWANE SPRAWOZDANIE ZE ZMIAN W KAPITALE WŁASNYM ZA OKRES SPRAWOZDAWCZY KOŃCZĄCY SIĘ 31 MARCA 2019 ROKU
B2: tys.PLN
B3: Kapitał podstawowy | C3: Nadwyżka ze sprzedaży akcji | D3: Kapitał rezerwowy ogółem | E3: Kapitał rezerwowy z przeszac. Rzeczowych aktywów trwałych | F3: Kapitał rezerwowy z przeszac. Inwestycji | G3: Kapitał rezerwowy na świadczenia pracownicze rozliczane instrumentami kapitałowymi | H3: Kapitał rezerwowy na zabezpieczenia | I3: Kapitał rezerwowy z przewalutowania | J3: Nadwyżka ze sprzedaży opcji na obligacje zamienne | K3: Zyski zatrzymane | L3: Przypadające akcjonariuszom jednostki dominującej | M3: Przypadające udziałom niedającym kontroli | N3: Razem
A4: Stan na 1 stycznia 2018 roku (z poprzedniego sprawozdania) | B4: 3707 | C4: 38412 | D4: - | E4: - | F4: - | G4: - | H4: - | I4: - | J4: - | K4: 39313 | L4: 39313 | M4: - | N4: =B4+C4+K4 -> 81432
A5: Przekształcenia | B5: - | C5: - | D5: - | E5: - | F5: - | G5: - | H5: - | I5: - | J5: - | K5: - | L5: - | M5: - | N5: -
A6: Stan na 1 stycznia 2018 roku (po przekształceniach) | B6: 3707 | C6: 38412 | D6: - | E6: - | F6: - | G6: - | H6: - | I6: - | J6: - | K6: 39313 | L6: 39313 | M6: - | N6: =B6+C6+K6 -> 81432
A7: Zysk netto za rok obrotowy | B7: - | C7: - | D7: - | E7: - | F7: - | G7: - | H7: - | I7: - | J7: - | K7: 298 | L7: 298 | M7: - | N7: =K7 -> 298
A8: Pozostałe całkowite dochody za rok obrotowy (netto) | B8: - | C8: - | D8: - | E8: - | F8: - | G8: - | H8: - | I8: - | J8: - | K8: - | L8: - | M8: - | N8: -
A9: Suma całkowitych dochodów | B9: - | C9: - | D9: - | E9: - | F9: - | G9: - | H9: - | I9: - | J9: - | K9: 298 | L9: 298 | M9: - | N9: =K9 -> 298
A10: Wykorzystanie rezerwy w ramach planu pracowniczych opcji na akcję | B10: - | C10: - | D10: - | E10: - | F10: - | G10: - | H10: - | I10: - | J10: - | K10: - | L10: - | M10: - | N10: -
A11: Ujęcie płatności dokonywanych na bazie akcji | B11: - | C11: - | D11: - | E11: - | F11: - | G11: - | H11: - | I11: - | J11: - | K11: - | L11: - | M11: - | N11: -
A12: Wypłata dywidendy | B12: - | C12: - | D12: - | E12: - | F12: - | G12: - | H12: - | I12: - | J12: - | K12: - | L12: - | M12: -
A13: Stan na 31 marca 2018 roku | B13: 3707 | C13: 38412 | D13: - | E13: - | F13: - | G13: - | H13: - | I13: - | J13: - | K13: =K6+K9 -> 39611 | L13: =L6+L9 -> 39611 | M13: - | N13: =N6+N9+N12 -> 81730
A14: Zysk netto za rok obrotowy | B14: - | C14: - | D14: - | E14: - | F14: - | G14: - | H14: - | I14: - | J14: - | K14: - | L14: - | M14: - | N14: -
A15: Pozostałe całkowite dochody za rok obrotowy (netto) | B15: - | C15: - | D15: - | E15: - | F15: - | G15: - | H15: - | I15: - | J15: - | K15: - | L15: - | M15: - | N15: -
A16: Suma całkowitych dochodów | B16: - | C16: - | D16: - | E16: - | F16: - | G16: - | H16: - | I16: - | J16: - | K16: - | L16: - | M16: - | N16: -
A17: Pozostałe całkowite dochody za rok obrotowy (netto) | B17: - | C17: - | D17: - | E17: - | F17: - | G17: - | H17: - | I17: - | J17: - | K17: - | L17: - | M17: - | N17: -
A18: Ujęcie płatności dokonywanych na bazie akcji | B18: - | C18: - | D18: - | E18: - | F18: - | G18: - | H18: - | I18: - | J18: - | K18: - | L18: - | M18: - | N18: -
A19: Emisja akcji zwykłych | B19: - | C19: - | D19: - | E19: - | F19: - | G19: - | H19: - | I19: - | J19: - | K19: - | L19: - | M19: - | N19: -
A20: Emisja akcji zwykłych w ramach planu pracowniczych opcji na akcje | B20: - | C20: - | D20: - | E20: - | F20: - | G20: - | H20: - | I20: - | J20: - | K20: - | L20: - | M20: - | N20: -
A21: Emisja akcji zwykłych z tytułu świadczonych usług doradczych | B21: - | C21: - | D21: - | E21: - | F21: - | G21: - | H21: - | I21: - | J21: - | K21: - | L21: - | M21: - | N21: -
A22: Emisja zamiennych akcji preferencyjnych bez prawa do głosu | B22: - | C22: - | D22: - | E22: - | F22: - | G22: - | H22: - | I22: - | J22: - | K22: - | L22: - | M22: - | N22: -
A23: Emisja obligacji zamiennych | B23: - | C23: - | D23: - | E23: - | F23: - | G23: - | H23: - | I23: - | J23: - | K23: - | L23: - | M23: - | N23: -
A24: Koszty emisji akcji | B24: - | C24: - | D24: - | E24: - | F24: - | G24: - | H24: - | I24: - | J24: - | K24: - | L24: - | M24: - | N24: -
A25: Odkup akcji zwykłych | B25: - | C25: - | D25: - | E25: - | F25: - | G25: - | H25: - | I25: - | J25: - | K25: - | L25: - | M25: - | N25: -
... A28: Przeniesienie do zysków zatrzymanych | B28: - | C28: - | D28: - | E28: - | F28: - | G28: - | H28: - | I28: - | J28: - | K28: - | L28: - | M28: - | N28: -
A29: Z podziału zysku | B29: - | C29: - | D29: - | E29: - | F29: - | G29: - | H29: - | I29: - | J29: - | K29: - | L29: - | M29: - | N29: =K29 -> -
A30: Przeniesienie na kapitał zapasowy | B30: - | C30: - | D30: - | E30: - | F30: - | G30: - | H30: - | I30: - | J30: - | K30: - | L30: - | M30: - | N30: =K30 -> -
A31: Pokrycie strat z lat poprzednich | B31: 0 | C31: 0 | D31: 0 | E31: 0 | F31: 0 | G31: 0 | H31: 0 | I31: 0 | J31: - | K31: - | L31: - | N31: =K31 -> -
A32: Wypłata dywidendy | B32: - | C32: - | D32: - | E32: - | F32: - | G32: - | H32: - | I32: - | J32: - | K32: - | L32: - | N32: =K32 -> -
A33: Zysk dot. lat poprzednich jako skutek przejścia na MSSF | B33: - | C33: - | D33: - | E33: - | F33: - | G33: - | H33: - | I33: - | J33: - | K33: - | L33: - | N33: =K33 -> -
A34: Przeniesienie na kapitał zapasowy | B34: - | C34: - | D34: - | E34: - | F34: - | G34: - | H34: - | I34: - | J34: - | K34: - | L34: - | N34: =K34 -> -
A35: Podatek dochodowy związany z transakcjami z właścicielami | B35: - | C35: - | D35: - | E35: - | F35: - | G35: - | H35: - | I35: - | J35: - | K35: - | L35: - | M35: - | N35: =K35 -> -
A36: Stan na 31 marca 2018 roku | B36: =B13 -> 3707 | C36: =C13 -> 38412 | D36: =D13 -> - | E36: =E13 -> - | F36: =F13 -> - | G36: =G13 -> - | H36: =H13 -> - | I36: =I13 -> - | ... L36: =L13 -> 39611 | M36: - | N36: =B36+C36+K36 -> 81730
A38: SKONSOLIDOWANE SPRAWOZDANIE ZE ZMIAN W KAPITALE WŁASNYM ZA OKRES SPRAWOZDAWCZY KOŃCZĄCY SIĘ 31 MARCA 2019 ROKU - [C.D.]
B39: tys.PLN
B40: Kapitał podstawowy | C40: Nadwyżka ze sprzedaży akcji | D40: Kapitał rezerwowy ogółem | E40: Kapitał rezerwowy z przeszac. Rzeczowych aktywów trwałych | F40: Kapitał rezerwowy z przeszac. Inwestycji | G40: Kapitał rezerwowy na świadczenia pracownicze rozliczane instrumentami kapitałowymi | H40: Kapitał rezerwowy na zabezpieczenia | I40: Kapitał rezerwowy z przewalutowania | J40: Nadwyżka ze sprzedaży opcji na obligacje zamienne | K40: Zyski zatrzymane | L40: Przypadające akcjonariuszom jednostki dominującej | M40: Przypadające udziałom niedającym kontroli | N40: Razem
A42: Stan na 1 stycznia 2019 roku (z poprzedniego sprawozdania) | B42: 3707 | C42: 38412 | D42: - | E42: - | F42: - | G42: - | H42: - | I42: - | J42: - | K42: ='S Bilans'!D34/1000 -> 44612 | L42: =K42 -> 44612 | M42: - | N42: =SUM(B42:K42) -> 86731
A43: Przekształcenia | B43: - | C43: - | D43: - | E43: - | F43: - | G43: - | H43: - | I43: - | J43: - | K43: - | L43: - | M43: - | N43: -
A44: Stan na 1 stycznia 2019 roku (po przekształceniach) | B44: 3707 | C44: 38412 | D44: - | E44: - | F44: - | G44: - | H44: - | I44: - | J44: - | K44: ='S Bilans'!D34/1000 -> 44612 | L44: =L42 -> 44612 | M44: - | N44: =B44+C44+K44 -> 86731
A45: Zysk netto za rok obrotowy | B45: - | C45: - | D45: - | E45: - | F45: - | G45: - | H45: - | I45: - | J45: - | K45: ='S RZiS'!C32/1000 -> 482 | L45: ='S RZiS'!C37/1000 -> 482 | N45: =L45 -> 482
A46: Pozostałe całkowite dochody za rok obrotowy (netto) | B46: - | C46: - | D46: - | E46: - | F46: - | G46: - | H46: - | I46: - | J46: - | K46: - | L46: - | M46: - | N46: -
A47: Suma całkowitych dochodów | B47: - | C47: - | D47: - | E47: - | F47: - | G47: - | H47: - | I47: - | J47: - | K47: =K45 -> 482 | L47: =L45 -> 482 | M47: =M45 -> 0 | N47: =L47 -> 482
A48: Ujęcie płatności dokonywanych na bazie akcji | B48: - | C48: - | D48: - | E48: - | F48: - | G48: - | H48: - | I48: - | J48: - | K48: - | L48: - | M48: - | N48: -
A49: Wypłata dywidendy | B49: - | C49: - | D49: - | E49: - | F49: - | G49: - | H49: - | I49: - | J49: - | M49: -
A50: Stan na 31 marca 2019 roku | B50: 3707 | C50: 38412 | D50: - | E50: - | F50: - | G50: - | H50: - | I50: - | J50: - | K50: =K44+K45 -> 45094 | L50: =L44+L47+L49 -> 45094 | M50: =M47 -> 0 | N50: =N42+N47+N49 -> 87213
A51: Zysk netto za rok obrotowy | B51: - | C51: - | D51: - | E51: - | F51: - | G51: - | H51: - | I51: - | J51: - | K51: - | L51: - | M51: - | N51: -
A52: Pozostałe całkowite dochody za rok obrotowy (netto) | B52: - | C52: - | D52: - | E52: - | F52: - | G52: - | H52: - | I52: - | J52: - | K52: - | L52: - | M52: - | N52: -
A53: Suma całkowitych dochodów | B53: - | C53: - | D53: - | E53: - | F53: - | G53: - | H53: - | I53: - | J53: - | K53: - | L53: - | M53: - | N53: -
A54: Pozostałe całkowite dochody za rok obrotowy (netto) | B54: - | C54: - | D54: - | E54: - | F54: - | G54: - | H54: - | I54: - | J54: - | K54: - | L54: - | M54: - | N54: -
A55: Ujęcie płatności dokonywanych na bazie akcji | B55: - | C55: - | D55: - | E55: - | F55: - | G55: - | H55: - | I55: - | J55: - | K55: - | L55: - | M55: - | N55: -
A56: Emisja akcji zwykłych | B56: - | C56: - | D56: - | E56: - | F56: - | G56: - | H56: - | I56: - | J56: - | K56: - | L56: - | M56: - | N56: -
A57: Warranty wydane w ramach planu pracowniczych opcji na akcje | B57: - | C57: - | D57: - | E57: - | F57: - | G57: - | H57: - | I57: - | J57: - | K57: - | L57: - | M57: - | N57: =L57 -> -
A58: Emisja akcji zwykłych z tytułu świadczonych usług doradczych | B58: - | C58: - | D58: - | E58: - | F58: - | G58: - | H58: - | I58: - | J58: - | K58: - | L58: - | M58: - | N58: -
A59: Emisja zamiennych akcji preferencyjnych bez prawa do głosu | B59: - | C59: - | D59: - | E59: - | F59: - | G59: - | H59: - | I59: - | J59: - | K59: - | L59: - | M59: - | N59: -
A60: Emisja obligacji zamiennych | B60: - | C60: - | D60: - | E60: - | F60: - | G60: - | H60: - | I60: - | J60: - | K60: - | L60: - | M60: - | N60: -
A61: Koszty emisji akcji | B61: - | C61: - | D61: - | E61: - | F61: - | G61: - | H61: - | I61: - | J61: - | K61: - | L61: - | M61: - | N61: -
A62: Odkup akcji zwykłych | B62: - | C62: - | D62: - | E62: - | F62: - | G62: - | H62: - | I62: - | J62: - | K62: - | L62: - | M62: - | N62: -
A63: Koszty odkupu akcji zwykłych | B63: - | C63: - | D63: - | E63: - | F63: - | G63: - | H63: - | I63: - | J63: - | K63: - | L63: - | M63: - | N63: -
A64: Emisja akcji powyżej ceny nominalnej | B64: - | C64: - | D64: - | E64: - | F64: - | G64: - | H64: - | I64: - | J64: - | K64: - | L64: - | M64: - | N64: -
A65: Przeniesienie do zysków zatrzymanych | B65: - | C65: - | D65: - | E65: - | F65: - | G65: - | H65: - | I65: - | J65: - | K65: - | L65: - | M65: - | N65: -
A66: Z podziału zysku | B66: - | C66: - | D66: - | E66: - | F66: - | G66: - | H66: - | I66: - | J66: - | K66: - | L66: - | M66: - | N66: -
A67: Przeniesienie na kapitał zapasowy | B67: - | C67: - | D67: - | E67: - | F67: - | G67: - | H67: - | I67: - | J67: - | K67: - | L67: - | M67: - | N67: -
A68: Pokrycie strat z lat poprzednich | B68: - | C68: - | D68: - | E68: - | F68: - | G68: - | H68: - | I68: - | J68: - | K68: - | L68: - | M68: - | N68: -
A69: Przeniesienie na rozrachunki z tyt. dywidendy | B69: - | C69: - | D69: - | E69: - | F69: - | G69: - | H69: - | I69: - | J69: - | K69: - | L69: - | M69: - | N69: -
... A71: Podatek dochodowy związany z transakcjami z właścicielami | B71: - | C71: - | D71: - | E71: - | F71: - | G71: - | H71: - | I71: - | J71: - | K71: - | L71: - | M71: - | N71: -
A72: Stan na 31 marca 2019 roku | B72: 3707 | C72: 38412 | D72: - | E72: - | F72: - | G72: - | H72: - | I72: - | J72: - | K72: =SUM(K50:K71) -> 45094 | L72: =SUM(L50:L71) -> 45094 | M72: =M50 -> 0 | N72: =SUM(N50:N71) -> 87213

Sheet J Bilans 
A1: SKRÓCONE JEDNOSTKOWE SPRAWOZDANIE FINANSOWE AILLERON SA ZA I KWARTAŁ 2019 ROKU ZAKOŃCZONY 31/03/2019
A2: SPORZĄDZONE WEDŁUG MIĘDZYNARODOWYCH STANDARDÓW SPRAWOZDAWCZOŚCI FINANSOWEJ
A4: JEDNOSTKOWE SPRAWOZDANIE Z SYTUACJI FINANSOWEJ NA DZIEŃ 31.03.2019 ROKU
A5: Aktywa | B5: Nota | C5: tys. PLN
C6: Stan na 31/03/2019 | D6: Stan na 31/12/2018 | E6: Stan na 31/03/2018
A7: AKTYWA TRWAŁE | C7: =SUM(C8:C16) -> 48963000 | D7: =SUM(D8:D16) -> 49302000 | E7: =SUM(E8:E16) -> 51595000
A8: Rzeczowe aktywa trwałe | C8: 11752000 | D8: 11486000 | E8: 13013000
A9: Nieruchomości inwestycyjne | C9: 0
A10: Wartość firmy | C10: 27433000 | D10: 27433000 | E10: 27433000
A11: Pozostałe aktywa niematerialne | C11: 5106000 | D11: 5564000 | E11: 5768000
A12: Inwestycje w jednostkach zależnych | C12: 3551000 | D12: 3551000 | E12: 3476000
A13: Aktywa z tytułu podatku odroczonego | C13: 1121000 | D13: 1268000 | E13: 1905000
A14: Należności z tytułu leasingu finansowego
A15: Pozostałe aktywa finansowe | C15: 0 | D15: 0 | E15: 0
A16: Pozostałe aktywa | C16: 0 | D16: 0 | E16: 0
A17: AKTYWA OBROTOWE | C17: =SUM(C18:C27) -> 57075000 | D17: =SUM(D18:D27) -> 73458000 | E17: =SUM(E18:E27) -> 55849000
A18: Zapasy | C18: 9285000 | D18: 8580000 | E18: 7680000
A19: Należności z tytułu dostaw i usług oraz pozostałe należności | C19: 25582000 | D19: 47469000 | E19: 16103000
A20: Należności z tytułu leasingu finansowego
A21: Należności z tytułu kontraktów budowlanych
A22: Należności z tytułu kontraktów budowlanych i podobne | C22: 15069000 | D22: 11401000 | E22: 15039000
A23: Pozostałe aktywa finansowe | C23: 1273000 | D23: 888000 | E23: 686000
A24: Bieżące aktywa podatkowe | C24: 911000 | D24: 1212000 | E24: 708000
A25: Pozostałe aktywa | C25: 0 | D25: 0 | E25: 0
A26: Środki pieniężne i ich ekwiwalenty | C26: 4955000 | D26: 3908000 | E26: 15633000
A27: Aktywa klasyfikowane jako przeznaczone do zbycia | C27: 0 | D27: 0 | E27: 0
A28: AKTYWA RAZEM | C28: =SUM(C7,C17) -> 106038000 | D28: =SUM(D7,D17) -> 122760000 | E28: =SUM(E7,E17) -> 107444000
A30: JEDNOSTKOWE SPRAWOZDANIE Z SYTUACJI FINANSOWEJ NA DZIEŃ 30.06.2018 ROKU -C.D.
A31: PASYWA | B31: Nota | C31: tys. PLN
C32: =C6 -> Stan na 31/03/2019 | D32: =D6 -> Stan na 31/12/2018 | E32: =E6 -> Stan na 31/03/2018
A33: KAPITAŁ WŁASNY | C33: =SUM(C34:C38) -> 72939000 | D33: =SUM(D34:D38) -> 74020000 | E33: =SUM(E34:E38) -> 71117000
A34: Kapitał akcyjny | C34: 3707000 | D34: 3707000 | E34: 3707000
A35: Nadwyżka ze sprzedaży akcji | C35: 38412000 | D35: 38412000 | E35: 38412000
A36: Zyski zatrzymane | C36: 30820000 | D36: 31901000 | E36: 28998000
A37: Wynik wycen odnoszonych bezpośrednio poprzez kapitał własny | C37: 0 | D37: 0 | E37: 0
A38: Kwoty ujęte bezpośrednio w kapitale, związane z aktywami klasyfikowanymi jako przeznaczone do zbycia | C38: 0 | D38: 0 | E38: 0
A39: ZOBOWIĄZANIA | C39: =SUM(C40,C50) -> 33099000 | D39: =SUM(D40,D50) -> 48740000 | E39: =SUM(E40,E50) -> 36327000
A40: Zobowiązania długoterminowe | C40: =SUM(C41:C49) -> 11858000 | D40: =SUM(D41:D49) -> 12900000 | E40: =SUM(E41:E49) -> 18300000
A41: Długoterminowe zobowiązania z tyt. obligacji i umowy leasingu | C41: 764000 | D41: 794000 | E41: 1036000
A42: Długoterminowe zobowiązania finansowe z tyt kredytów | C42: 3868000 | D42: 4657000 | E42: 6735000
A43: Pozostałe zobowiązania długoterminowe | C43: 4540000 | D43: 4699000 | E43: 6636000
A44: Rezerwa na świadczenia emerytalne i podobne | C44: 1251000 | D44: 1251000 | E44: 1116000
A45: Rezerwy z tytułu napraw gwarancyjnych | C45: 21000 | D45: 21000 | E45: 21000
A46: Rezerwy z tytułu opcji na akcje | C46: 0 | D46: 0 | E46: 0
A47: Rezerwa z tytułu odroczonego podatku dochodowego | C47: 1414000 | D47: 1478000 | E47: 2756000
A48: Pozostałe rezerwy długoterminowe | C48: 0 | D48: 0 | E48: 0
A49: Przychody przyszłych okresów | C49: 0 | D49: 0 | E49: 0
A50: Zobowiązania krótkoterminowe | C50: =SUM(C51:C62) -> 21241000 | D50: =SUM(D51:D62) -> 35840000 | E50: =SUM(E51:E62) -> 18027000
A51: Zobowiązania z tytułu dostaw i usług oraz pozostałe zobowiązania | C51: 7511000 | D51: 17107000 | E51: 5726000
A52: Zobowiązania z tytułu kontraktów budowlanych i podobnych | C52: 858000 | D52: 997000 | E52: 1230000
A53: Krótkoterminowe zobowiązania z tyt. otrzymanych kredytów | C53: 3143000 | D53: 3170000 | E53: 3420000
A54: Krótkoterminowe zobowiązania z tyt. obligacji i umowy leasingu | C54: 1092000 | D54: 948000 | E54: 833000
A55: Krótkoterminowe zobowiązania z tyt. dywidendy | C55: 0 | D55: 0 | E55: 0
A56: Pozostałe krótkoterminowe zobowiązania finansowe | C56: 0 | D56: 200000 | E56: 1200000
A57: Bieżące zobowiązania podatkowe | C57: 1486000 | D57: 5368000 | E57: 884000
A58: Rezerwa na świadczenia emerytalne i podobne | C58: 0 | D58: 184000 | E58: 0
A59: Rezerwy krótkoterminowe | C59: 0 | D59: 0 | E59: 0
A60: Przychody przyszłych okresów | C60: 288000 | D60: 1179000 | E60: 0
A61: Pozostałe zobowiązania | C61: 6863000 | D61: 6687000 | E61: 4734000
A62: Zobowiązania związane z aktywami trwałymi zaklasyfikowanymi jako przeznaczone do sprzedaży | C62: 0 | D62: 0 | E62: 0
A63: PASYWA RAZEM | C63: =SUM(C33,C39) -> 106038000 | D63: =SUM(D33,D39) -> 122760000 | E63: =SUM(E33,E39) -> 107444000

Sheet J RZiS 
A1: JEDNOSTKOWY RACHUNEK ZYSKÓW I STRAT ORAZ SPRAWOZDANIE Z POZOSTAŁYCH CAŁKOWITYCH DOCHODÓW ZA OKRES 01.01.2019 - 31.03.2019
A2: Wariant kalkulacyjny | C2: tys.PLN
C3: 3 miesięce zakończone 31/03/2019 | D3: 3 miesięce zakończone 31/03/2018
A4: Działalność kontynuowana
A5: Przychody ze sprzedaży | C5: =SUM(C6:C8) -> 26084000 | D5: =SUM(D6:D8) -> 19998000
A6: Przychody ze sprzedaży wyrobów | C6: 0
A7: Przychody ze sprzedaży usług | C7: 23922000 | D7: 19840000
A8: Przychody ze sprzedaży towarów i materiałów | C8: 2162000 | D8: 158000
A9: Koszt własny sprzedaży (koszt sprzedanych produktów, usług, towarów i materiałów) | C9: =SUM(C10:C12) -> 21013000 | D9: =SUM(D10:D12) -> 15033000
A10: Koszt wytworzenia sprzedanych wyrobów | C10: 0 | D10: 0
A11: Koszt sprzedanych usług | C11: 19028000 | D11: 14964000
A12: Koszt sprzedanych towarów i materiałów | C12: 1985000 | D12: 69000
A13: Zysk (strata) brutto ze sprzedaży | C13: =SUM(C5,-C9) -> 5071000 | D13: =SUM(D5,-D9) -> 4965000
A14: Koszty sprzedaży | C14: 3565000 | D14: 2934000
A15: Koszty ogólnego zarządu | C15: 2268000 | D15: 1832000
A16: Pozostałe przychody operacyjne | C16: 19000 | D16: 86000
A17: Pozostałe koszty operacyjne | C17: 0 | D17: 12000
A18: Zysk (strata) na działalności operacyjnej | C18: =C13-C14-C15+C16-C17 -> -743000 | D18: =D13-D14-D15+D16-D17 -> 273000
A19: Przychody finansowe | C19: 9000 | D19: 16000
A20: Koszty finansowe | C20: 208000 | D20: 98000
A21: Udział w zyskach jednostek stowarzyszonych | C21: 0 | D21: 0
A22: Zysk ze sprzedaży udziałów w jednostce stowarzyszonej | C22: 0 | D22: 0
A23: Inne (opisać)
A24: Zysk (strata) przed opodatkowaniem | C24: =C18+C19-C20+C21+C22+C23 -> -942000 | D24: =D18+D19-D20+D21+D22+D23 -> 191000
A25: Podatek dochodowy | C25: 139000 | D25: 19000
A26: część bieżąca | C26: 55000 | D26: 22000
A27: część odroczona | C27: 84000 | D27: -3000
A28: Zysk (strata) netto z działalności kontynuowanej | C28: =C24-C25 -> -1081000 | D28: =D24-D25 -> 172000
A29: Działalność zaniechana
A30: Zysk (strata) netto z działalności zaniechanej
A31: ZYSK (STRATA) NETTO | C31: =SUM(C28,C30) -> -1081000 | D31: =SUM(D28,D30) -> 172000
A33: JEDNOSTKOWY RACHUNEK ZYSKÓW I STRAT ORAZ SPRAWOZDANIE Z POZOSTAŁYCH CAŁKOWITYCH DOCHODÓW ZA OKRES 01.01.2018 - 30.06.2018 - [C.D.]
C34: tys.PLN
C35: 6 miesięcy zakończonych 30/06/2018 | D35: 6 miesięcy zakończonych 30/06/2017
A36: Zysk (strata) netto, z tego przypadający: | C36: =C31 -> -1081000 | D36: =D31 -> 172000
A37: - akcjonariuszom podmiotu dominującego | C37: =C36 -> -1081000 | D37: =D36 -> 172000
A38: - akcjonariuszom mniejszościowym | C38: -3 | D38: -2
A39: Zysk (strata) netto na jedną akcję zwykłą
A40: (w zł/gr na jedną akcję):
A41: z działalności kontynuowanej
A42: - podstawowy | C42: =C37/(11605504+750000) -> -0.087491372 | D42: =D37/(11605504+750000) -> 0.013920921
A43: - rozwodniony | C43: =C42 -> -0.087491372 | D43: =D42 -> 0.013920921
A44: z działalności kontynuowanej i zaniechanej
A45: - podstawowy | C45: =C42 -> -0.087491372 | D45: =D42 -> 0.013920921
A46: - rozwodniony | C46: =C45 -> -0.087491372 | D46: =D43 -> 0.013920921
A48: POZOSTAŁE CAŁKOWITE DOCHODY NETTO
A49: Składniki, które nie zostaną przeniesione w późniejszych okresach do rachunku zysków i strat:
A50: Skutki przeszacowania aktywów trwałych | C50: 0 | D50: 0
A51: Udział w skutkach przeszacowania aktywów trwałych jednostek stowarzyszonych | C51: 0 | D51: 0
A52: Przeszacowanie zobowiązań z tytułu świadczeń pracowniczych | C52: 0 | D52: 0
A53: Inne | C53: 0 | D53: 0
C54: =SUM(C50:C53) -> 0 | D54: =SUM(D50:D53) -> 0
A55: Składniki, które mogą zostać przeniesione w późniejszych okresach do rachunku zysków i strat:
A56: Różnice kursowe z przeliczenia jednostek zagranicznych | C56: 0 | D56: 0
A57: Skutki przeszacowania aktywów finansowych dostępnych do sprzedaży | C57: 0 | D57: 0
A58: Efektywną część zysków i strat związanych z instrumentem zabezpieczającym w ramach zabezpieczenia przepływów pieniężnych | C58: 0 | D58: 0
A59: Inne | C59: 0 | D59: 0
C60: =SUM(C56:C59) -> 0 | D60: =SUM(D56:D59) -> 0
A61: Pozostałe całkowite dochody netto razem | C61: =C54+C60 -> 0 | D61: =D54+D60 -> 0
A63: SUMA CAŁKOWITYCH DOCHODÓW | C63: =C31+C61 -> -1081000 | D63: =D31+D61 -> 172000

Sheet J CF 
A1: JEDNOSTKOWY RACHUNEK PRZEPŁYWÓW PIENIĘŻNYCH ZA OKRES 01.01.2019 - 31.03.2019
B2: tys.PLN
B3: 3 miesięce zakończone 31/03/2019 | C3: 3 miesięce zakończone 31/03/2018
A4: Przepływy pieniężne z działalności operacyjnej
A5: Zysk za rok obrotowy | B5: ='J RZiS '!C36 -> -1081000 | C5: ='J RZiS '!D36 -> 172000
A6: Korekty: Koszt podatku dochodowego ujęty w wyniku | B6: ='J RZiS '!C25 -> 139000 | C6: ='J RZiS '!D25 -> 19000
A7: Udział w zysku jednostek stowarzyszonych | B7: 0 | C7: 0
A8: Koszty finansowe ujęte w wyniku | B8: 34000 | C8: 26000
A9: Przychody z inwestycji ujęte w wyniku | B9: 0 | C9: 0
A10: Zysk ze zbycia składników rzeczowych aktywów trwałych | B10: 0 | C10: -11000
A11: Zysk/strata z tytułu likwidacji środków trwałych | B11: 0 | C11: 2000
A12: Zysk/strata z tytułu zmiany przeznaczenia środków trwałych | B12: 0 | C12: 0
A13: (Zysk) / strata netto z wyceny zobowiązań finansowych wycenianych w skorygowanej cenie nabycia | B13: 0 | C13: 0
A14: (Zysk)/strata ze zbycia jednostki zależnej | B14: 0 | C14: 0
A15: (Zysk) / strata netto z wyceny zobowiązań finansowych wycenianych w wartości godziwej przez wynik | B15: 0 | C15: 0
A16: (Zysk) / strata netto z wyceny aktywów finansowych przeznaczonych do obrotu | B16: 0 | C16: 0
A17: (Zysk) / strata netto z wyceny zobowiązań finansowych przeznaczonych do obrotu | B17: 0 | C17: 0
A18: Nieefektywna część zabezpieczenia przepływów pieniężnych | B18: 0 | C18: 0
... A31: Zysk z efektywnego rozliczenia roszczeń wobec spółki | B31: 0 | C31: 0
B32: =SUM(B5:B31) -> 1346000 | C32: =SUM(C5:C31) -> 2230000
A33: Zmiany w kapitale obrotowym: | B33: 0 | C33: 0
A34: (Zwiększenie) / zmniejszenie salda należności z tytułu dostaw i usług oraz pozostałych należności | B34: 22187000 | C34: 21378000
A35: (Zwiększenie) / zmniejszenie należności z tytułu kontraktów budowlanych | B35: -3668000 | C35: -4382000
A36: (Zwiększenie) / zmniejszenie stanu zapasów | B36: -705000 | C36: -822000
A37: (Zwiększenie) / zmniejszenie pozostałych aktywów | B37: 147000 | C37: 156000
A38: Zmniejszenie salda zobowiązań z tytułu dostaw i usług oraz pozostałych zobowiązań podatkowych | B38: -13130000 | C38: -6594000
A39: Zwiększenie / (zmniejszenie) zobowiązań z tytułu kontraktów budowlanych | B39: -139000 | C39: -295000
A40: Zwiększenie / (zmniejszenie) rezerw | B40: -64000 | C40: -158000
A41: Zwiększenie / (zmniejszenie) przychodów przyszłych okresów | B41: -891000 | C41: 0
A42: Zwiększenie / (zmniejszenie) pozostałych zobowiązań | B42: -449000 | C42: 125000
A43: Środki pieniężne wygenerowane na działalności operacyjnej | B43: =SUM(B32:B42) -> 4634000 | C43: =SUM(C32:C42) -> 11638000
A44: Zapłacone odsetki | B44: -208000 | C44: -98000
A45: Zapłacony podatek dochodowy | B45: -672000 | C45: -316000
A46: ŚRODKI PIENIĘŻNE NETTO Z DZIAŁALNOŚCI OPERACYJNEJ | B46: =B43+B44+B45 -> 3754000 | C46: =C43+C44+C45 -> 11224000
A48: JEDNOSTKOWY RACHUNEK PRZEPŁYWÓW PIENIĘŻNYCH - [C.D.]
B49: tys.PLN
B50: 6 miesięcy zakończonych 30/06/2018 | C50: 6 miesięcy zakończonych 30/06/2017
A51: JEDNOSTKOWY RACHUNEK PRZEPŁYWÓW PIENIĘŻNYCH - [C.D.]
B52: tys.PLN
B53: 3 miesięce zakończone 31/03/2019 | C53: 3 miesięce zakończone 31/03/2018
A54: Przepływy pieniężne z działalności inwestycyjnej
A55: Płatności z tytułu nabycia aktywów finansowych | B55: 0 | C55: 0
A56: Wpływy ze sprzedaży aktywów finansowych | B56: 0 | C56: 0
A57: Otrzymane odsetki od jednostek powiązanych | B57: 0 | C57: 0
A58: Tantiemy i inne dochody z działalności inwestycyjnej | B58: 0 | C58: 0
A59: Dywidenda otrzymana od jednostek stowarzyszonych | B59: 0 | C59: 0
A60: Inne otrzymane dywidendy | B60: 0 | C60: 0
A61: Pożyczki spłacone do jednostek powiązanych | B61: 107000 | C61: 0
A62: Wpływy z pożyczek udzielonych jednostkom powiązanym | B62: 0 | C62: 0
A63: Pożyczki udzielone jednostkom powiązanym | B63: -493000 | C63: -266000
A64: Pożyczki zwrócone przez jednostki powiązane | B64: 0 | C64: 0
A65: Płatności za rzeczowe aktywa trwałe | B65: -357000 | C65: -340000
A66: Wpływy z tytułu zbycia składników rzeczowych aktywów trwałych | B66: 10000 | C66: 11000
... A75: Wpływy netto z tytułu przejęcia jednostki zależnej | B75: 0 | C75: 0
A76: ŚRODKI PIENIĘŻNE NETTO (WYDANE) / WYGENEROWANE W ZWIĄZKU Z DZIAŁALNOŚCIĄ INWESTYCYJNĄ | B76: =SUM(B55:B75) -> -733000 | C76: =SUM(C55:C75) -> -600000
A78: Przepływy pieniężne z działalności finansowej
A79: Wpływy z tytułu emisji własnych akcji | B79: 0 | C79: 0
A80: Wpływy z tytułu emisji obligacji | B80: 0 | C80: 0
A81: Płatności z tytułu kosztów emisji akcji | B81: 0 | C81: 0
A82: Płatności z tytułu odkupu akcji | B82: 0 | C82: 0
A83: Płatności z tytułu kosztów odkupu akcji | B83: 0 | C83: 0
A84: Wpływy z emisji umarzalnych kumulacyjnych akcji preferencyjnych | B84: 0 | C84: 0
A85: Spłata rat kredytowych | B85: -750000 | C85: -750000
A86: Spłata odsetek od kredytu | B86: -66000 | C86: -97000
A87: Płatności z tytułu wykupu obligacji | B87: 0 | C87: 0
A88: Spłata odsetek od obligacji | B88: 0 | C88: 0
A89: Spłata pożyczki od jedn. Powwiązanej | B89: 0 | C89: 0
A90: Spłata odstek od pożyczek otrzymanych od jednostek zaleznych | B90: 0 | C90: 0
... A100: Spłata zadłużenia z tyt. umów leasingu (leasing, odsetki, pozostałe) | B100: -1161000 | C100: -920000
A101: ŚRODKI PIENIĘŻNE NETTO WYKORZYSTANE W DZIAŁALNOŚCI FINANSOWEJ | B101: =SUM(B79:B100) -> -1977000 | C101: =SUM(C79:C100) -> -1767000
A102: Zwiększenie/(zmniejszenie) netto środków pieniężnych i ich ekwiwalentów | B102: 1047000 | C102: =C46+C76+C101 -> 8857000
A103: Środki pieniężne i ich ekwiwalenty na początek okresu sprawozdawczego | B103: 3908000 | C103: 6776000
A104: Wpływ zmian kursów walut na saldo środków pieniężnych w walutach obcych | B104: 0 | C104: 0
A105: Wpływ odsetek z tyt. środków pieniężnych naliczonych do dnia bilansowego | B105: 0 | C105: 0
A106: ŚRODKI PIENIĘŻNE I ICH EKWIWALENTY NA KONIEC OKRESU SPRAWOZDAWCZEGO | B106: =B102+B103 -> 4955000 | C106: =C102+C103 -> 15633000

Sheet J ZZK
A1: JEDNOSTKOWE SPRAWOZDANIE ZE ZMIAN W KAPITALE WŁASNYM ZA OKRES SPRAWOZDAWCZY KOŃCZĄCY SIĘ 31 MARCA 2019 ROKU
B2: tys.PLN
B3: Kapitał podstawowy | C3: Nadwyżka ze sprzedaży akcji | D3: Kapitał rezerwowy ogółem | E3: Kapitał rezerwowy z przeszac. Rzeczowych aktywów trwałych | F3: Kapitał rezerwowy z przeszac. Inwestycji | G3: Kapitał rezerwowy na świadczenia pracownicze rozliczane instrumentami kapitałowymi | H3: Kapitał rezerwowy na zabezpieczenia | I3: Kapitał rezerwowy z przewalutowania | J3: Nadwyżka ze sprzedaży opcji na obligacje zamienne | K3: Zyski zatrzymane | L3: Przypadające akcjonariuszom jednostki dominującej | M3: Przypadające udziałom niedającym kontroli | N3: Razem
A4: Stan na 1 stycznia 2018 roku (z poprzedniego sprawozdania) | B4: 3707000 | C4: 38412000 | D4: 0 | E4: 0 | F4: 0 | G4: 0 | H4: 0 | I4: 0 | J4: 0 | K4: 28826000 | L4: 28826000 | M4: 0 | N4: =SUM(B4:K4) -> 70945000
A5: Przekształcenia | B5: 0 | C5: 0 | D5: 0 | E5: 0 | F5: 0 | G5: 0 | H5: 0 | I5: 0 | J5: 0 | L5: 0 | M5: 0 | N5: 0
A6: Stan na 1 stycznia 2018 roku (po przekształceniach) | B6: =B4 -> 3707000 | C6: =C4 -> 38412000 | D6: 0 | E6: 0 | F6: 0 | G6: 0 | H6: 0 | I6: 0 | J6: 0 | K6: =K4 -> 28826000 | L6: =L4 -> 28826000 | M6: 0 | N6: =N4 -> 70945000
A7: Zysk netto za rok obrotowy | B7: 0 | C7: 0 | D7: 0 | E7: 0 | F7: 0 | G7: 0 | H7: 0 | I7: 0 | J7: 0 | K7: 172000 | L7: 172000 | M7: 0 | N7: =SUM(B7:K7) -> 172000
A8: Pozostałe całkowite dochody za rok obrotowy (netto) | B8: 0 | C8: 0 | D8: 0 | E8: 0 | F8: 0 | G8: 0 | H8: 0 | I8: 0 | J8: 0 | K8: 0 | L8: 0 | M8: 0 | N8: 0
A9: Suma całkowitych dochodów | D9: =D7+D8 -> 0 | E9: =E7+E8 -> 0 | F9: =F7+F8 -> 0 | G9: =G7+G8 -> 0 | H9: =H7+H8 -> 0 | I9: =I7+I8 -> 0 | J9: =J7+J8 -> 0 | K9: =K7+K8 -> 172000 | ... M9: =M7+M8 -> 0 | N9: =SUM(B9:K9) -> 172000
A10: Wykorzystanie rezerwy w ramach planu pracowniczych opcji na akcję | B10: 0 | C10: 0 | D10: 0 | E10: 0 | F10: 0 | G10: 0 | H10: 0 | I10: 0 | J10: 0 | K10: 0 | L10: 0 | M10: 0 | N10: =SUM(B10:K10) -> 0
A11: Ujęcie płatności dokonywanych na bazie akcji | B11: 0 | C11: 0 | D11: 0 | E11: 0 | F11: 0 | G11: 0 | H11: 0 | I11: 0 | J11: 0 | K11: 0 | L11: 0 | M11: 0 | N11: 0
A12: Wypłata dywidendy | B12: 0 | C12: 0 | D12: 0 | E12: 0 | F12: 0 | G12: 0 | H12: 0 | I12: 0 | J12: 0 | K12: 0 | L12: 0 | M12: 0 | N12: =L12 -> 0
A13: =[1]ZZKW_s!A13 -> Stan na 31 marca 2018 roku | B13: =B6 -> 3707000 | C13: =C6 -> 38412000 | D13: =D6+D9 -> 0 | E13: =E6+E9 -> 0 | F13: =F6+F9 -> 0 | G13: =G6+G9 -> 0 | H13: =H6+H9 -> 0 | I13: =I6+I9 -> 0 | J13: =J6+J9 -> 0 | K13: =K9+K6-K12 -> 28998000 | L13: =L9+L6-L12 -> 28998000 | M13: =M6+M9 -> 0 | N13: =SUM(B13:K13) -> 71117000
A14: Zysk netto za rok obrotowy | B14: 0 | C14: 0 | D14: 0 | E14: 0 | F14: 0 | G14: 0 | H14: 0 | J14: 0 | K14: 0 | L14: 0 | M14: 0
A15: Pozostałe całkowite dochody za rok obrotowy (netto) | B15: 0 | C15: 0 | D15: 0 | E15: 0 | F15: 0 | G15: 0 | H15: 0 | I15: 0 | J15: 0 | K15: 0 | L15: 0 | M15: 0 | N15: 0
A16: Suma całkowitych dochodów | B16: =B14+B15 -> 0 | C16: =C14+C15 -> 0 | D16: =D14+D15 -> 0 | E16: =E14+E15 -> 0 | F16: =F14+F15 -> 0 | G16: =G14+G15 -> 0 | H16: =H14+H15 -> 0 | I16: =I14+I15 -> 0 | ... N16: =N14+N15 -> 0
A17: Pozostałe całkowite dochody za rok obrotowy (netto) | B17: 0 | C17: 0 | D17: 0 | E17: 0 | F17: 0 | G17: 0 | H17: 0 | I17: 0 | J17: 0 | K17: 0 | L17: 0 | M17: 0 | N17: 0
A18: Ujęcie płatności dokonywanych na bazie akcji | B18: 0 | C18: 0 | D18: 0 | E18: 0 | F18: 0 | G18: 0 | H18: 0 | I18: 0 | J18: 0 | K18: 0 | L18: 0 | M18: 0 | N18: 0
A19: Emisja akcji zwykłych | B19: 0 | C19: 0 | D19: 0 | E19: 0 | F19: 0 | G19: 0 | H19: 0 | I19: 0 | J19: 0 | K19: 0 | L19: 0 | M19: 0 | N19: 0
A20: Emisja akcji zwykłych w ramach planu pracowniczych opcji na akcje | B20: 0 | C20: 0 | D20: 0 | E20: 0 | F20: 0 | G20: 0 | H20: 0 | I20: =G20-K20 -> 0 | J20: 0 | K20: 0 | L20: 0 | M20: 0 | N20: 0
A21: Emisja akcji zwykłych z tytułu świadczonych usług doradczych | B21: 0 | C21: 0 | D21: 0 | E21: 0 | F21: 0 | G21: 0 | H21: 0 | I21: 0 | J21: 0 | K21: 0 | L21: 0 | M21: 0 | N21: 0
A22: Emisja zamiennych akcji preferencyjnych bez prawa do głosu | B22: 0 | C22: 0 | D22: 0 | E22: 0 | F22: 0 | G22: 0 | H22: 0 | I22: =G22-K22 -> 0 | J22: 0 | K22: 0 | L22: 0 | M22: 0 | N22: 0
A23: Emisja obligacji zamiennych | B23: 0 | C23: 0 | D23: 0 | E23: 0 | F23: 0 | G23: 0 | H23: 0 | I23: =G23-K23 -> 0 | J23: 0 | K23: 0 | L23: 0 | M23: 0 | N23: 0
A24: Koszty emisji akcji | B24: 0 | C24: 0 | D24: 0 | E24: 0 | F24: 0 | G24: 0 | H24: 0 | I24: =G24-K24 -> 0 | J24: 0 | K24: 0 | L24: 0 | M24: 0 | N24: =SUM(B24:K24) -> 0
A25: Odkup akcji zwykłych | B25: 0 | C25: 0 | D25: 0 | E25: 0 | F25: 0 | G25: 0 | H25: 0 | I25: 0 | J25: 0 | K25: 0 | L25: 0 | M25: 0 | N25: 0
A26: Koszty odkupu akcji zwykłych | B26: 0 | C26: 0 | D26: 0 | E26: 0 | F26: 0 | G26: 0 | H26: 0 | I26: =G26-K26 -> 0 | J26: 0 | K26: 0 | L26: 0 | M26: 0 | N26: 0
A27: Emisja akcji powyżej ceny nominalnej | B27: 0 | C27: 0 | D27: 0 | E27: 0 | F27: 0 | G27: 0 | H27: 0 | I27: 0 | J27: 0 | K27: 0 | L27: =K27 -> 0 | N27: =SUM(B27:K27) -> 0
A28: Przeniesienie do zysków zatrzymanych | B28: 0 | C28: 0 | D28: 0 | E28: 0 | F28: 0 | G28: 0 | H28: 0 | I28: 0 | J28: 0 | K28: 0 | L28: 0 | M28: 0 | N28: 0
A29: Z podziału zysku | B29: 0 | C29: 0 | D29: 0 | E29: 0 | F29: 0 | G29: 0 | H29: 0 | I29: 0 | J29: 0 | K29: 0 | L29: 0 | M29: 0 | N29: =L29 -> 0
A30: Przeniesienie na kapitał zapasowy | B30: 0 | C30: 0 | D30: 0 | E30: 0 | F30: 0 | G30: 0 | H30: 0 | I30: 0 | J30: 0 | K30: 0 | L30: 0 | N30: =L30 -> 0
A31: Przeniesienie na rozrachunki z tyt. Dywidendy | B31: 0 | C31: 0 | D31: 0 | E31: 0 | F31: 0 | G31: 0 | H31: 0 | I31: 0 | J31: 0 | K31: 0 | L31: 0 | M31: 0 | N31: =L31 -> 0
A32: Zysk dot. lat poprzednich jako skutek przejścia na MSSF | B32: 0 | C32: 0 | D32: 0 | E32: 0 | F32: 0 | G32: 0 | H32: 0 | I32: 0 | J32: 0 | K32: 0 | L32: 0 | M32: 0 | N32: =L32 -> 0
A33: Przeniesienie na kapitał zapasowy | B33: 0 | C33: 0 | D33: 0 | E33: 0 | F33: 0 | G33: 0 | H33: 0 | I33: 0 | J33: 0 | K33: 0 | L33: 0 | M33: 0 | N33: =L33 -> 0
A34: Podatek dochodowy związany z transakcjami z właścicielami | B34: 0 | C34: 0 | D34: 0 | E34: 0 | F34: 0 | G34: 0 | H34: 0 | I34: 0 | J34: 0 | K34: 0 | L34: 0 | M34: 0 | N34: 0
A35: =A13 -> Stan na 31 marca 2018 roku | B35: =SUM(B13,B19,B16,B17,B18,B55,B21,B22,B23,B24,B25,B26,B28,B34,B20) -> 3707000 | C35: =SUM(C13,C19,C16,C17,C18,C55,C21,C22,C23,C24,C25,C26,C28,C34,C20) -> 38412000 | D35: =SUM(D13,D19,D16,D17,D18,D55,D21,D22,D23,D24,D25,D26,D28,D34,D20) -> 0 | E35: =SUM(E13,E19,E16,E17,E18,E55,E21,E22,E23,E24,E25,E26,E28,E34,E20) -> 0 | F35: =SUM(F13,F19,F16,F17,F18,F55,F21,F22,F23,F24,F25,F26,F28,F34,F20) -> 0 | G35: =SUM(G13,G19,G16,G17,G18,G55,G21,G22,G23,G24,G25,G26,G28,G34,G20) -> 0 | H35: =SUM(H13,H19,H16,H17,H18,H55,H21,H22,H23,H24,H25,H26,H28,H34,H20) -> 0 | I35: =SUM(I13,I19,I16,I17,I18,I55,I21,I22,I23,I24,I25,I26,I28,I34,I20) -> 0 | J35: =SUM(J13,J19,J16,J17,J18,J55,J21,J22,J23,J24,J25,J26,J28,J34,J20) -> 0 | K35: =SUM(K13:K34) -> 28998000 | L35: =SUM(L13:L34) -> 28998000 | M35: =SUM(M13:M34) -> 0 | N35: =SUM(N13:N34) -> 71117000
A37: JEDNOSTKOWE SPRAWOZDANIE ZE ZMIAN W KAPITALE WŁASNYM ZA OKRES SPRAWOZDAWCZY KOŃCZĄCY SIĘ 31 MARCA 2019 ROKU - C.D.
B38: tys.PLN
B39: Kapitał podstawowy | C39: Nadwyżka ze sprzedaży akcji | D39: Kapitał rezerwowy ogółem | E39: Kapitał rezerwowy z przeszac. Rzeczowych aktywów trwałych | F39: Kapitał rezerwowy z przeszac. Inwestycji | G39: Kapitał rezerwowy na świadczenia pracownicze rozliczane instrumentami kapitałowymi | H39: Kapitał rezerwowy na zabezpieczenia | I39: Kapitał rezerwowy z przewalutowania | J39: Nadwyżka ze sprzedaży opcji na obligacje zamienne | K39: Zyski zatrzymane | L39: Przypadające akcjonariuszom jednostki dominującej | M39: Przypadające udziałom niedającym kontroli | N39: Razem
A40: Stan na 1 stycznia 2019 roku (z poprzedniego sprawozdania) | B40: 3707000 | C40: 38412000 | D40: 0 | E40: 0 | F40: 0 | G40: 0 | H40: 0 | I40: 0 | J40: 0 | K40: 31901000 | L40: 31901000 | M40: 0 | N40: =SUM(B40:K40) -> 74020000
A41: Przekształcenia | B41: 0 | C41: 0 | D41: 0 | E41: 0 | F41: 0 | G41: 0 | H41: 0 | I41: 0 | J41: 0 | K41: 0 | L41: 0 | M41: 0 | N41: 0
A42: Stan na 1 stycznia 2019 roku (po przekształceniach) | B42: =B40+B41 -> 3707000 | C42: =C40+C41 -> 38412000 | D42: =D40+D41 -> 0 | E42: =E40+E41 -> 0 | F42: =F40+F41 -> 0 | G42: =G40+G41 -> 0 | H42: =H40+H41 -> 0 | I42: =I40+I41 -> 0 | ... M42: =M40+M41 -> 0 | N42: =SUM(B42:K42) -> 74020000
A43: Zysk netto za rok obrotowy | B43: 0 | C43: 0 | D43: 0 | E43: 0 | F43: 0 | G43: 0 | H43: 0 | I43: 0 | J43: 0 | K43: -1081000 | L43: =K43 -> -1081000 | M43: 0 | N43: =SUM(B43:K43) -> -1081000
A44: Pozostałe całkowite dochody za rok obrotowy (netto) | B44: 0 | C44: 0 | D44: 0 | E44: 0 | F44: 0 | G44: 0 | H44: 0 | I44: 0 | J44: 0 | K44: 0 | L44: 0 | M44: 0 | N44: 0
A45: Suma całkowitych dochodów | B45: =B43+B44 -> 0 | C45: =C43+C44 -> 0 | D45: =D43+D44 -> 0 | E45: =E43+E44 -> 0 | F45: =F43+F44 -> 0 | G45: =G43+G44 -> 0 | H45: =H43+H44 -> 0 | I45: =I43+I44 -> 0 | J45: =J43+J44 -> 0 | K45: =K43 -> -1081000 | L45: =L43 -> -1081000 | M45: =M43+M44 -> 0 | N45: =SUM(B45:K45) -> -1081000
A46: Ujęcie płatności dokonywanych na bazie akcji | B46: 0 | C46: 0 | D46: 0 | E46: 0 | F46: 0 | G46: 0 | H46: 0 | I46: 0 | J46: 0 | K46: 0 | L46: 0 | M46: 0 | N46: 0
A47: Wypłata dywidendy | B47: 0 | C47: 0 | D47: 0 | E47: 0 | F47: 0 | G47: 0 | H47: 0 | I47: 0 | J47: 0 | K47: 0 | L47: 0 | M47: 0 | N47: =L47 -> 0
A48: =[1]ZZKW_s!A50 -> Stan na 31 marca 2019 roku | B48: =B42+B45 -> 3707000 | C48: =C42+C45 -> 38412000 | D48: =D42+D45 -> 0 | E48: =E42+E45 -> 0 | F48: =F42+F45 -> 0 | G48: =G42+G45 -> 0 | H48: =H42+H45 -> 0 | I48: =I42+I45 -> 0 | J48: =J42+J45 -> 0 | K48: =K42+K43+K47 -> 30820000 | L48: =L42+L43+L47 -> 30820000 | M48: =M42+M45 -> 0 | N48: =N42+N43+N47 -> 72939000
A49: Zysk netto za rok obrotowy | B49: 0 | C49: 0 | D49: 0 | E49: 0 | F49: 0 | G49: 0 | H49: 0 | I49: 0 | J49: 0 | K49: 0 | L49: 0 | M49: 0 | N49: 0
A50: Pozostałe całkowite dochody za rok obrotowy (netto) | B50: 0 | C50: 0 | D50: 0 | E50: 0 | F50: 0 | G50: 0 | H50: 0 | I50: 0 | J50: 0 | K50: 0 | L50: 0 | M50: 0 | N50: 0
A51: Suma całkowitych dochodów | B51: =B49+B50 -> 0 | C51: =C49+C50 -> 0 | D51: =D49+D50 -> 0 | E51: =E49+E50 -> 0 | F51: =F49+F50 -> 0 | G51: =G49+G50 -> 0 | H51: =H49+H50 -> 0 | I51: =I49+I50 -> 0 | ... M51: =M49+M50 -> 0
A52: Pozostałe całkowite dochody za rok obrotowy (netto) | B52: 0 | C52: 0 | D52: 0 | E52: 0 | F52: 0 | G52: 0 | H52: 0 | I52: 0 | J52: 0 | K52: 0 | L52: 0 | M52: 0 | N52: 0
A53: Ujęcie płatności dokonywanych na bazie akcji | B53: 0 | C53: 0 | D53: 0 | E53: 0 | F53: 0 | G53: 0 | H53: 0 | I53: 0 | J53: 0 | K53: 0 | L53: 0 | M53: 0 | N53: 0
A54: Emisja akcji zwykłych | B54: 0 | C54: 0 | D54: 0 | E54: 0 | F54: 0 | G54: 0 | H54: 0 | I54: 0 | J54: 0 | K54: 0 | L54: 0 | M54: 0 | N54: =SUM(B54:M54) -> 0
A55: Warranty wydane w ramach planu pracowniczych opcji na akcje | B55: 0 | C55: 0 | D55: 0 | E55: 0 | F55: 0 | G55: 0 | H55: 0 | I55: 0 | J55: 0 | K55: 0 | L55: 0 | M55: - | N55: =L55 -> 0
A56: Emisja akcji zwykłych z tytułu świadczonych usług doradczych | B56: 0 | C56: 0 | D56: 0 | E56: 0 | F56: 0 | G56: 0 | H56: 0 | I56: 0 | J56: 0 | K56: 0 | L56: 0 | M56: 0 | N56: 0
A57: Emisja zamiennych akcji preferencyjnych bez prawa do głosu | B57: 0 | C57: 0 | D57: 0 | E57: 0 | F57: 0 | G57: 0 | H57: 0 | I57: 0 | J57: 0 | K57: 0 | L57: 0 | M57: 0 | N57: 0
A58: Emisja obligacji zamiennych | B58: 0 | C58: 0 | D58: 0 | E58: 0 | F58: 0 | G58: 0 | H58: 0 | I58: 0 | J58: 0 | K58: 0 | L58: 0 | M58: 0 | N58: 0
A59: Koszty emisji akcji | B59: 0 | C59: 0 | D59: 0 | E59: 0 | F59: 0 | G59: 0 | H59: 0 | I59: 0 | J59: 0 | K59: 0 | L59: 0 | M59: 0 | N59: =C59 -> 0
A60: Odkup akcji zwykłych | B60: 0 | C60: 0 | D60: 0 | E60: 0 | F60: 0 | G60: 0 | H60: 0 | I60: 0 | J60: 0 | K60: 0 | L60: 0 | M60: 0 | N60: 0
A61: Koszty odkupu akcji zwykłych | B61: 0 | C61: 0 | D61: 0 | E61: 0 | F61: 0 | G61: 0 | H61: 0 | I61: 0 | J61: 0 | K61: 0 | L61: 0 | M61: 0 | N61: 0
A62: Emisja akcji powyżej ceny nominalnej | B62: 0 | C62: 0 | D62: 0 | E62: 0 | F62: 0 | G62: 0 | H62: 0 | I62: 0 | J62: 0 | K62: 0 | L62: 0 | M62: 0 | N62: =C62 -> 0
A63: Przeniesienie do zysków zatrzymanych | B63: 0 | C63: 0 | D63: 0 | E63: 0 | F63: 0 | G63: 0 | H63: 0 | I63: 0 | J63: 0 | K63: 0 | L63: 0 | M63: 0 | N63: 0
A64: Z podziału zysku | B64: 0 | C64: 0 | D64: 0 | E64: 0 | F64: 0 | G64: 0 | H64: 0 | I64: 0 | J64: 0 | K64: 0 | L64: 0 | M64: 0 | N64: =L64 -> 0
A65: Przeniesienie na kapitał zapasowy | B65: 0 | C65: 0 | D65: 0 | E65: 0 | F65: 0 | G65: 0 | H65: 0 | I65: 0 | J65: 0 | K65: 0 | L65: 0 | M65: 0 | N65: =L65 -> 0
A66: Przeniesienie na rozrachunki z tyt. dywidendy | B66: 0 | C66: 0 | D66: 0 | E66: 0 | F66: 0 | G66: 0 | H66: 0 | I66: 0 | J66: 0 | K66: 0 | L66: 0 | M66: 0 | N66: =L66 -> 0
A67: Zysk dot. lat poprzednich jako skutek przejścia na MSSF | B67: 0 | C67: 0 | D67: 0 | E67: 0 | F67: 0 | G67: 0 | H67: 0 | I67: 0 | J67: 0 | K67: 0 | L67: 0 | M67: 0
A68: Przeniesienie na kapitał zapasowy | B68: 0 | C68: 0 | D68: 0 | E68: 0 | F68: 0 | G68: 0 | H68: 0 | I68: 0 | J68: 0 | K68: 0 | L68: 0 | M68: 0
A69: Podatek dochodowy związany z transakcjami z właścicielami | B69: 0 | C69: 0 | D69: 0 | E69: 0 | F69: 0 | G69: 0 | H69: 0 | I69: 0 | J69: 0 | K69: 0 | L69: 0 | M69: 0 | N69: 0
A70: =A48 -> Stan na 31 marca 2019 roku | B70: =SUM(B48,B51,B52,B53,B55,B56,B57,B58,B59,B60,B61,B63,B69,B54) -> 3707000 | C70: =SUM(C48,C51,C52,C53,C55,C56,C57,C58,C59,C60,C61,C63,C69,C54) -> 38412000 | D70: =SUM(D48,D51,D52,D53,D55,D56,D57,D58,D59,D60,D61,D63,D69,D54) -> 0 | E70: =SUM(E48,E51,E52,E53,E55,E56,E57,E58,E59,E60,E61,E63,E69,E54) -> 0 | F70: =SUM(F48,F51,F52,F53,F55,F56,F57,F58,F59,F60,F61,F63,F69,F54) -> 0 | G70: =SUM(G48,G51,G52,G53,G55,G56,G57,G58,G59,G60,G61,G63,G69,G54) -> 0 | H70: =SUM(H48,H51,H52,H53,H55,H56,H57,H58,H59,H60,H61,H63,H69,H54) -> 0 | I70: =SUM(I48,I51,I52,I53,I55,I56,I57,I58,I59,I60,I61,I63,I69,I54) -> 0 | ... N70: =SUM(N48,N51,N52,N53,N55,N56,N57,N58,N59,N60,N61,N63,N69,N54) -> 72939000
